BEGIN:VCALENDAR
VERSION:2.0
PRODID:-//The Shed Bar &amp; Grille - ECPv6.15.20//NONSGML v1.0//EN
CALSCALE:GREGORIAN
METHOD:PUBLISH
X-ORIGINAL-URL:https://theshedbarandgrille.com
X-WR-CALDESC:Events for The Shed Bar &amp; Grille
REFRESH-INTERVAL;VALUE=DURATION:PT1H
X-Robots-Tag:noindex
X-PUBLISHED-TTL:PT1H
BEGIN:VTIMEZONE
TZID:UTC
BEGIN:STANDARD
TZOFFSETFROM:+0000
TZOFFSETTO:+0000
TZNAME:UTC
DTSTART:20240101T000000
END:STANDARD
END:VTIMEZONE
BEGIN:VEVENT
DTSTART;TZID=UTC:20250601T140000
DTEND;TZID=UTC:20250601T170000
DTSTAMP:20260426T031626
CREATED:20250601T165015Z
LAST-MODIFIED:20250601T165015Z
UID:9340-1748786400-1748797200@theshedbarandgrille.com
SUMMARY:Sunday Funday: Mixed Nutz Variety Band
DESCRIPTION:  \nSunday Funday with Mixed Nutz \n1st Sunday of every month! \nPlaying 2:00PM – 5:00PM
URL:https://theshedbarandgrille.com/event/sunday-funday-mixed-nutz-variety-band-16/
LOCATION:The Shed Bar & Grille\, 11995 S Merrill Rd\, Brant\, MI\, 48614\, United States
CATEGORIES:Band,Music
END:VEVENT
BEGIN:VEVENT
DTSTART;TZID=UTC:20250605T190000
DTEND;TZID=UTC:20250605T190000
DTSTAMP:20260426T031626
CREATED:20250601T164624Z
LAST-MODIFIED:20250601T164624Z
UID:9332-1749150000-1749150000@theshedbarandgrille.com
SUMMARY:Game Night: You Guessed It
DESCRIPTION:Similar to Family Feud\, You Guessed It is at The Shed EVERY OTHER THURSDAY at 7pm!\nFree to play\, prizes for top 3 teams and Thirsty Thursday drink specials!
URL:https://theshedbarandgrille.com/event/game-night-you-guessed-it-73/
LOCATION:The Shed Bar & Grille\, 11995 S Merrill Rd\, Brant\, MI\, 48614\, United States
CATEGORIES:Games
END:VEVENT
BEGIN:VEVENT
DTSTART;TZID=UTC:20250607T203000
DTEND;TZID=UTC:20250607T203000
DTSTAMP:20260426T031626
CREATED:20250601T165257Z
LAST-MODIFIED:20250601T165257Z
UID:9342-1749328200-1749328200@theshedbarandgrille.com
SUMMARY:DJ Music & Karaoke
DESCRIPTION:  \nImpact Sound Entertainment returns with DJ music and karaoke Saturday\, June 7 from 8:30pm – 12:30am!
URL:https://theshedbarandgrille.com/event/dj-music-karaoke-4/
LOCATION:The Shed Bar & Grille\, 11995 S Merrill Rd\, Brant\, MI\, 48614\, United States
CATEGORIES:Music
END:VEVENT
BEGIN:VEVENT
DTSTART;TZID=UTC:20250608T140000
DTEND;TZID=UTC:20250608T170000
DTSTAMP:20260426T031626
CREATED:20250601T165518Z
LAST-MODIFIED:20250601T165518Z
UID:9345-1749391200-1749402000@theshedbarandgrille.com
SUMMARY:The Lawsons Playing The Shed
DESCRIPTION:  \n\nJoin The Lawsons for live music on Sunday\, June 8th from 2:00pm – 5:00pm!
URL:https://theshedbarandgrille.com/event/the-lawsons-playing-the-shed-8/
LOCATION:The Shed Bar & Grille\, 11995 S Merrill Rd\, Brant\, MI\, 48614\, United States
CATEGORIES:Band,Music
END:VEVENT
BEGIN:VEVENT
DTSTART;TZID=UTC:20250612T190000
DTEND;TZID=UTC:20250612T190000
DTSTAMP:20260426T031626
CREATED:20250601T164808Z
LAST-MODIFIED:20250601T164808Z
UID:9336-1749754800-1749754800@theshedbarandgrille.com
SUMMARY:Game Night: Trivia
DESCRIPTION:Come test your knowledge with Trivia Night EVERY OTHER THURSDAY at 7pm!\nFree to play\, prizes for top 3 teams and Thirsty Thursday drink specials!
URL:https://theshedbarandgrille.com/event/game-night-trivia-73/
LOCATION:The Shed Bar & Grille\, 11995 S Merrill Rd\, Brant\, MI\, 48614\, United States
CATEGORIES:Games
END:VEVENT
BEGIN:VEVENT
DTSTART;TZID=UTC:20250619T190000
DTEND;TZID=UTC:20250619T190000
DTSTAMP:20260426T031626
CREATED:20250601T164709Z
LAST-MODIFIED:20250601T164709Z
UID:9334-1750359600-1750359600@theshedbarandgrille.com
SUMMARY:Game Night: You Guessed It
DESCRIPTION:Similar to Family Feud\, You Guessed It is at The Shed EVERY OTHER THURSDAY at 7pm!\nFree to play\, prizes for top 3 teams and Thirsty Thursday drink specials!
URL:https://theshedbarandgrille.com/event/game-night-you-guessed-it-74/
LOCATION:The Shed Bar & Grille\, 11995 S Merrill Rd\, Brant\, MI\, 48614\, United States
CATEGORIES:Games
END:VEVENT
BEGIN:VEVENT
DTSTART;TZID=UTC:20250626T190000
DTEND;TZID=UTC:20250626T190000
DTSTAMP:20260426T031626
CREATED:20250601T164856Z
LAST-MODIFIED:20250601T164856Z
UID:9338-1750964400-1750964400@theshedbarandgrille.com
SUMMARY:Game Night: Trivia
DESCRIPTION:Come test your knowledge with Trivia Night EVERY OTHER THURSDAY at 7pm!\nFree to play\, prizes for top 3 teams and Thirsty Thursday drink specials!
URL:https://theshedbarandgrille.com/event/game-night-trivia-74/
LOCATION:The Shed Bar & Grille\, 11995 S Merrill Rd\, Brant\, MI\, 48614\, United States
CATEGORIES:Games
END:VEVENT
END:VCALENDAR