BEGIN:VCALENDAR
VERSION:2.0
PRODID:-//The Shed Bar &amp; Grille - ECPv6.15.20//NONSGML v1.0//EN
CALSCALE:GREGORIAN
METHOD:PUBLISH
X-WR-CALNAME:The Shed Bar &amp; Grille
X-ORIGINAL-URL:https://theshedbarandgrille.com
X-WR-CALDESC:Events for The Shed Bar &amp; Grille
REFRESH-INTERVAL;VALUE=DURATION:PT1H
X-Robots-Tag:noindex
X-PUBLISHED-TTL:PT1H
BEGIN:VTIMEZONE
TZID:UTC
BEGIN:STANDARD
TZOFFSETFROM:+0000
TZOFFSETTO:+0000
TZNAME:UTC
DTSTART:20240101T000000
END:STANDARD
END:VTIMEZONE
BEGIN:VEVENT
DTSTART;TZID=UTC:20251108T203000
DTEND;TZID=UTC:20251108T203000
DTSTAMP:20260425T160844
CREATED:20251026T144620Z
LAST-MODIFIED:20251026T144620Z
UID:10045-1762633800-1762633800@theshedbarandgrille.com
SUMMARY:TnB Duo
DESCRIPTION:  \nTnB – Travis ‘N’ Barry are playing country and rock hits at The Shed Bar & Grille on Saturday\, November 8th at 8:30pm!
URL:https://theshedbarandgrille.com/event/tnb-duo/
LOCATION:The Shed Bar & Grille\, 11995 S Merrill Rd\, Brant\, MI\, 48614\, United States
CATEGORIES:Band,Music
END:VEVENT
BEGIN:VEVENT
DTSTART;TZID=UTC:20251106T190000
DTEND;TZID=UTC:20251106T190000
DTSTAMP:20260425T160844
CREATED:20251026T143504Z
LAST-MODIFIED:20251026T143504Z
UID:10033-1762455600-1762455600@theshedbarandgrille.com
SUMMARY:Game Night: Trivia
DESCRIPTION:Come test your knowledge with Trivia Night EVERY OTHER THURSDAY at 7pm!\nFree to play\, prizes for top 3 teams and Thirsty Thursday drink specials!
URL:https://theshedbarandgrille.com/event/game-night-trivia-79/
LOCATION:The Shed Bar & Grille\, 11995 S Merrill Rd\, Brant\, MI\, 48614\, United States
CATEGORIES:Games
END:VEVENT
BEGIN:VEVENT
DTSTART;TZID=UTC:20251102T140000
DTEND;TZID=UTC:20251102T170000
DTSTAMP:20260425T160844
CREATED:20251026T142910Z
LAST-MODIFIED:20251026T142910Z
UID:10029-1762092000-1762102800@theshedbarandgrille.com
SUMMARY:Sunday Funday: Mixed Nutz Variety Band
DESCRIPTION:  \nSunday Funday with Mixed Nutz \n1st Sunday of every month! \nPlaying 2:00PM – 5:00PM
URL:https://theshedbarandgrille.com/event/sunday-funday-mixed-nutz-variety-band-20/
LOCATION:The Shed Bar & Grille\, 11995 S Merrill Rd\, Brant\, MI\, 48614\, United States
CATEGORIES:Band,Music
END:VEVENT
BEGIN:VEVENT
DTSTART;TZID=UTC:20251101T203000
DTEND;TZID=UTC:20251101T203000
DTSTAMP:20260425T160844
CREATED:20250926T184254Z
LAST-MODIFIED:20250926T184254Z
UID:9891-1762029000-1762029000@theshedbarandgrille.com
SUMMARY:Halloween Party
DESCRIPTION:  \nJoin us for a wicked good time! Wear your best costume out to The Shed Bar & Grille on Saturday\, November 1st to celebrate Halloween  \n DJ music and karaoke with Impact Sound Entertainment from 8:30 p.m. – 12:30 a.m. \n Food + drink specials will be available  \n*Original Music\n*Must be 21+ after 9:00 p.m to enter.
URL:https://theshedbarandgrille.com/event/halloween-party-4/
LOCATION:The Shed Bar & Grille\, 11995 S Merrill Rd\, Brant\, MI\, 48614\, United States
CATEGORIES:Holiday,Party
END:VEVENT
BEGIN:VEVENT
DTSTART;TZID=UTC:20251030T190000
DTEND;TZID=UTC:20251030T190000
DTSTAMP:20260425T160844
CREATED:20250926T175211Z
LAST-MODIFIED:20250926T175211Z
UID:9868-1761850800-1761850800@theshedbarandgrille.com
SUMMARY:Game Night: You Guessed It
DESCRIPTION:Similar to Family Feud\, You Guessed It is at The Shed EVERY THURSDAY at 7pm!\nFree to play\, prizes for top 3 teams and Thirsty Thursday drink specials!
URL:https://theshedbarandgrille.com/event/game-night-you-guessed-it-84/
LOCATION:The Shed Bar & Grille\, 11995 S Merrill Rd\, Brant\, MI\, 48614\, United States
CATEGORIES:Games
END:VEVENT
BEGIN:VEVENT
DTSTART;TZID=UTC:20251026T140000
DTEND;TZID=UTC:20251026T170000
DTSTAMP:20260425T160844
CREATED:20250926T183230Z
LAST-MODIFIED:20250926T183230Z
UID:9888-1761487200-1761498000@theshedbarandgrille.com
SUMMARY:The Lawsons Play The Shed
DESCRIPTION:  \nThe Lawsons are playing The Shed on Sunday\, October 26th from 2pm – 5pm!
URL:https://theshedbarandgrille.com/event/the-lawsons-play-the-shed/
LOCATION:The Shed Bar & Grille\, 11995 S Merrill Rd\, Brant\, MI\, 48614\, United States
CATEGORIES:Band,Music
END:VEVENT
BEGIN:VEVENT
DTSTART;TZID=UTC:20251025T203000
DTEND;TZID=UTC:20251025T203000
DTSTAMP:20260425T160844
CREATED:20250926T182305Z
LAST-MODIFIED:20250926T182305Z
UID:9885-1761424200-1761424200@theshedbarandgrille.com
SUMMARY:Rock Solid Evolution
DESCRIPTION:  \nRock Solid Evolution is playing your favorite classic rock hits at The Shed on Saturday\, October 25th at 8:30pm – 12:30am!
URL:https://theshedbarandgrille.com/event/rock-solid-evolution-6/
LOCATION:The Shed Bar & Grille\, 11995 S Merrill Rd\, Brant\, MI\, 48614\, United States
CATEGORIES:Band,Music
END:VEVENT
BEGIN:VEVENT
DTSTART;TZID=UTC:20251023T190000
DTEND;TZID=UTC:20251023T190000
DTSTAMP:20260425T160844
CREATED:20250926T175433Z
LAST-MODIFIED:20250926T175433Z
UID:9872-1761246000-1761246000@theshedbarandgrille.com
SUMMARY:Game Night: Trivia
DESCRIPTION:Come test your knowledge with Trivia Night EVERY OTHER THURSDAY at 7pm!\nFree to play\, prizes for top 3 teams and Thirsty Thursday drink specials!
URL:https://theshedbarandgrille.com/event/game-night-trivia-78/
LOCATION:The Shed Bar & Grille\, 11995 S Merrill Rd\, Brant\, MI\, 48614\, United States
CATEGORIES:Games
END:VEVENT
BEGIN:VEVENT
DTSTART;TZID=UTC:20251019T140000
DTEND;TZID=UTC:20251019T170000
DTSTAMP:20260425T160844
CREATED:20250926T181554Z
LAST-MODIFIED:20250926T181554Z
UID:9881-1760882400-1760893200@theshedbarandgrille.com
SUMMARY:Another Shot & Les-Egos Band
DESCRIPTION:  \nJoin Another Shot & Les-Egos Band for live music at The Shed on Sunday\, October 19th at 2pm!
URL:https://theshedbarandgrille.com/event/another-shot-les-egos-band-4/
LOCATION:The Shed Bar & Grille\, 11995 S Merrill Rd\, Brant\, MI\, 48614\, United States
CATEGORIES:Band,Music
END:VEVENT
BEGIN:VEVENT
DTSTART;TZID=UTC:20251018T203000
DTEND;TZID=UTC:20251018T203000
DTSTAMP:20260425T160844
CREATED:20250926T180731Z
LAST-MODIFIED:20250926T180731Z
UID:9877-1760819400-1760819400@theshedbarandgrille.com
SUMMARY:REZILIANCE Rocks The Shed!
DESCRIPTION:  \nJoin REZILIANCE for a night of rock ‘n’ roll at The Shed from 8:30PM to 1230AM!
URL:https://theshedbarandgrille.com/event/reziliance-rocks-the-shed/
LOCATION:The Shed Bar & Grille\, 11995 S Merrill Rd\, Brant\, MI\, 48614\, United States
CATEGORIES:Band,Music
END:VEVENT
BEGIN:VEVENT
DTSTART;TZID=UTC:20251016T190000
DTEND;TZID=UTC:20251016T190000
DTSTAMP:20260425T160844
CREATED:20250926T175121Z
LAST-MODIFIED:20250926T175121Z
UID:9866-1760641200-1760641200@theshedbarandgrille.com
SUMMARY:Game Night: You Guessed It
DESCRIPTION:Similar to Family Feud\, You Guessed It is at The Shed EVERY THURSDAY at 7pm!\nFree to play\, prizes for top 3 teams and Thirsty Thursday drink specials!
URL:https://theshedbarandgrille.com/event/game-night-you-guessed-it-83/
LOCATION:The Shed Bar & Grille\, 11995 S Merrill Rd\, Brant\, MI\, 48614\, United States
CATEGORIES:Games
END:VEVENT
BEGIN:VEVENT
DTSTART;TZID=UTC:20251012T140000
DTEND;TZID=UTC:20251012T170000
DTSTAMP:20260425T160844
CREATED:20250926T175910Z
LAST-MODIFIED:20250926T175910Z
UID:9874-1760277600-1760288400@theshedbarandgrille.com
SUMMARY:Live Music with Scott Nelson
DESCRIPTION:  \nJoin Scott Nelson for live music at The Shed on Sunday\, October 12th at 2pm – 5pm!
URL:https://theshedbarandgrille.com/event/live-music-with-scott-nelson-2/
LOCATION:The Shed Bar & Grille\, 11995 S Merrill Rd\, Brant\, MI\, 48614\, United States
CATEGORIES:Band,Music
END:VEVENT
BEGIN:VEVENT
DTSTART;TZID=UTC:20251011T203000
DTEND;TZID=UTC:20251011T203000
DTSTAMP:20260425T160844
CREATED:20250828T132227Z
LAST-MODIFIED:20250828T132227Z
UID:9737-1760214600-1760214600@theshedbarandgrille.com
SUMMARY:TnB – Travis ‘N’ Barry Play The Shed
DESCRIPTION:  \nTnB – Travis ‘N’ Barry are playing country and rock hits at The Shed Bar & Grille on Saturday\, October 11th from 8:30pm – 12:30am!
URL:https://theshedbarandgrille.com/event/tnb-travis-n-barry-play-the-shed-2/
LOCATION:The Shed Bar & Grille\, 11995 S Merrill Rd\, Brant\, MI\, 48614\, United States
CATEGORIES:Band,Music
END:VEVENT
BEGIN:VEVENT
DTSTART;TZID=UTC:20251011T110000
DTEND;TZID=UTC:20251011T110000
DTSTAMP:20260425T160844
CREATED:20250828T140159Z
LAST-MODIFIED:20250906T004508Z
UID:9770-1760180400-1760180400@theshedbarandgrille.com
SUMMARY:Fall Color Run
DESCRIPTION:Fall Color RunThe Shed Bar & GrilleSaturday\, October 11 at 11:00am\n\n\nParticipating Bars:• Begin at The Shed Bar & Grille• Happy Hour Bar• The Tipsy Cow• Little Bar• The Prairie• The Brant Bar• End at The Shed Bar & Grille\n\n\nRegistration and waivers start at 11:00am. We will take off at 11:30am.
URL:https://theshedbarandgrille.com/event/fall-color-run-6/
LOCATION:The Shed Bar & Grille\, 11995 S Merrill Rd\, Brant\, MI\, 48614\, United States
CATEGORIES:Drink,Sports
END:VEVENT
BEGIN:VEVENT
DTSTART;TZID=UTC:20251009T190000
DTEND;TZID=UTC:20251009T190000
DTSTAMP:20260425T160844
CREATED:20250926T175340Z
LAST-MODIFIED:20250926T175340Z
UID:9870-1760036400-1760036400@theshedbarandgrille.com
SUMMARY:Game Night: Trivia
DESCRIPTION:Come test your knowledge with Trivia Night EVERY OTHER THURSDAY at 7pm!\nFree to play\, prizes for top 3 teams and Thirsty Thursday drink specials!
URL:https://theshedbarandgrille.com/event/game-night-trivia-77/
LOCATION:The Shed Bar & Grille\, 11995 S Merrill Rd\, Brant\, MI\, 48614\, United States
CATEGORIES:Games
END:VEVENT
BEGIN:VEVENT
DTSTART;TZID=UTC:20251005T140000
DTEND;TZID=UTC:20251005T170000
DTSTAMP:20260425T160844
CREATED:20250828T135411Z
LAST-MODIFIED:20250828T135411Z
UID:9768-1759672800-1759683600@theshedbarandgrille.com
SUMMARY:Sunday Funday: Mixed Nutz Variety Band
DESCRIPTION:  \nSunday Funday with Mixed Nutz \n1st Sunday of every month! \nPlaying 2:00PM – 5:00PM
URL:https://theshedbarandgrille.com/event/sunday-funday-mixed-nutz-variety-band-19/
LOCATION:The Shed Bar & Grille\, 11995 S Merrill Rd\, Brant\, MI\, 48614\, United States
CATEGORIES:Band,Music
END:VEVENT
BEGIN:VEVENT
DTSTART;TZID=UTC:20251004T203000
DTEND;TZID=UTC:20251004T203000
DTSTAMP:20260425T160844
CREATED:20250828T135256Z
LAST-MODIFIED:20250828T135256Z
UID:9765-1759609800-1759609800@theshedbarandgrille.com
SUMMARY:The Dirty Laundry Band
DESCRIPTION:  \nThe Dirty Laundry Band is playing country rock with a little bit of everything in between on Saturday\, October 4th from 8:30pm – 12:30am!
URL:https://theshedbarandgrille.com/event/the-dirty-laundry-band-3/
LOCATION:The Shed Bar & Grille\, 11995 S Merrill Rd\, Brant\, MI\, 48614\, United States
CATEGORIES:Band,Music
END:VEVENT
BEGIN:VEVENT
DTSTART;TZID=UTC:20251002T190000
DTEND;TZID=UTC:20251002T190000
DTSTAMP:20260425T160844
CREATED:20250926T175018Z
LAST-MODIFIED:20250926T175018Z
UID:9864-1759431600-1759431600@theshedbarandgrille.com
SUMMARY:Game Night: You Guessed It
DESCRIPTION:Similar to Family Feud\, You Guessed It is at The Shed EVERY THURSDAY at 7pm!\nFree to play\, prizes for top 3 teams and Thirsty Thursday drink specials!
URL:https://theshedbarandgrille.com/event/game-night-you-guessed-it-82/
LOCATION:The Shed Bar & Grille\, 11995 S Merrill Rd\, Brant\, MI\, 48614\, United States
CATEGORIES:Games
END:VEVENT
BEGIN:VEVENT
DTSTART;TZID=UTC:20250928T140000
DTEND;TZID=UTC:20250928T170000
DTSTAMP:20260425T160844
CREATED:20250828T135016Z
LAST-MODIFIED:20250828T135016Z
UID:9762-1759068000-1759078800@theshedbarandgrille.com
SUMMARY:Barry Forster of Tweed & Dixie
DESCRIPTION:  \nBarry Forster of Tweed & Dixie will be playing at The Shed Bar & Grille from 2pm – 5pm on Sunday\, September 28th!
URL:https://theshedbarandgrille.com/event/barry-forster-of-tweed-dixie-13/
LOCATION:The Shed Bar & Grille\, 11995 S Merrill Rd\, Brant\, MI\, 48614\, United States
CATEGORIES:Band,Music
END:VEVENT
BEGIN:VEVENT
DTSTART;TZID=UTC:20250927T203000
DTEND;TZID=UTC:20250927T203000
DTSTAMP:20260425T160844
CREATED:20250828T134657Z
LAST-MODIFIED:20250828T134657Z
UID:9759-1759005000-1759005000@theshedbarandgrille.com
SUMMARY:The Lawsons
DESCRIPTION:  \n\nJoin The Lawsons for live music on Saturday\, September 27th from 8:30pm – 12:30am!
URL:https://theshedbarandgrille.com/event/the-lawsons/
LOCATION:The Shed Bar & Grille\, 11995 S Merrill Rd\, Brant\, MI\, 48614\, United States
CATEGORIES:Band,Music
END:VEVENT
BEGIN:VEVENT
DTSTART;TZID=UTC:20250921T140000
DTEND;TZID=UTC:20250921T170000
DTSTAMP:20260425T160844
CREATED:20250828T134425Z
LAST-MODIFIED:20250828T134425Z
UID:9754-1758463200-1758474000@theshedbarandgrille.com
SUMMARY:Live Music with Barry Clevenger
DESCRIPTION:  \nBarry Clevenger will be playing Sunday Funday on September 21st from 2pm – 5pm!
URL:https://theshedbarandgrille.com/event/live-music-with-barry-clevenger/
LOCATION:The Shed Bar & Grille\, 11995 S Merrill Rd\, Brant\, MI\, 48614\, United States
CATEGORIES:Band,Music
END:VEVENT
BEGIN:VEVENT
DTSTART;TZID=UTC:20250920T203000
DTEND;TZID=UTC:20250920T203000
DTSTAMP:20260425T160844
CREATED:20250828T134029Z
LAST-MODIFIED:20250828T134029Z
UID:9751-1758400200-1758400200@theshedbarandgrille.com
SUMMARY:The Loaner Project
DESCRIPTION:  \nThe Loaner Project is playing your favorite energetic tunes from the 90s and a few country tunes sprinkled in on Saturday\, September 20th from 8:30pm – 12:30am!
URL:https://theshedbarandgrille.com/event/the-loaner-project-5/
LOCATION:The Shed Bar & Grille\, 11995 S Merrill Rd\, Brant\, MI\, 48614\, United States
CATEGORIES:Band,Music
END:VEVENT
BEGIN:VEVENT
DTSTART;TZID=UTC:20250914T140000
DTEND;TZID=UTC:20250914T170000
DTSTAMP:20260425T160844
CREATED:20250828T133709Z
LAST-MODIFIED:20250828T133709Z
UID:9746-1757858400-1757869200@theshedbarandgrille.com
SUMMARY:Another Shot & Les-Egos Band
DESCRIPTION:  \nJoin Another Shot & Les-Egos Band for live music at The Shed on Sunday\, September 14th at 2pm!
URL:https://theshedbarandgrille.com/event/another-shot-les-egos-band-3/
LOCATION:The Shed Bar & Grille\, 11995 S Merrill Rd\, Brant\, MI\, 48614\, United States
CATEGORIES:Band,Music
END:VEVENT
BEGIN:VEVENT
DTSTART;TZID=UTC:20250914T080000
DTEND;TZID=UTC:20250914T210000
DTSTAMP:20260425T160844
CREATED:20250906T020548Z
LAST-MODIFIED:20250906T020548Z
UID:9802-1757836800-1757883600@theshedbarandgrille.com
SUMMARY:Youth Hunt
DESCRIPTION:  \nYouth Hunt Weekend\nSaturday\, September 13th\nSunday\, September 14th \nAll you can eat breakfast buffet available both days:\n8AM – 11AM SATURDAY\n8AM – 12PM SUNDAY \nEvery youth hunter who brings in their legally tagged deer will receive a free meal and will be entered to win one of our grand prizes: \nEvery youth hunter who brings in their legally tagged deer will receive a free meal and be entered to win one of our great prizes: \n• Biggest buck wins a Savage 400 Legend courtesy of Thurston Outdoors & The Shed Buck Pole \n• $250 unique buck contest prize courtesy of Walkers Wildlife Control \n• $100 Thurston Outdoors gift card courtesy of Wicke Crop Insurance \n• Gift certificates from local businesses \n• Other various prizes!
URL:https://theshedbarandgrille.com/event/youth-hunt-3/
LOCATION:The Shed Bar & Grille\, 11995 S Merrill Rd\, Brant\, MI\, 48614\, United States
CATEGORIES:Hunting
END:VEVENT
BEGIN:VEVENT
DTSTART;TZID=UTC:20250913T203000
DTEND;TZID=UTC:20250913T203000
DTSTAMP:20260425T160844
CREATED:20250828T132945Z
LAST-MODIFIED:20250828T132945Z
UID:9743-1757795400-1757795400@theshedbarandgrille.com
SUMMARY:Rebel Line Playing The Shed
DESCRIPTION:  \nRebel Line returns to The Shed on Saturday\, September 13th to play past and modern country music with a mix of rock from 8:30pm – 12:30am!
URL:https://theshedbarandgrille.com/event/rebel-line-playing-the-shed-6/
LOCATION:The Shed Bar & Grille\, 11995 S Merrill Rd\, Brant\, MI\, 48614\, United States
CATEGORIES:Band,Music
END:VEVENT
BEGIN:VEVENT
DTSTART;TZID=UTC:20250913T080000
DTEND;TZID=UTC:20250913T210000
DTSTAMP:20260425T160844
CREATED:20250906T020444Z
LAST-MODIFIED:20250906T020444Z
UID:9799-1757750400-1757797200@theshedbarandgrille.com
SUMMARY:Youth Hunt
DESCRIPTION:  \nYouth Hunt Weekend\nSaturday\, September 13th\nSunday\, September 14th \nAll you can eat breakfast buffet available both days:\n8AM – 11AM SATURDAY\n8AM – 12PM SUNDAY \nEvery youth hunter who brings in their legally tagged deer will receive a free meal and will be entered to win one of our grand prizes: \nEvery youth hunter who brings in their legally tagged deer will receive a free meal and be entered to win one of our great prizes: \n• Biggest buck wins a Savage 400 Legend courtesy of Thurston Outdoors & The Shed Buck Pole \n• $250 unique buck contest prize courtesy of Walkers Wildlife Control \n• $100 Thurston Outdoors gift card courtesy of Wicke Crop Insurance \n• Gift certificates from local businesses \n• Other various prizes!
URL:https://theshedbarandgrille.com/event/youth-hunt-2/
LOCATION:The Shed Bar & Grille\, 11995 S Merrill Rd\, Brant\, MI\, 48614\, United States
CATEGORIES:Hunting
END:VEVENT
BEGIN:VEVENT
DTSTART;TZID=UTC:20250907T140000
DTEND;TZID=UTC:20250907T170000
DTSTAMP:20260425T160844
CREATED:20250828T132539Z
LAST-MODIFIED:20250828T132539Z
UID:9740-1757253600-1757264400@theshedbarandgrille.com
SUMMARY:Sunday Funday: Mixed Nutz Variety Band
DESCRIPTION:  \nSunday Funday with Mixed Nutz \n1st Sunday of every month! \nPlaying 2:00PM – 5:00PM
URL:https://theshedbarandgrille.com/event/sunday-funday-mixed-nutz-variety-band-18/
LOCATION:The Shed Bar & Grille\, 11995 S Merrill Rd\, Brant\, MI\, 48614\, United States
CATEGORIES:Band,Music
END:VEVENT
BEGIN:VEVENT
DTSTART;TZID=UTC:20250906T203000
DTEND;TZID=UTC:20250906T203000
DTSTAMP:20260425T160844
CREATED:20250828T123951Z
LAST-MODIFIED:20250828T124146Z
UID:9733-1757190600-1757190600@theshedbarandgrille.com
SUMMARY:TnB – Travis ‘N’ Barry Play The Shed
DESCRIPTION:  \nTnB – Travis ‘N’ Barry are playing country and rock hits at The Shed Bar & Grille on Saturday\, September 6th from 8:30pm – 12:30am!
URL:https://theshedbarandgrille.com/event/9733/
LOCATION:The Shed Bar & Grille\, 11995 S Merrill Rd\, Brant\, MI\, 48614\, United States
CATEGORIES:Band,Music
END:VEVENT
BEGIN:VEVENT
DTSTART;TZID=UTC:20250831T140000
DTEND;TZID=UTC:20250831T170000
DTSTAMP:20260425T160844
CREATED:20250828T123531Z
LAST-MODIFIED:20250828T123531Z
UID:9730-1756648800-1756659600@theshedbarandgrille.com
SUMMARY:Live Music with Scott Nelson
DESCRIPTION:  \nJoin Scott Nelson for Sunday Funday on August 31st from 2-5PM!
URL:https://theshedbarandgrille.com/event/live-music-with-scott-nelson/
LOCATION:The Shed Bar & Grille\, 11995 S Merrill Rd\, Brant\, MI\, 48614\, United States
CATEGORIES:Band,Music
END:VEVENT
BEGIN:VEVENT
DTSTART;TZID=UTC:20250830T203000
DTEND;TZID=UTC:20250830T203000
DTSTAMP:20260425T160844
CREATED:20250726T011623Z
LAST-MODIFIED:20250726T011623Z
UID:9571-1756585800-1756585800@theshedbarandgrille.com
SUMMARY:John Howard of Rebel Line
DESCRIPTION:  \nJohn Howard of Rebel Line is playing 80’s and 90’s Country on Saturday\, August 30th at 8:30pm!
URL:https://theshedbarandgrille.com/event/john-howard-of-rebel-line-6/
LOCATION:The Shed Bar & Grille\, 11995 S Merrill Rd\, Brant\, MI\, 48614\, United States
CATEGORIES:Band,Music
END:VEVENT
END:VCALENDAR