BEGIN:VCALENDAR
VERSION:2.0
PRODID:-//The Shed Bar &amp; Grille - ECPv6.15.20//NONSGML v1.0//EN
CALSCALE:GREGORIAN
METHOD:PUBLISH
X-WR-CALNAME:The Shed Bar &amp; Grille
X-ORIGINAL-URL:https://theshedbarandgrille.com
X-WR-CALDESC:Events for The Shed Bar &amp; Grille
REFRESH-INTERVAL;VALUE=DURATION:PT1H
X-Robots-Tag:noindex
X-PUBLISHED-TTL:PT1H
BEGIN:VTIMEZONE
TZID:UTC
BEGIN:STANDARD
TZOFFSETFROM:+0000
TZOFFSETTO:+0000
TZNAME:UTC
DTSTART:20240101T000000
END:STANDARD
END:VTIMEZONE
BEGIN:VEVENT
DTSTART;TZID=UTC:20260307T203000
DTEND;TZID=UTC:20260307T203000
DTSTAMP:20260425T114757
CREATED:20260201T180212Z
LAST-MODIFIED:20260201T180212Z
UID:10632-1772915400-1772915400@theshedbarandgrille.com
SUMMARY:Almost Famous Duo
DESCRIPTION:  \nEnjoy an evening of live acoustic music by Jay & Amy 8:30pm – 12:30am!
URL:https://theshedbarandgrille.com/event/almost-famous-duo-12/
LOCATION:The Shed Bar & Grille\, 11995 S Merrill Rd\, Brant\, MI\, 48614\, United States
CATEGORIES:Band,Music
END:VEVENT
BEGIN:VEVENT
DTSTART;TZID=UTC:20260305T190000
DTEND;TZID=UTC:20260305T190000
DTSTAMP:20260425T114757
CREATED:20260125T210619Z
LAST-MODIFIED:20260125T210619Z
UID:10589-1772737200-1772737200@theshedbarandgrille.com
SUMMARY:Game Night: You Guessed It
DESCRIPTION:Similar to Family Feud\, You Guessed It is at The Shed EVERY THURSDAY at 7pm!\nFree to play\, prizes for top 3 teams and Thirsty Thursday drink specials!
URL:https://theshedbarandgrille.com/event/game-night-you-guessed-it-91/
LOCATION:The Shed Bar & Grille\, 11995 S Merrill Rd\, Brant\, MI\, 48614\, United States
CATEGORIES:Games
END:VEVENT
BEGIN:VEVENT
DTSTART;TZID=UTC:20260301T140000
DTEND;TZID=UTC:20260301T170000
DTSTAMP:20260425T114757
CREATED:20260201T175923Z
LAST-MODIFIED:20260201T175923Z
UID:10630-1772373600-1772384400@theshedbarandgrille.com
SUMMARY:Sunday Funday: Mixed Nutz
DESCRIPTION:  \nSunday Funday with Mixed Nutz1st Sunday of every month!2:00pm – 5:00pm
URL:https://theshedbarandgrille.com/event/sunday-funday-mixed-nutz-2/
LOCATION:The Shed Bar & Grille\, 11995 S Merrill Rd\, Brant\, MI\, 48614\, United States
CATEGORIES:Band,Music
END:VEVENT
BEGIN:VEVENT
DTSTART;TZID=UTC:20260228T203000
DTEND;TZID=UTC:20260228T203000
DTSTAMP:20260425T114757
CREATED:20260201T175729Z
LAST-MODIFIED:20260201T175729Z
UID:10625-1772310600-1772310600@theshedbarandgrille.com
SUMMARY:Timeless Returns To The Shed!
DESCRIPTION:  \nDon’t miss Timeless return to The Shed on Saturday\, February 28th at 8:30pm!
URL:https://theshedbarandgrille.com/event/timeless-returns-to-the-shed/
LOCATION:The Shed Bar & Grille\, 11995 S Merrill Rd\, Brant\, MI\, 48614\, United States
CATEGORIES:Band,Music
END:VEVENT
BEGIN:VEVENT
DTSTART;TZID=UTC:20260226T190000
DTEND;TZID=UTC:20260226T190000
DTSTAMP:20260425T114757
CREATED:20260125T211315Z
LAST-MODIFIED:20260125T211315Z
UID:10595-1772132400-1772132400@theshedbarandgrille.com
SUMMARY:Game Night: Trivia
DESCRIPTION:Come test your knowledge with Trivia Night EVERY OTHER THURSDAY at 7pm!\nFree to play\, prizes for top 3 teams and Thirsty Thursday drink specials!
URL:https://theshedbarandgrille.com/event/game-night-trivia-86/
LOCATION:The Shed Bar & Grille\, 11995 S Merrill Rd\, Brant\, MI\, 48614\, United States
CATEGORIES:Games
END:VEVENT
BEGIN:VEVENT
DTSTART;TZID=UTC:20260222T140000
DTEND;TZID=UTC:20260222T170000
DTSTAMP:20260425T114757
CREATED:20260201T180740Z
LAST-MODIFIED:20260201T180740Z
UID:10634-1771768800-1771779600@theshedbarandgrille.com
SUMMARY:Country Music with Tyler Payne
DESCRIPTION:  \nJoin Tyler Payne for an afternoon of good country music at The Shed on Sunday\, February 22nd!
URL:https://theshedbarandgrille.com/event/country-music-with-tyler-payne/
LOCATION:The Shed Bar & Grille\, 11995 S Merrill Rd\, Brant\, MI\, 48614\, United States
CATEGORIES:Band,Music
END:VEVENT
BEGIN:VEVENT
DTSTART;TZID=UTC:20260221T203000
DTEND;TZID=UTC:20260221T203000
DTSTAMP:20260425T114757
CREATED:20260217T025331Z
LAST-MODIFIED:20260217T025331Z
UID:10708-1771705800-1771705800@theshedbarandgrille.com
SUMMARY:The Covers Playing at The Shed
DESCRIPTION:  \nAcoustic music with The Covers on Saturday\, February 21st at 8:30pm!
URL:https://theshedbarandgrille.com/event/the-covers-playing-at-the-shed/
LOCATION:The Shed Bar & Grille\, 11995 S Merrill Rd\, Brant\, MI\, 48614\, United States
CATEGORIES:Band,Music
END:VEVENT
BEGIN:VEVENT
DTSTART;TZID=UTC:20260219T190000
DTEND;TZID=UTC:20260219T190000
DTSTAMP:20260425T114757
CREATED:20260125T210532Z
LAST-MODIFIED:20260125T210532Z
UID:10587-1771527600-1771527600@theshedbarandgrille.com
SUMMARY:Game Night: You Guessed It
DESCRIPTION:Similar to Family Feud\, You Guessed It is at The Shed EVERY THURSDAY at 7pm!\nFree to play\, prizes for top 3 teams and Thirsty Thursday drink specials!
URL:https://theshedbarandgrille.com/event/game-night-you-guessed-it-90/
LOCATION:The Shed Bar & Grille\, 11995 S Merrill Rd\, Brant\, MI\, 48614\, United States
CATEGORIES:Games
END:VEVENT
BEGIN:VEVENT
DTSTART;TZID=UTC:20260215T140000
DTEND;TZID=UTC:20260215T170000
DTSTAMP:20260425T114757
CREATED:20260201T181455Z
LAST-MODIFIED:20260201T181455Z
UID:10637-1771164000-1771174800@theshedbarandgrille.com
SUMMARY:Isaac Harper Playing Country at The Shed
DESCRIPTION:  \nIsaac Harper is headed to The Shed for a Sunday Funday filled with country music on February 15th!
URL:https://theshedbarandgrille.com/event/isaac-harper-playing-country-at-the-shed/
LOCATION:The Shed Bar & Grille\, 11995 S Merrill Rd\, Brant\, MI\, 48614\, United States
CATEGORIES:Band,Music
END:VEVENT
BEGIN:VEVENT
DTSTART;TZID=UTC:20260214T203000
DTEND;TZID=UTC:20260214T203000
DTSTAMP:20260425T114757
CREATED:20260201T175030Z
LAST-MODIFIED:20260201T175030Z
UID:10622-1771101000-1771101000@theshedbarandgrille.com
SUMMARY:DJ Music & Karaoke Night
DESCRIPTION:  \nNeed a night out with your Valentine? Head out to The Shed for DJ music and Karaoke Night hosted by DJ Jeff of Nightlife Entertainment on Saturday\, February 14th from 8:30pm – 12:30am!
URL:https://theshedbarandgrille.com/event/dj-music-karaoke-night/
LOCATION:The Shed Bar & Grille\, 11995 S Merrill Rd\, Brant\, MI\, 48614\, United States
CATEGORIES:Music
END:VEVENT
BEGIN:VEVENT
DTSTART;TZID=UTC:20260212T190000
DTEND;TZID=UTC:20260212T190000
DTSTAMP:20260425T114757
CREATED:20260125T211236Z
LAST-MODIFIED:20260125T211236Z
UID:10593-1770922800-1770922800@theshedbarandgrille.com
SUMMARY:Game Night: Trivia
DESCRIPTION:Come test your knowledge with Trivia Night EVERY OTHER THURSDAY at 7pm!\nFree to play\, prizes for top 3 teams and Thirsty Thursday drink specials!
URL:https://theshedbarandgrille.com/event/game-night-trivia-85/
LOCATION:The Shed Bar & Grille\, 11995 S Merrill Rd\, Brant\, MI\, 48614\, United States
CATEGORIES:Games
END:VEVENT
BEGIN:VEVENT
DTSTART;TZID=UTC:20260208T140000
DTEND;TZID=UTC:20260208T170000
DTSTAMP:20260425T114757
CREATED:20260201T174145Z
LAST-MODIFIED:20260201T174145Z
UID:10619-1770559200-1770570000@theshedbarandgrille.com
SUMMARY:Barry Forster of Tweed & Dixie
DESCRIPTION:  \nBarry Forster of Tweed & Dixie will be playing at The Shed Bar & Grille from 2pm – 5pm on Sunday\, February 8th!
URL:https://theshedbarandgrille.com/event/barry-forster-of-tweed-dixie-17/
LOCATION:The Shed Bar & Grille\, 11995 S Merrill Rd\, Brant\, MI\, 48614\, United States
CATEGORIES:Band,Music
END:VEVENT
BEGIN:VEVENT
DTSTART;TZID=UTC:20260205T190000
DTEND;TZID=UTC:20260205T190000
DTSTAMP:20260425T114757
CREATED:20260125T210437Z
LAST-MODIFIED:20260125T210437Z
UID:10585-1770318000-1770318000@theshedbarandgrille.com
SUMMARY:Game Night: You Guessed It
DESCRIPTION:Similar to Family Feud\, You Guessed It is at The Shed EVERY THURSDAY at 7pm!\nFree to play\, prizes for top 3 teams and Thirsty Thursday drink specials!
URL:https://theshedbarandgrille.com/event/game-night-you-guessed-it-89/
LOCATION:The Shed Bar & Grille\, 11995 S Merrill Rd\, Brant\, MI\, 48614\, United States
CATEGORIES:Games
END:VEVENT
BEGIN:VEVENT
DTSTART;TZID=UTC:20260201T140000
DTEND;TZID=UTC:20260201T170000
DTSTAMP:20260425T114757
CREATED:20260201T175845Z
LAST-MODIFIED:20260201T175845Z
UID:10628-1769954400-1769965200@theshedbarandgrille.com
SUMMARY:Sunday Funday: Mixed Nutz
DESCRIPTION:  \nSunday Funday with Mixed Nutz1st Sunday of every month!2:00pm – 5:00pm
URL:https://theshedbarandgrille.com/event/sunday-funday-mixed-nutz/
LOCATION:The Shed Bar & Grille\, 11995 S Merrill Rd\, Brant\, MI\, 48614\, United States
CATEGORIES:Band,Music
END:VEVENT
BEGIN:VEVENT
DTSTART;TZID=UTC:20260131T203000
DTEND;TZID=UTC:20260131T203000
DTSTAMP:20260425T114757
CREATED:20260125T210316Z
LAST-MODIFIED:20260125T210316Z
UID:10582-1769891400-1769891400@theshedbarandgrille.com
SUMMARY:The Outsiders LIVE at The Shed
DESCRIPTION:  \nThe Outsiders are taking over The Shed on Saturday\, January 31st to play live music from 8:30pm – 12:30am!
URL:https://theshedbarandgrille.com/event/the-outsiders-live-at-the-shed/
LOCATION:The Shed Bar & Grille\, 11995 S Merrill Rd\, Brant\, MI\, 48614\, United States
CATEGORIES:Band,Music
END:VEVENT
BEGIN:VEVENT
DTSTART;TZID=UTC:20260129T190000
DTEND;TZID=UTC:20260129T190000
DTSTAMP:20260425T114757
CREATED:20251222T214650Z
LAST-MODIFIED:20251222T214650Z
UID:10449-1769713200-1769713200@theshedbarandgrille.com
SUMMARY:Game Night: Trivia
DESCRIPTION:Come test your knowledge with Trivia Night EVERY OTHER THURSDAY at 7pm!\nFree to play\, prizes for top 3 teams and Thirsty Thursday drink specials!
URL:https://theshedbarandgrille.com/event/game-night-trivia-84/
LOCATION:The Shed Bar & Grille\, 11995 S Merrill Rd\, Brant\, MI\, 48614\, United States
CATEGORIES:Games
END:VEVENT
BEGIN:VEVENT
DTSTART;TZID=UTC:20260125T140000
DTEND;TZID=UTC:20260125T170000
DTSTAMP:20260425T114757
CREATED:20251222T213620Z
LAST-MODIFIED:20251222T213620Z
UID:10437-1769349600-1769360400@theshedbarandgrille.com
SUMMARY:CJ Ford Plays The Shed
DESCRIPTION:  \nDon’t miss CJ Ford play The Shed on Sunday\, January 25th from 2-5PM!
URL:https://theshedbarandgrille.com/event/cj-ford-plays-the-shed-5/
LOCATION:The Shed Bar & Grille\, 11995 S Merrill Rd\, Brant\, MI\, 48614\, United States
CATEGORIES:Band,Music
END:VEVENT
BEGIN:VEVENT
DTSTART;TZID=UTC:20260124T203000
DTEND;TZID=UTC:20260124T203000
DTSTAMP:20260425T114757
CREATED:20251222T212916Z
LAST-MODIFIED:20251222T212916Z
UID:10434-1769286600-1769286600@theshedbarandgrille.com
SUMMARY:TnB Duo at The Shed
DESCRIPTION:  \nTnB – Travis ‘N’ Barry are playing country and rock hits at The Shed Bar & Grille on Saturday\, January 24th at 8:30pm!
URL:https://theshedbarandgrille.com/event/tnb-duo-at-the-shed/
LOCATION:The Shed Bar & Grille\, 11995 S Merrill Rd\, Brant\, MI\, 48614\, United States
CATEGORIES:Band,Music
END:VEVENT
BEGIN:VEVENT
DTSTART;TZID=UTC:20260122T190000
DTEND;TZID=UTC:20260122T190000
DTSTAMP:20260425T114757
CREATED:20251222T214444Z
LAST-MODIFIED:20251222T214444Z
UID:10445-1769108400-1769108400@theshedbarandgrille.com
SUMMARY:Game Night: You Guessed It
DESCRIPTION:Similar to Family Feud\, You Guessed It is at The Shed EVERY THURSDAY at 7pm!\nFree to play\, prizes for top 3 teams and Thirsty Thursday drink specials!
URL:https://theshedbarandgrille.com/event/game-night-you-guessed-it-88/
LOCATION:The Shed Bar & Grille\, 11995 S Merrill Rd\, Brant\, MI\, 48614\, United States
CATEGORIES:Games
END:VEVENT
BEGIN:VEVENT
DTSTART;TZID=UTC:20260118T140000
DTEND;TZID=UTC:20260118T170000
DTSTAMP:20260425T114757
CREATED:20251222T212623Z
LAST-MODIFIED:20251222T212623Z
UID:10431-1768744800-1768755600@theshedbarandgrille.com
SUMMARY:Live Music with Scott Nelson
DESCRIPTION:  \nJoin Scott Nelson for live music at The Shed on Sunday\, January 18th at 2pm!
URL:https://theshedbarandgrille.com/event/live-music-with-scott-nelson-6/
LOCATION:The Shed Bar & Grille\, 11995 S Merrill Rd\, Brant\, MI\, 48614\, United States
CATEGORIES:Band,Music
END:VEVENT
BEGIN:VEVENT
DTSTART;TZID=UTC:20260117T203000
DTEND;TZID=UTC:20260117T203000
DTSTAMP:20260425T114757
CREATED:20251222T212330Z
LAST-MODIFIED:20251222T212330Z
UID:10428-1768681800-1768681800@theshedbarandgrille.com
SUMMARY:Cash O'Riley Playing The Shed
DESCRIPTION:  \nCash O’Riley is playing The Shed on Saturday\, January 17th at 8:30pm – 12:30am!
URL:https://theshedbarandgrille.com/event/cash-oriley-playing-the-shed-3/
LOCATION:The Shed Bar & Grille\, 11995 S Merrill Rd\, Brant\, MI\, 48614\, United States
CATEGORIES:Band,Music
END:VEVENT
BEGIN:VEVENT
DTSTART;TZID=UTC:20260115T190000
DTEND;TZID=UTC:20260115T190000
DTSTAMP:20260425T114757
CREATED:20251222T214607Z
LAST-MODIFIED:20251222T214607Z
UID:10447-1768503600-1768503600@theshedbarandgrille.com
SUMMARY:Game Night: Trivia
DESCRIPTION:Come test your knowledge with Trivia Night EVERY OTHER THURSDAY at 7pm!\nFree to play\, prizes for top 3 teams and Thirsty Thursday drink specials!
URL:https://theshedbarandgrille.com/event/game-night-trivia-83/
LOCATION:The Shed Bar & Grille\, 11995 S Merrill Rd\, Brant\, MI\, 48614\, United States
CATEGORIES:Games
END:VEVENT
BEGIN:VEVENT
DTSTART;TZID=UTC:20260111T140000
DTEND;TZID=UTC:20260111T170000
DTSTAMP:20260425T114757
CREATED:20251222T212040Z
LAST-MODIFIED:20251222T212040Z
UID:10425-1768140000-1768150800@theshedbarandgrille.com
SUMMARY:Barry Forster of Tweed & Dixie
DESCRIPTION:
URL:https://theshedbarandgrille.com/event/barry-forster-of-tweed-dixie-16/
LOCATION:The Shed Bar & Grille\, 11995 S Merrill Rd\, Brant\, MI\, 48614\, United States
CATEGORIES:Band,Music
END:VEVENT
BEGIN:VEVENT
DTSTART;TZID=UTC:20260110T203000
DTEND;TZID=UTC:20260110T203000
DTSTAMP:20260425T114757
CREATED:20251222T211801Z
LAST-MODIFIED:20251222T211801Z
UID:10422-1768077000-1768077000@theshedbarandgrille.com
SUMMARY:The Lawsons Playing The Shed
DESCRIPTION:  \nThe Lawsons are playing The Shed on Saturday\, January 10th from 8:30pm – 12:30am!
URL:https://theshedbarandgrille.com/event/the-lawsons-playing-the-shed-12/
LOCATION:The Shed Bar & Grille\, 11995 S Merrill Rd\, Brant\, MI\, 48614\, United States
CATEGORIES:Band,Music
END:VEVENT
BEGIN:VEVENT
DTSTART;TZID=UTC:20260108T190000
DTEND;TZID=UTC:20260108T190000
DTSTAMP:20260425T114757
CREATED:20251222T214314Z
LAST-MODIFIED:20251222T214314Z
UID:10443-1767898800-1767898800@theshedbarandgrille.com
SUMMARY:Game Night: You Guessed It
DESCRIPTION:Similar to Family Feud\, You Guessed It is at The Shed EVERY THURSDAY at 7pm!\nFree to play\, prizes for top 3 teams and Thirsty Thursday drink specials!
URL:https://theshedbarandgrille.com/event/game-night-you-guessed-it-87/
LOCATION:The Shed Bar & Grille\, 11995 S Merrill Rd\, Brant\, MI\, 48614\, United States
CATEGORIES:Games
END:VEVENT
BEGIN:VEVENT
DTSTART;TZID=UTC:20260104T140000
DTEND;TZID=UTC:20260104T170000
DTSTAMP:20260425T114757
CREATED:20251222T211439Z
LAST-MODIFIED:20251222T211439Z
UID:10420-1767535200-1767546000@theshedbarandgrille.com
SUMMARY:Sunday Funday with Mixed Nutz
DESCRIPTION:  \nSunday Funday with Mixed Nutz1st Sunday of every month!2:00pm – 5:00pm
URL:https://theshedbarandgrille.com/event/sunday-funday-with-mixed-nutz/
LOCATION:The Shed Bar & Grille\, 11995 S Merrill Rd\, Brant\, MI\, 48614\, United States
CATEGORIES:Band,Music
END:VEVENT
BEGIN:VEVENT
DTSTART;TZID=UTC:20260103T203000
DTEND;TZID=UTC:20260103T203000
DTSTAMP:20260425T114757
CREATED:20251222T211052Z
LAST-MODIFIED:20251222T211052Z
UID:10417-1767472200-1767472200@theshedbarandgrille.com
SUMMARY:John Howard of Rebel Line
DESCRIPTION:  \nJohn Howard of Rebel Line is playing 80’s and 90’s Country on Saturday\, January 3rd at 8:30pm!
URL:https://theshedbarandgrille.com/event/john-howard-of-rebel-line-8/
LOCATION:The Shed Bar & Grille\, 11995 S Merrill Rd\, Brant\, MI\, 48614\, United States
CATEGORIES:Band,Concert
END:VEVENT
BEGIN:VEVENT
DTSTART;TZID=UTC:20251231T203000
DTEND;TZID=UTC:20251231T203000
DTSTAMP:20260425T114757
CREATED:20251222T214100Z
LAST-MODIFIED:20251222T214100Z
UID:10440-1767213000-1767213000@theshedbarandgrille.com
SUMMARY:NYE Celebration!
DESCRIPTION:  \nRing in the New Year at The Shed Bar & Grille! Choose from two dinner specials that include a champagne toast at midnight + enjoy live music from Another Shot & Les-Egos Band 8:30PM – 12:30AM!
URL:https://theshedbarandgrille.com/event/nye-celebration/
LOCATION:The Shed Bar & Grille\, 11995 S Merrill Rd\, Brant\, MI\, 48614\, United States
CATEGORIES:Band,Celebration,Drink,Food,Holiday,Music
END:VEVENT
BEGIN:VEVENT
DTSTART;TZID=UTC:20251228T140000
DTEND;TZID=UTC:20251228T170000
DTSTAMP:20260425T114757
CREATED:20251122T024825Z
LAST-MODIFIED:20251122T024825Z
UID:10219-1766930400-1766941200@theshedbarandgrille.com
SUMMARY:Live Music with Scott Nelson
DESCRIPTION:  \nJoin Scott Nelson for live music at The Shed on Sunday\, December 28th at 2pm – 5pm!
URL:https://theshedbarandgrille.com/event/live-music-with-scott-nelson-5/
LOCATION:The Shed Bar & Grille\, 11995 S Merrill Rd\, Brant\, MI\, 48614\, United States
CATEGORIES:Band,Music
END:VEVENT
BEGIN:VEVENT
DTSTART;TZID=UTC:20251227T203000
DTEND;TZID=UTC:20251227T203000
DTSTAMP:20260425T114757
CREATED:20251122T024529Z
LAST-MODIFIED:20251122T024529Z
UID:10215-1766867400-1766867400@theshedbarandgrille.com
SUMMARY:DJ Music & Karaoke
DESCRIPTION:  \nImpact Sound Entertainment returns with DJ music and karaoke Saturday\, December 27th from 8:30pm – 12:30am!
URL:https://theshedbarandgrille.com/event/dj-music-karaoke-7/
LOCATION:The Shed Bar & Grille\, 11995 S Merrill Rd\, Brant\, MI\, 48614\, United States
CATEGORIES:Music
END:VEVENT
END:VCALENDAR