BEGIN:VCALENDAR
VERSION:2.0
PRODID:-//The Shed Bar &amp; Grille - ECPv6.15.20//NONSGML v1.0//EN
CALSCALE:GREGORIAN
METHOD:PUBLISH
X-WR-CALNAME:The Shed Bar &amp; Grille
X-ORIGINAL-URL:https://theshedbarandgrille.com
X-WR-CALDESC:Events for The Shed Bar &amp; Grille
REFRESH-INTERVAL;VALUE=DURATION:PT1H
X-Robots-Tag:noindex
X-PUBLISHED-TTL:PT1H
BEGIN:VTIMEZONE
TZID:UTC
BEGIN:STANDARD
TZOFFSETFROM:+0000
TZOFFSETTO:+0000
TZNAME:UTC
DTSTART:20250101T000000
END:STANDARD
END:VTIMEZONE
BEGIN:VEVENT
DTSTART;TZID=UTC:20260416T190000
DTEND;TZID=UTC:20260416T190000
DTSTAMP:20260425T102839
CREATED:20260331T183536Z
LAST-MODIFIED:20260331T183536Z
UID:10944-1776366000-1776366000@theshedbarandgrille.com
SUMMARY:Game Night: You Guessed It
DESCRIPTION:Similar to Family Feud\, You Guessed It is at The Shed EVERY THURSDAY at 7pm!\nFree to play\, prizes for top 3 teams and Thirsty Thursday drink specials!
URL:https://theshedbarandgrille.com/event/game-night-you-guessed-it-93/
LOCATION:The Shed Bar & Grille\, 11995 S Merrill Rd\, Brant\, MI\, 48614\, United States
CATEGORIES:Games
END:VEVENT
BEGIN:VEVENT
DTSTART;TZID=UTC:20260419T140000
DTEND;TZID=UTC:20260419T170000
DTSTAMP:20260425T102839
CREATED:20260331T182238Z
LAST-MODIFIED:20260331T182238Z
UID:10930-1776607200-1776618000@theshedbarandgrille.com
SUMMARY:Live Music with Scott Peterson
DESCRIPTION:  \nScott Peterson will be playing Sunday Funday on April 19th from 2pm – 5pm!
URL:https://theshedbarandgrille.com/event/live-music-with-scott-peterson/
LOCATION:The Shed Bar & Grille\, 11995 S Merrill Rd\, Brant\, MI\, 48614\, United States
CATEGORIES:Band,Music
END:VEVENT
BEGIN:VEVENT
DTSTART;TZID=UTC:20260423T190000
DTEND;TZID=UTC:20260423T190000
DTSTAMP:20260425T102839
CREATED:20260331T183448Z
LAST-MODIFIED:20260331T183448Z
UID:10942-1776970800-1776970800@theshedbarandgrille.com
SUMMARY:Game Night: Trivia
DESCRIPTION:Come test your knowledge with Trivia Night EVERY OTHER THURSDAY at 7pm!\nFree to play\, prizes for top 3 teams and Thirsty Thursday drink specials!
URL:https://theshedbarandgrille.com/event/game-night-trivia-90/
LOCATION:The Shed Bar & Grille\, 11995 S Merrill Rd\, Brant\, MI\, 48614\, United States
CATEGORIES:Games
END:VEVENT
BEGIN:VEVENT
DTSTART;TZID=UTC:20260425T203000
DTEND;TZID=UTC:20260425T203000
DTSTAMP:20260425T102839
CREATED:20260331T182905Z
LAST-MODIFIED:20260331T182905Z
UID:10933-1777149000-1777149000@theshedbarandgrille.com
SUMMARY:Timeless
DESCRIPTION:  \nTimeless is back at The Shed on Saturday\, April 23rd to rock the house from 8:30pm – 12:30am!
URL:https://theshedbarandgrille.com/event/timeless-2/
LOCATION:The Shed Bar & Grille\, 11995 S Merrill Rd\, Brant\, MI\, 48614\, United States
CATEGORIES:Band,Music
END:VEVENT
BEGIN:VEVENT
DTSTART;TZID=UTC:20260426T140000
DTEND;TZID=UTC:20260426T170000
DTSTAMP:20260425T102839
CREATED:20260331T183237Z
LAST-MODIFIED:20260331T183237Z
UID:10937-1777212000-1777222800@theshedbarandgrille.com
SUMMARY:Scott Nelson plays The Shed
DESCRIPTION:  \nJoin Scott Nelson for live music at The Shed on Sunday\, April 26th at 2pm!
URL:https://theshedbarandgrille.com/event/scott-nelson-plays-the-shed/
LOCATION:The Shed Bar & Grille\, 11995 S Merrill Rd\, Brant\, MI\, 48614\, United States
CATEGORIES:Band,Music
END:VEVENT
BEGIN:VEVENT
DTSTART;TZID=UTC:20260430T190000
DTEND;TZID=UTC:20260430T190000
DTSTAMP:20260425T102839
CREATED:20260331T183621Z
LAST-MODIFIED:20260331T183621Z
UID:10946-1777575600-1777575600@theshedbarandgrille.com
SUMMARY:Game Night: You Guessed It
DESCRIPTION:Similar to Family Feud\, You Guessed It is at The Shed EVERY THURSDAY at 7pm!\nFree to play\, prizes for top 3 teams and Thirsty Thursday drink specials!
URL:https://theshedbarandgrille.com/event/game-night-you-guessed-it-94/
LOCATION:The Shed Bar & Grille\, 11995 S Merrill Rd\, Brant\, MI\, 48614\, United States
CATEGORIES:Games
END:VEVENT
BEGIN:VEVENT
DTSTART;TZID=UTC:20260509T110000
DTEND;TZID=UTC:20260509T110000
DTSTAMP:20260425T102839
CREATED:20260424T181535Z
LAST-MODIFIED:20260424T181535Z
UID:11074-1778324400-1778324400@theshedbarandgrille.com
SUMMARY:The Shed's Annual Sun Run
DESCRIPTION:  \n4th Annual Sun RunThe Shed Bar & GrilleSaturday\, May 9th at 11:00am\n\n\nParticipating Bars:\n• Begin at The Shed Bar & Grille (Marion Springs)• Popp’s Place (Merrill)• The Evergreen Tavern (Hemlock)• Cams Brick Oven (St Charles)• The Prairie Saloon (St Charles)• The Brant Bar (Brant)• End at The Shed Bar & Grille (Marion Springs)\nRegistration and waivers start at 11:00am. We will take off at 11:30am.
URL:https://theshedbarandgrille.com/event/the-sheds-annual-sun-run-3/
LOCATION:The Shed Bar & Grille\, 11995 S Merrill Rd\, Brant\, MI\, 48614\, United States
CATEGORIES:Drink
END:VEVENT
END:VCALENDAR