BEGIN:VCALENDAR
VERSION:2.0
PRODID:-//The Shed Bar &amp; Grille - ECPv6.15.20//NONSGML v1.0//EN
CALSCALE:GREGORIAN
METHOD:PUBLISH
X-WR-CALNAME:The Shed Bar &amp; Grille
X-ORIGINAL-URL:https://theshedbarandgrille.com
X-WR-CALDESC:Events for The Shed Bar &amp; Grille
REFRESH-INTERVAL;VALUE=DURATION:PT1H
X-Robots-Tag:noindex
X-PUBLISHED-TTL:PT1H
BEGIN:VTIMEZONE
TZID:UTC
BEGIN:STANDARD
TZOFFSETFROM:+0000
TZOFFSETTO:+0000
TZNAME:UTC
DTSTART:20240101T000000
END:STANDARD
END:VTIMEZONE
BEGIN:VEVENT
DTSTART;TZID=UTC:20250726T203000
DTEND;TZID=UTC:20250727T170000
DTSTAMP:20260426T011442
CREATED:20250628T021110Z
LAST-MODIFIED:20250628T021110Z
UID:9453-1753561800-1753635600@theshedbarandgrille.com
SUMMARY:45th Annual Marion Springs Country Happenings Festival
DESCRIPTION:  \nCelebrate the 45th Annual Marion Springs Country Happening Festival with us! Here’s whats going on at The Shed Bar & Grille during the festival weekend:\n\n\nSATURDAY\, JULY 26:• Limited menu available• Alibi playing 8:30pm – 12:30am\n\n\nSUNDAY\, JULY 27:• Limited Menu Available• John Howard of Rebel Line playing 2pm – 5pm
URL:https://theshedbarandgrille.com/event/45th-annual-marion-springs-country-happenings-festival/
LOCATION:The Shed Bar & Grille\, 11995 S Merrill Rd\, Brant\, MI\, 48614\, United States
CATEGORIES:Band,Festival,Music
END:VEVENT
BEGIN:VEVENT
DTSTART;TZID=UTC:20250726T203000
DTEND;TZID=UTC:20250726T203000
DTSTAMP:20260426T011442
CREATED:20250628T015907Z
LAST-MODIFIED:20250628T015907Z
UID:9450-1753561800-1753561800@theshedbarandgrille.com
SUMMARY:Alibi Returns To The Shed
DESCRIPTION:  \nAlibi returns to The Shed on Saturday\, July 26th to play from 8:30pm – 12:30am!
URL:https://theshedbarandgrille.com/event/alibi-returns-to-the-shed/
LOCATION:The Shed Bar & Grille\, 11995 S Merrill Rd\, Brant\, MI\, 48614\, United States
CATEGORIES:Band,Music
END:VEVENT
BEGIN:VEVENT
DTSTART;TZID=UTC:20250724T190000
DTEND;TZID=UTC:20250724T190000
DTSTAMP:20260426T011442
CREATED:20250628T013525Z
LAST-MODIFIED:20250628T013525Z
UID:9431-1753383600-1753383600@theshedbarandgrille.com
SUMMARY:Game Night: Trivia
DESCRIPTION:Come test your knowledge with Trivia Night EVERY OTHER THURSDAY at 7pm!\nFree to play\, prizes for top 3 teams and Thirsty Thursday drink specials!
URL:https://theshedbarandgrille.com/event/game-night-trivia-76/
LOCATION:The Shed Bar & Grille\, 11995 S Merrill Rd\, Brant\, MI\, 48614\, United States
CATEGORIES:Games
END:VEVENT
BEGIN:VEVENT
DTSTART;TZID=UTC:20250720T140000
DTEND;TZID=UTC:20250720T170000
DTSTAMP:20260426T011442
CREATED:20250628T015229Z
LAST-MODIFIED:20250628T015229Z
UID:9445-1753020000-1753030800@theshedbarandgrille.com
SUMMARY:John Howard of Rebel Line
DESCRIPTION:  \nJohn Howard of Rebel Line is playing 80’s and 90’s Country on Sunday\, July 20th & 27th from 2pm – 5pm!
URL:https://theshedbarandgrille.com/event/john-howard-of-rebel-line-4/
LOCATION:The Shed Bar & Grille\, 11995 S Merrill Rd\, Brant\, MI\, 48614\, United States
CATEGORIES:Band,Music
END:VEVENT
BEGIN:VEVENT
DTSTART;TZID=UTC:20250719T203000
DTEND;TZID=UTC:20250719T203000
DTSTAMP:20260426T011442
CREATED:20250628T014945Z
LAST-MODIFIED:20250628T014945Z
UID:9442-1752957000-1752957000@theshedbarandgrille.com
SUMMARY:The Dirty Laundry Band
DESCRIPTION:  \nThe Dirty Laundry Band is playing country rock with a little bit of everything in between on Saturday\, July 19th from 8:30pm – 12:30am!
URL:https://theshedbarandgrille.com/event/the-dirty-laundry-band-2/
LOCATION:The Shed Bar & Grille\, 11995 S Merrill Rd\, Brant\, MI\, 48614\, United States
CATEGORIES:Band,Music
END:VEVENT
BEGIN:VEVENT
DTSTART;TZID=UTC:20250717T190000
DTEND;TZID=UTC:20250717T190000
DTSTAMP:20260426T011442
CREATED:20250628T013309Z
LAST-MODIFIED:20250628T013309Z
UID:9425-1752778800-1752778800@theshedbarandgrille.com
SUMMARY:Game Night: You Guessed It
DESCRIPTION:Similar to Family Feud\, You Guessed It is at The Shed EVERY OTHER THURSDAY at 7pm!\nFree to play\, prizes for top 3 teams and Thirsty Thursday drink specials!
URL:https://theshedbarandgrille.com/event/game-night-you-guessed-it-76/
LOCATION:The Shed Bar & Grille\, 11995 S Merrill Rd\, Brant\, MI\, 48614\, United States
CATEGORIES:Games
END:VEVENT
BEGIN:VEVENT
DTSTART;TZID=UTC:20250713T140000
DTEND;TZID=UTC:20250713T170000
DTSTAMP:20260426T011442
CREATED:20250628T014511Z
LAST-MODIFIED:20250628T014511Z
UID:9439-1752415200-1752426000@theshedbarandgrille.com
SUMMARY:Live Music With Andy Braun
DESCRIPTION:  \nAndy Braun is playing 2pm-5pm for Sunday Funday on July 13th!
URL:https://theshedbarandgrille.com/event/live-music-with-andy-braun-2/
LOCATION:The Shed Bar & Grille\, 11995 S Merrill Rd\, Brant\, MI\, 48614\, United States
CATEGORIES:Band,Music
END:VEVENT
BEGIN:VEVENT
DTSTART;TZID=UTC:20250712T203000
DTEND;TZID=UTC:20250712T203000
DTSTAMP:20260426T011442
CREATED:20250628T014144Z
LAST-MODIFIED:20250628T014144Z
UID:9435-1752352200-1752352200@theshedbarandgrille.com
SUMMARY:DJ Music & Karaoke
DESCRIPTION:  \nImpact Sound Entertainment returns with DJ music and karaoke Saturday\, July 12 from 8:30pm – 12:30am!
URL:https://theshedbarandgrille.com/event/dj-music-karaoke-5/
LOCATION:The Shed Bar & Grille\, 11995 S Merrill Rd\, Brant\, MI\, 48614\, United States
CATEGORIES:Music
END:VEVENT
BEGIN:VEVENT
DTSTART;TZID=UTC:20250710T190000
DTEND;TZID=UTC:20250710T190000
DTSTAMP:20260426T011442
CREATED:20250628T013448Z
LAST-MODIFIED:20250628T013448Z
UID:9429-1752174000-1752174000@theshedbarandgrille.com
SUMMARY:Game Night: Trivia
DESCRIPTION:Come test your knowledge with Trivia Night EVERY OTHER THURSDAY at 7pm!\nFree to play\, prizes for top 3 teams and Thirsty Thursday drink specials!
URL:https://theshedbarandgrille.com/event/game-night-trivia-75/
LOCATION:The Shed Bar & Grille\, 11995 S Merrill Rd\, Brant\, MI\, 48614\, United States
CATEGORIES:Games
END:VEVENT
BEGIN:VEVENT
DTSTART;TZID=UTC:20250706T140000
DTEND;TZID=UTC:20250706T170000
DTSTAMP:20260426T011442
CREATED:20250628T013656Z
LAST-MODIFIED:20250628T013656Z
UID:9433-1751810400-1751821200@theshedbarandgrille.com
SUMMARY:Sunday Funday: Mixed Nutz Variety Band
DESCRIPTION:  \nSunday Funday with Mixed Nutz \n1st Sunday of every month! \nPlaying 2:00PM – 5:00PM
URL:https://theshedbarandgrille.com/event/sunday-funday-mixed-nutz-variety-band-17/
LOCATION:The Shed Bar & Grille\, 11995 S Merrill Rd\, Brant\, MI\, 48614\, United States
CATEGORIES:Band,Music
END:VEVENT
BEGIN:VEVENT
DTSTART;TZID=UTC:20250705T203000
DTEND;TZID=UTC:20250705T203000
DTSTAMP:20260426T011442
CREATED:20250628T012852Z
LAST-MODIFIED:20250628T012852Z
UID:9420-1751747400-1751747400@theshedbarandgrille.com
SUMMARY:The Lawsons Playing The Shed
DESCRIPTION:  \n\nJoin The Lawsons for live music on Satuday\, July 5th from 8:30pm – 12:30am!
URL:https://theshedbarandgrille.com/event/the-lawsons-playing-the-shed-9/
LOCATION:The Shed Bar & Grille\, 11995 S Merrill Rd\, Brant\, MI\, 48614\, United States
CATEGORIES:Band,Music
END:VEVENT
BEGIN:VEVENT
DTSTART;TZID=UTC:20250703T190000
DTEND;TZID=UTC:20250703T190000
DTSTAMP:20260426T011442
CREATED:20250628T013222Z
LAST-MODIFIED:20250628T013222Z
UID:9423-1751569200-1751569200@theshedbarandgrille.com
SUMMARY:Game Night: You Guessed It
DESCRIPTION:Similar to Family Feud\, You Guessed It is at The Shed EVERY OTHER THURSDAY at 7pm!\nFree to play\, prizes for top 3 teams and Thirsty Thursday drink specials!
URL:https://theshedbarandgrille.com/event/game-night-you-guessed-it-75/
LOCATION:The Shed Bar & Grille\, 11995 S Merrill Rd\, Brant\, MI\, 48614\, United States
CATEGORIES:Games
END:VEVENT
BEGIN:VEVENT
DTSTART;TZID=UTC:20250626T190000
DTEND;TZID=UTC:20250626T190000
DTSTAMP:20260426T011442
CREATED:20250601T164856Z
LAST-MODIFIED:20250601T164856Z
UID:9338-1750964400-1750964400@theshedbarandgrille.com
SUMMARY:Game Night: Trivia
DESCRIPTION:Come test your knowledge with Trivia Night EVERY OTHER THURSDAY at 7pm!\nFree to play\, prizes for top 3 teams and Thirsty Thursday drink specials!
URL:https://theshedbarandgrille.com/event/game-night-trivia-74/
LOCATION:The Shed Bar & Grille\, 11995 S Merrill Rd\, Brant\, MI\, 48614\, United States
CATEGORIES:Games
END:VEVENT
BEGIN:VEVENT
DTSTART;TZID=UTC:20250619T190000
DTEND;TZID=UTC:20250619T190000
DTSTAMP:20260426T011442
CREATED:20250601T164709Z
LAST-MODIFIED:20250601T164709Z
UID:9334-1750359600-1750359600@theshedbarandgrille.com
SUMMARY:Game Night: You Guessed It
DESCRIPTION:Similar to Family Feud\, You Guessed It is at The Shed EVERY OTHER THURSDAY at 7pm!\nFree to play\, prizes for top 3 teams and Thirsty Thursday drink specials!
URL:https://theshedbarandgrille.com/event/game-night-you-guessed-it-74/
LOCATION:The Shed Bar & Grille\, 11995 S Merrill Rd\, Brant\, MI\, 48614\, United States
CATEGORIES:Games
END:VEVENT
BEGIN:VEVENT
DTSTART;TZID=UTC:20250612T190000
DTEND;TZID=UTC:20250612T190000
DTSTAMP:20260426T011442
CREATED:20250601T164808Z
LAST-MODIFIED:20250601T164808Z
UID:9336-1749754800-1749754800@theshedbarandgrille.com
SUMMARY:Game Night: Trivia
DESCRIPTION:Come test your knowledge with Trivia Night EVERY OTHER THURSDAY at 7pm!\nFree to play\, prizes for top 3 teams and Thirsty Thursday drink specials!
URL:https://theshedbarandgrille.com/event/game-night-trivia-73/
LOCATION:The Shed Bar & Grille\, 11995 S Merrill Rd\, Brant\, MI\, 48614\, United States
CATEGORIES:Games
END:VEVENT
BEGIN:VEVENT
DTSTART;TZID=UTC:20250608T140000
DTEND;TZID=UTC:20250608T170000
DTSTAMP:20260426T011442
CREATED:20250601T165518Z
LAST-MODIFIED:20250601T165518Z
UID:9345-1749391200-1749402000@theshedbarandgrille.com
SUMMARY:The Lawsons Playing The Shed
DESCRIPTION:  \n\nJoin The Lawsons for live music on Sunday\, June 8th from 2:00pm – 5:00pm!
URL:https://theshedbarandgrille.com/event/the-lawsons-playing-the-shed-8/
LOCATION:The Shed Bar & Grille\, 11995 S Merrill Rd\, Brant\, MI\, 48614\, United States
CATEGORIES:Band,Music
END:VEVENT
BEGIN:VEVENT
DTSTART;TZID=UTC:20250607T203000
DTEND;TZID=UTC:20250607T203000
DTSTAMP:20260426T011442
CREATED:20250601T165257Z
LAST-MODIFIED:20250601T165257Z
UID:9342-1749328200-1749328200@theshedbarandgrille.com
SUMMARY:DJ Music & Karaoke
DESCRIPTION:  \nImpact Sound Entertainment returns with DJ music and karaoke Saturday\, June 7 from 8:30pm – 12:30am!
URL:https://theshedbarandgrille.com/event/dj-music-karaoke-4/
LOCATION:The Shed Bar & Grille\, 11995 S Merrill Rd\, Brant\, MI\, 48614\, United States
CATEGORIES:Music
END:VEVENT
BEGIN:VEVENT
DTSTART;TZID=UTC:20250605T190000
DTEND;TZID=UTC:20250605T190000
DTSTAMP:20260426T011442
CREATED:20250601T164624Z
LAST-MODIFIED:20250601T164624Z
UID:9332-1749150000-1749150000@theshedbarandgrille.com
SUMMARY:Game Night: You Guessed It
DESCRIPTION:Similar to Family Feud\, You Guessed It is at The Shed EVERY OTHER THURSDAY at 7pm!\nFree to play\, prizes for top 3 teams and Thirsty Thursday drink specials!
URL:https://theshedbarandgrille.com/event/game-night-you-guessed-it-73/
LOCATION:The Shed Bar & Grille\, 11995 S Merrill Rd\, Brant\, MI\, 48614\, United States
CATEGORIES:Games
END:VEVENT
BEGIN:VEVENT
DTSTART;TZID=UTC:20250601T140000
DTEND;TZID=UTC:20250601T170000
DTSTAMP:20260426T011442
CREATED:20250601T165015Z
LAST-MODIFIED:20250601T165015Z
UID:9340-1748786400-1748797200@theshedbarandgrille.com
SUMMARY:Sunday Funday: Mixed Nutz Variety Band
DESCRIPTION:  \nSunday Funday with Mixed Nutz \n1st Sunday of every month! \nPlaying 2:00PM – 5:00PM
URL:https://theshedbarandgrille.com/event/sunday-funday-mixed-nutz-variety-band-16/
LOCATION:The Shed Bar & Grille\, 11995 S Merrill Rd\, Brant\, MI\, 48614\, United States
CATEGORIES:Band,Music
END:VEVENT
BEGIN:VEVENT
DTSTART;TZID=UTC:20250531T203000
DTEND;TZID=UTC:20250531T203000
DTSTAMP:20260426T011442
CREATED:20250429T215507Z
LAST-MODIFIED:20250429T215507Z
UID:9229-1748723400-1748723400@theshedbarandgrille.com
SUMMARY:Almost Famous Duo
DESCRIPTION:  \nEnjoy an evening of live acoustic music by Jay & Amy 8:30pm – 12:30am!
URL:https://theshedbarandgrille.com/event/almost-famous-duo-10/
LOCATION:The Shed Bar & Grille\, 11995 S Merrill Rd\, Brant\, MI\, 48614\, United States
CATEGORIES:Band,Music
END:VEVENT
BEGIN:VEVENT
DTSTART;TZID=UTC:20250529T190000
DTEND;TZID=UTC:20250529T190000
DTSTAMP:20260426T011442
CREATED:20250415T162531Z
LAST-MODIFIED:20250415T162531Z
UID:9152-1748545200-1748545200@theshedbarandgrille.com
SUMMARY:Game Night: Trivia
DESCRIPTION:Come test your knowledge with Trivia Night EVERY OTHER THURSDAY at 7pm!\nFree to play\, prizes for top 3 teams and Thirsty Thursday drink specials!
URL:https://theshedbarandgrille.com/event/game-night-trivia-72/
LOCATION:The Shed Bar & Grille\, 11995 S Merrill Rd\, Brant\, MI\, 48614\, United States
CATEGORIES:Games
END:VEVENT
BEGIN:VEVENT
DTSTART;TZID=UTC:20250525T140000
DTEND;TZID=UTC:20250525T170000
DTSTAMP:20260426T011442
CREATED:20250429T215013Z
LAST-MODIFIED:20250429T215013Z
UID:9226-1748181600-1748192400@theshedbarandgrille.com
SUMMARY:Barry Forster of Tweed & Dixie
DESCRIPTION:  \nBarry Forster of Tweed & Dixie will be playing at The Shed Bar & Grille from 2pm – 5pm on Saturday\, May 25th!
URL:https://theshedbarandgrille.com/event/barry-forster-of-tweed-dixie-11/
LOCATION:The Shed Bar & Grille\, 11995 S Merrill Rd\, Brant\, MI\, 48614\, United States
CATEGORIES:Band,Music
END:VEVENT
BEGIN:VEVENT
DTSTART;TZID=UTC:20250524T203000
DTEND;TZID=UTC:20250524T203000
DTSTAMP:20260426T011442
CREATED:20250429T193332Z
LAST-MODIFIED:20250429T193332Z
UID:9223-1748118600-1748118600@theshedbarandgrille.com
SUMMARY:The Lawsons Playing The Shed
DESCRIPTION:  \n\nJoin The Lawsons for live music on Saturday\, May 24th from 2:00pm – 5:00pm!
URL:https://theshedbarandgrille.com/event/the-lawsons-playing-the-shed-7/
LOCATION:The Shed Bar & Grille\, 11995 S Merrill Rd\, Brant\, MI\, 48614\, United States
CATEGORIES:Band,Music
END:VEVENT
BEGIN:VEVENT
DTSTART;TZID=UTC:20250522T190000
DTEND;TZID=UTC:20250522T190000
DTSTAMP:20260426T011442
CREATED:20250415T162754Z
LAST-MODIFIED:20250415T162754Z
UID:9156-1747940400-1747940400@theshedbarandgrille.com
SUMMARY:Game Night: You Guessed It
DESCRIPTION:Similar to Family Feud\, You Guessed It is at The Shed EVERY OTHER THURSDAY at 7pm!\nFree to play\, prizes for top 3 teams and Thirsty Thursday drink specials!
URL:https://theshedbarandgrille.com/event/game-night-you-guessed-it-72/
LOCATION:The Shed Bar & Grille\, 11995 S Merrill Rd\, Brant\, MI\, 48614\, United States
CATEGORIES:Games
END:VEVENT
BEGIN:VEVENT
DTSTART;TZID=UTC:20250518T140000
DTEND;TZID=UTC:20250518T170000
DTSTAMP:20260426T011442
CREATED:20250429T192658Z
LAST-MODIFIED:20250429T192658Z
UID:9220-1747576800-1747587600@theshedbarandgrille.com
SUMMARY:John Howard of Rebel Line
DESCRIPTION:  \nJohn Howard of Rebel Line is playing 80’s and 90’s Country on Sunday\, April 13th 2pm – 5pm!
URL:https://theshedbarandgrille.com/event/john-howard-of-rebel-line-3/
LOCATION:The Shed Bar & Grille\, 11995 S Merrill Rd\, Brant\, MI\, 48614\, United States
CATEGORIES:Band,Music
END:VEVENT
BEGIN:VEVENT
DTSTART;TZID=UTC:20250517T203000
DTEND;TZID=UTC:20250517T203000
DTSTAMP:20260426T011442
CREATED:20250429T192225Z
LAST-MODIFIED:20250429T192225Z
UID:9217-1747513800-1747513800@theshedbarandgrille.com
SUMMARY:The Loaner Project
DESCRIPTION:  \nThe Loaner Project is playing your favorite energetic tunes from the 90s and a few country tunes sprinkled in on Saturday\, June 22nd from 8:30pm – 12:30am!
URL:https://theshedbarandgrille.com/event/the-loaner-project-4/
LOCATION:The Shed Bar & Grille\, 11995 S Merrill Rd\, Brant\, MI\, 48614\, United States
CATEGORIES:Band,Music
END:VEVENT
BEGIN:VEVENT
DTSTART;TZID=UTC:20250515T190000
DTEND;TZID=UTC:20250515T190000
DTSTAMP:20260426T011442
CREATED:20250415T162030Z
LAST-MODIFIED:20250415T162030Z
UID:9150-1747335600-1747335600@theshedbarandgrille.com
SUMMARY:Game Night: Trivia
DESCRIPTION:Come test your knowledge with Trivia Night EVERY OTHER THURSDAY at 7pm!\nFree to play\, prizes for top 3 teams and Thirsty Thursday drink specials!
URL:https://theshedbarandgrille.com/event/game-night-trivia-71/
LOCATION:The Shed Bar & Grille\, 11995 S Merrill Rd\, Brant\, MI\, 48614\, United States
CATEGORIES:Games
END:VEVENT
BEGIN:VEVENT
DTSTART;TZID=UTC:20250511T140000
DTEND;TZID=UTC:20250511T170000
DTSTAMP:20260426T011442
CREATED:20250429T191751Z
LAST-MODIFIED:20250429T191751Z
UID:9214-1746972000-1746982800@theshedbarandgrille.com
SUMMARY:Barry Forster of Tweed & Dixie
DESCRIPTION:  \nBarry Forster of Tweed & Dixie will be playing at The Shed Bar & Grille from 2pm – 5pm on Saturday\, May 11th!
URL:https://theshedbarandgrille.com/event/barry-forster-of-tweed-dixie-10/
LOCATION:The Shed Bar & Grille\, 11995 S Merrill Rd\, Brant\, MI\, 48614\, United States
CATEGORIES:Band,Music
END:VEVENT
BEGIN:VEVENT
DTSTART;TZID=UTC:20250510T203000
DTEND;TZID=UTC:20250510T203000
DTSTAMP:20260426T011442
CREATED:20250429T191216Z
LAST-MODIFIED:20250429T191216Z
UID:9211-1746909000-1746909000@theshedbarandgrille.com
SUMMARY:The Dirty Laundry Band
DESCRIPTION:  \nThe Dirty Laundry Band is playing country rock with a little bit of everything in between on Saturday\, May 10th from 8:30pm – 12:30am!
URL:https://theshedbarandgrille.com/event/the-dirty-laundry-band/
LOCATION:The Shed Bar & Grille\, 11995 S Merrill Rd\, Brant\, MI\, 48614\, United States
CATEGORIES:Band,Music
END:VEVENT
BEGIN:VEVENT
DTSTART;TZID=UTC:20250510T110000
DTEND;TZID=UTC:20250510T110000
DTSTAMP:20260426T011442
CREATED:20250415T161559Z
LAST-MODIFIED:20250415T161559Z
UID:9145-1746874800-1746874800@theshedbarandgrille.com
SUMMARY:The Shed's Annual Sun Run
DESCRIPTION:  \n3rd Annual Sun Run\nThe Shed Bar & Grille\nSaturday\, May 10th at 11:00am \nParticipating Bars:\n• Begin at The Shed Bar & Grille (Marion Springs)\n• Popp’s Place (Merrill)\n• The Evergreen Tavern (Hemlock)\n• Cams Brick Oven (St Charles)\n• The Prairie Saloon (St Charles)\n• The Brant Bar (Brant)\n• End at The Shed Bar & Grille (Marion Springs) \nRegistration and waivers start at 11:00am. We will take off at 11:30am.
URL:https://theshedbarandgrille.com/event/the-sheds-annual-sun-run-2/
LOCATION:The Shed Bar & Grille\, 11995 S Merrill Rd\, Brant\, MI\, 48614\, United States
CATEGORIES:Drink,Sports
END:VEVENT
END:VCALENDAR