BEGIN:VCALENDAR
VERSION:2.0
PRODID:-//The Shed Bar &amp; Grille - ECPv6.15.20//NONSGML v1.0//EN
CALSCALE:GREGORIAN
METHOD:PUBLISH
X-WR-CALNAME:The Shed Bar &amp; Grille
X-ORIGINAL-URL:https://theshedbarandgrille.com
X-WR-CALDESC:Events for The Shed Bar &amp; Grille
REFRESH-INTERVAL;VALUE=DURATION:PT1H
X-Robots-Tag:noindex
X-PUBLISHED-TTL:PT1H
BEGIN:VTIMEZONE
TZID:UTC
BEGIN:STANDARD
TZOFFSETFROM:+0000
TZOFFSETTO:+0000
TZNAME:UTC
DTSTART:20180101T000000
END:STANDARD
END:VTIMEZONE
BEGIN:VEVENT
DTSTART;TZID=UTC:20200227T190000
DTEND;TZID=UTC:20200227T190000
DTSTAMP:20260425T213117
CREATED:20200108T022509Z
LAST-MODIFIED:20200108T022509Z
UID:1003-1582830000-1582830000@theshedbarandgrille.com
SUMMARY:Michigan vs Wisconsin Watch Party
DESCRIPTION:  \n\n\nMichigan vs Wisconsin\n\n\nThursday\, February 27th at 7:00 p.m.\n\n\nThe Shed Bar & Grille\n\n\n\n\n\nSpecials Include:\n\n\n\n\n\n$1 Off Drafts\n\n\n$0.50 Off Wells\n\n\nHalf Off Select Appetizers\n\n\n$3 MSU Shots\n\n\n$12 Beer Bucket (6 Domestics)\n\n\n$15 White Claw Bucket
URL:https://theshedbarandgrille.com/event/michigan-vs-wisconsin-watch-party-2/
LOCATION:The Shed Bar & Grille\, 11995 S Merrill Rd\, Brant\, MI\, 48614\, United States
CATEGORIES:Sports
END:VEVENT
BEGIN:VEVENT
DTSTART;TZID=UTC:20200225T190000
DTEND;TZID=UTC:20200225T190000
DTSTAMP:20260425T213117
CREATED:20200108T011922Z
LAST-MODIFIED:20200108T011922Z
UID:964-1582657200-1582657200@theshedbarandgrille.com
SUMMARY:Michigan State vs Iowa Watch Party
DESCRIPTION:  \n\n\nMichigan State vs Iowa\n\n\nTuesday\, February 25th at 7:00 p.m.\n\n\nThe Shed Bar & Grille\n\n\n\n\n\nSpecials Include:\n\n\n\n\n\n$1 Off Drafts\n\n\n$0.50 Off Wells\n\n\nHalf Off Select Appetizers\n\n\n$3 MSU Shots\n\n\n$12 Beer Bucket (6 Domestics)\n\n\n$15 White Claw Bucket
URL:https://theshedbarandgrille.com/event/michigan-state-vs-iowa-watch-party/
LOCATION:The Shed Bar & Grille\, 11995 S Merrill Rd\, Brant\, MI\, 48614\, United States
CATEGORIES:Sports
END:VEVENT
BEGIN:VEVENT
DTSTART;TZID=UTC:20200222T140000
DTEND;TZID=UTC:20200222T140000
DTSTAMP:20260425T213117
CREATED:20200108T022016Z
LAST-MODIFIED:20200108T022016Z
UID:1001-1582380000-1582380000@theshedbarandgrille.com
SUMMARY:Michigan vs Purdue Watch Party
DESCRIPTION:  \n\n\nMichigan vs Purdue\n\n\nSaturday\, February 22nd at 2:00 p.m.\n\n\nThe Shed Bar & Grille\n\n\n\n\n\nSpecials Include:\n\n\n\n\n\n$1 Off Drafts\n\n\n$0.50 Off Wells\n\n\nHalf Off Select Appetizers\n\n\n$3 MSU Shots\n\n\n$12 Beer Bucket (6 Domestics)\n\n\n$15 White Claw Bucket
URL:https://theshedbarandgrille.com/event/michigan-vs-purdue-watch-party-2/
LOCATION:The Shed Bar & Grille\, 11995 S Merrill Rd\, Brant\, MI\, 48614\, United States
CATEGORIES:Sports
END:VEVENT
BEGIN:VEVENT
DTSTART;TZID=UTC:20200220T203000
DTEND;TZID=UTC:20200220T203000
DTSTAMP:20260425T213117
CREATED:20200108T011415Z
LAST-MODIFIED:20200108T011415Z
UID:961-1582230600-1582230600@theshedbarandgrille.com
SUMMARY:Michigan State vs Nebraska Watch Party
DESCRIPTION:  \n\n\nMichigan State vs Nebraska\n\n\nThursday\, February 20th at 8:30 p.m.\n\n\nThe Shed Bar & Grille\n\n\n\n\n\nSpecials Include:\n\n\n\n\n\n$1 Off Drafts\n\n\n$0.50 Off Wells\n\n\nHalf Off Select Appetizers\n\n\n$3 MSU Shots\n\n\n$12 Beer Bucket (6 Domestics)\n\n\n$15 White Claw Bucket
URL:https://theshedbarandgrille.com/event/michigan-state-vs-nebraska-watch-party/
LOCATION:The Shed Bar & Grille\, 11995 S Merrill Rd\, Brant\, MI\, 48614\, United States
CATEGORIES:Sports
END:VEVENT
BEGIN:VEVENT
DTSTART;TZID=UTC:20200219T190000
DTEND;TZID=UTC:20200219T190000
DTSTAMP:20260425T213117
CREATED:20200108T021622Z
LAST-MODIFIED:20200108T021622Z
UID:999-1582138800-1582138800@theshedbarandgrille.com
SUMMARY:Michigan vs Rutgers Watch Party
DESCRIPTION:  \n\n\nMichigan vs Rutgers\n\n\nWednesday\, February 19th at 7:00 p.m.\n\n\nThe Shed Bar & Grille\n\n\n\n\n\nSpecials Include:\n\n\n\n\n\n$1 Off Drafts\n\n\n$0.50 Off Wells\n\n\nHalf Off Select Appetizers\n\n\n$3 MSU Shots\n\n\n$12 Beer Bucket (6 Domestics)\n\n\n$15 White Claw Bucket
URL:https://theshedbarandgrille.com/event/michigan-vs-rutgers-watch-party-3/
LOCATION:The Shed Bar & Grille\, 11995 S Merrill Rd\, Brant\, MI\, 48614\, United States
CATEGORIES:Sports
END:VEVENT
BEGIN:VEVENT
DTSTART;TZID=UTC:20200216T130000
DTEND;TZID=UTC:20200216T130000
DTSTAMP:20260425T213117
CREATED:20200108T021255Z
LAST-MODIFIED:20200108T021255Z
UID:996-1581858000-1581858000@theshedbarandgrille.com
SUMMARY:Michigan vs Indiana Watch Party
DESCRIPTION:  \n\n\nMichigan vs Indiana\n\n\nSunday\, February 16th at 1:00 p.m.\n\n\nThe Shed Bar & Grille\n\n\n\n\n\nSpecials Include:\n\n\n\n\n\n$1 Off Drafts\n\n\n$0.50 Off Wells\n\n\nHalf Off Select Appetizers\n\n\n$3 MSU Shots\n\n\n$12 Beer Bucket (6 Domestics)\n\n\n$15 White Claw Bucket
URL:https://theshedbarandgrille.com/event/michigan-vs-indiana-watch-party-2/
LOCATION:The Shed Bar & Grille\, 11995 S Merrill Rd\, Brant\, MI\, 48614\, United States
CATEGORIES:Sports
END:VEVENT
BEGIN:VEVENT
DTSTART;TZID=UTC:20200215T180000
DTEND;TZID=UTC:20200215T180000
DTSTAMP:20260425T213117
CREATED:20200108T010848Z
LAST-MODIFIED:20200108T010848Z
UID:958-1581789600-1581789600@theshedbarandgrille.com
SUMMARY:Michigan State vs Maryland Watch Party
DESCRIPTION:  \n\n\nMichigan State vs Maryland\n\n\nSaturday\, February 15th at 6:00 p.m.\n\n\nThe Shed Bar & Grille\n\n\n\n\n\nSpecials Include:\n\n\n\n\n\n$1 Off Drafts\n\n\n$0.50 Off Wells\n\n\nHalf Off Select Appetizers\n\n\n$3 MSU Shots\n\n\n$12 Beer Bucket (6 Domestics)\n\n\n$15 White Claw Bucket
URL:https://theshedbarandgrille.com/event/michigan-state-vs-maryland-watch-party-2/
LOCATION:The Shed Bar & Grille\, 11995 S Merrill Rd\, Brant\, MI\, 48614\, United States
CATEGORIES:Sports
END:VEVENT
BEGIN:VEVENT
DTSTART;TZID=UTC:20200212T210000
DTEND;TZID=UTC:20200212T210000
DTSTAMP:20260425T213117
CREATED:20200108T020820Z
LAST-MODIFIED:20200108T020820Z
UID:993-1581541200-1581541200@theshedbarandgrille.com
SUMMARY:Michigan vs Northwestern Watch Party
DESCRIPTION:  \n\n\nMichigan vs Northwestern\n\n\nWednesday\, February 12th at 9:00 p.m.\n\n\nThe Shed Bar & Grille\n\n\n\n\n\nSpecials Include:\n\n\n\n\n\n$1 Off Drafts\n\n\n$0.50 Off Wells\n\n\nHalf Off Select Appetizers\n\n\n$3 MSU Shots\n\n\n$12 Beer Bucket (6 Domestics)\n\n\n$15 White Claw Bucket
URL:https://theshedbarandgrille.com/event/michigan-vs-northwestern-watch-party/
LOCATION:The Shed Bar & Grille\, 11995 S Merrill Rd\, Brant\, MI\, 48614\, United States
CATEGORIES:Sports
END:VEVENT
BEGIN:VEVENT
DTSTART;TZID=UTC:20200211T210000
DTEND;TZID=UTC:20200211T210000
DTSTAMP:20260425T213117
CREATED:20200108T010325Z
LAST-MODIFIED:20200108T010325Z
UID:955-1581454800-1581454800@theshedbarandgrille.com
SUMMARY:Michigan State vs Illinois Watch Party
DESCRIPTION:  \n\n\nMichigan State vs Illinois\n\n\nTuesday\, February 11th at 9:00 p.m.\n\n\nThe Shed Bar & Grille\n\n\n\n\n\nSpecials Include:\n\n\n\n\n\n$1 Off Drafts\n\n\n$0.50 Off Wells\n\n\nHalf Off Select Appetizers\n\n\n$3 MSU Shots\n\n\n$12 Beer Bucket (6 Domestics)\n\n\n$15 White Claw Bucket
URL:https://theshedbarandgrille.com/event/michigan-state-vs-illinois-watch-party-2/
LOCATION:The Shed Bar & Grille\, 11995 S Merrill Rd\, Brant\, MI\, 48614\, United States
CATEGORIES:Sports
END:VEVENT
BEGIN:VEVENT
DTSTART;TZID=UTC:20200208T120000
DTEND;TZID=UTC:20200208T120000
DTSTAMP:20260425T213117
CREATED:20200108T005637Z
LAST-MODIFIED:20200108T005637Z
UID:952-1581163200-1581163200@theshedbarandgrille.com
SUMMARY:Michigan State vs Michigan Watch Party
DESCRIPTION:  \n\n\nMichigan State vs Michigan\n\n\nSaturday\, February 8th at 12:00 p.m.\n\n\nThe Shed Bar & Grille\n\n\n\n\n\nSpecials Include:\n\n\n\n\n\n$1 Off Drafts\n\n\n$0.50 Off Wells\n\n\nHalf Off Select Appetizers\n\n\n$3 MSU Shots\n\n\n$12 Beer Bucket (6 Domestics)\n\n\n$15 White Claw Bucket
URL:https://theshedbarandgrille.com/event/michigan-state-vs-michigan-watch-party/
LOCATION:The Shed Bar & Grille\, 11995 S Merrill Rd\, Brant\, MI\, 48614\, United States
CATEGORIES:Sports
END:VEVENT
BEGIN:VEVENT
DTSTART;TZID=UTC:20200204T200000
DTEND;TZID=UTC:20200204T200000
DTSTAMP:20260425T213117
CREATED:20200108T004926Z
LAST-MODIFIED:20200108T004926Z
UID:949-1580846400-1580846400@theshedbarandgrille.com
SUMMARY:Michigan State vs Penn State Watch Party
DESCRIPTION:  \n\n\nMichigan State vs Penn State\n\n\nTuesday\, February 4th at 8:00 p.m.\n\n\nThe Shed Bar & Grille\n\n\n\n\n\nSpecials Include:\n\n\n\n\n\n$1 Off Drafts\n\n\n$0.50 Off Wells\n\n\nHalf Off Select Appetizers\n\n\n$3 MSU Shots\n\n\n$12 Beer Bucket (6 Domestics)\n\n\n$15 White Claw Bucket
URL:https://theshedbarandgrille.com/event/michigan-state-vs-penn-state-watch-party-2/
LOCATION:The Shed Bar & Grille\, 11995 S Merrill Rd\, Brant\, MI\, 48614\, United States
CATEGORIES:Sports
END:VEVENT
BEGIN:VEVENT
DTSTART;TZID=UTC:20200204T190000
DTEND;TZID=UTC:20200204T190000
DTSTAMP:20260425T213117
CREATED:20200108T020247Z
LAST-MODIFIED:20200108T020247Z
UID:990-1580842800-1580842800@theshedbarandgrille.com
SUMMARY:Michigan vs Ohio State Watch Party
DESCRIPTION:  \n\n\nMichigan vs Ohio State\n\n\nTuesday\, February 4th at 7:00 p.m.\n\n\nThe Shed Bar & Grille\n\n\n\n\n\nSpecials Include:\n\n\n\n\n\n$1 Off Drafts\n\n\n$0.50 Off Wells\n\n\nHalf Off Select Appetizers\n\n\n$3 MSU Shots\n\n\n$12 Beer Bucket (6 Domestics)\n\n\n$15 White Claw Bucket
URL:https://theshedbarandgrille.com/event/michigan-vs-ohio-state-watch-party-2/
LOCATION:The Shed Bar & Grille\, 11995 S Merrill Rd\, Brant\, MI\, 48614\, United States
CATEGORIES:Sports
END:VEVENT
BEGIN:VEVENT
DTSTART;TZID=UTC:20200202T183000
DTEND;TZID=UTC:20200202T183000
DTSTAMP:20260425T213117
CREATED:20200123T223922Z
LAST-MODIFIED:20200123T225353Z
UID:1056-1580668200-1580668200@theshedbarandgrille.com
SUMMARY:Super Bowl Watch Party
DESCRIPTION:  \nSuper Bowl Watch Party\nThe Shed Bar & Grille\nSunday\, February 2nd at 6:30 p.m.\nSan Francisco 49ers VS Kansas City Chiefs \nFood Specials:\n• $9.95 all you can eat Fiesta Bar! Build your own nachos\, tacos\, etc.\n• $1.00 each smoked jumbo wings with your choice of sauce! 10 sauces to choose from. \nDrink Specials:\n• $9.00 domestic beer bucket\n• $12.00 premium beer bucket\n• $12.00 White Claw bucket
URL:https://theshedbarandgrille.com/event/super-bowl-watch-party/
LOCATION:The Shed Bar & Grille\, 11995 S Merrill Rd\, Brant\, MI\, 48614\, United States
CATEGORIES:Drink,Food,Sports
END:VEVENT
BEGIN:VEVENT
DTSTART;TZID=UTC:20200201T163000
DTEND;TZID=UTC:20200201T163000
DTSTAMP:20260425T213117
CREATED:20200108T015629Z
LAST-MODIFIED:20200108T015629Z
UID:987-1580574600-1580574600@theshedbarandgrille.com
SUMMARY:Michigan vs Rutgers Watch Party
DESCRIPTION:  \n\n\nMichigan vs Rutgers\n\n\nSaturday\, February 1st at 4:30 p.m.\n\n\nThe Shed Bar & Grille\n\n\n\n\n\nSpecials Include:\n\n\n\n\n\n$1 Off Drafts\n\n\n$0.50 Off Wells\n\n\nHalf Off Select Appetizers\n\n\n$3 MSU Shots\n\n\n$12 Beer Bucket (6 Domestics)\n\n\n$15 White Claw Bucket
URL:https://theshedbarandgrille.com/event/michigan-vs-rutgers-watch-party-2/
LOCATION:The Shed Bar & Grille\, 11995 S Merrill Rd\, Brant\, MI\, 48614\, United States
CATEGORIES:Sports
END:VEVENT
BEGIN:VEVENT
DTSTART;TZID=UTC:20200201T130000
DTEND;TZID=UTC:20200201T130000
DTSTAMP:20260425T213117
CREATED:20200108T004408Z
LAST-MODIFIED:20200108T004408Z
UID:947-1580562000-1580562000@theshedbarandgrille.com
SUMMARY:Michigan State vs Wisconsin Watch Party
DESCRIPTION:  \n\n\nMichigan State vs Wisconsin\n\n\nSaturday\, February 1st at 1:00 p.m.\n\n\nThe Shed Bar & Grille\n\n\n\n\n\nSpecials Include:\n\n\n\n\n\n$1 Off Drafts\n\n\n$0.50 Off Wells\n\n\nHalf Off Select Appetizers\n\n\n$3 MSU Shots\n\n\n$12 Beer Bucket (6 Domestics)\n\n\n$15 White Claw Bucket
URL:https://theshedbarandgrille.com/event/michigan-state-vs-wisconsin-watch-party-2/
LOCATION:The Shed Bar & Grille\, 11995 S Merrill Rd\, Brant\, MI\, 48614\, United States
CATEGORIES:Sports
END:VEVENT
BEGIN:VEVENT
DTSTART;TZID=UTC:20200129T183000
DTEND;TZID=UTC:20200129T183000
DTSTAMP:20260425T213117
CREATED:20200108T004003Z
LAST-MODIFIED:20200108T004003Z
UID:944-1580322600-1580322600@theshedbarandgrille.com
SUMMARY:Michigan State vs Northwestern Watch Party
DESCRIPTION:  \nMichigan State vs Northwestern\nWednesday\, January 29th at 6:30 p.m.\nThe Shed Bar & Grille \nSpecials Include: \n$1 Off Drafts\n$0.50 Off Wells\nHalf Off Select Appetizers\n$3 MSU Shots\n$12 Beer Bucket (6 Domestics)\n$15 White Claw Bucket
URL:https://theshedbarandgrille.com/event/michigan-state-vs-northwestern-watch-party-2/
LOCATION:The Shed Bar & Grille\, 11995 S Merrill Rd\, Brant\, MI\, 48614\, United States
CATEGORIES:Sports
END:VEVENT
BEGIN:VEVENT
DTSTART;TZID=UTC:20200128T190000
DTEND;TZID=UTC:20200128T190000
DTSTAMP:20260425T213117
CREATED:20200108T015229Z
LAST-MODIFIED:20200108T015229Z
UID:984-1580238000-1580238000@theshedbarandgrille.com
SUMMARY:Michigan vs Nebraska Watch Party
DESCRIPTION:  \n\n\nMichigan vs Nebraska\n\n\nTuesday\, January 28th at 7:00 p.m.\n\n\nThe Shed Bar & Grille\n\n\n\n\n\nSpecials Include:\n\n\n\n\n\n$1 Off Drafts\n\n\n$0.50 Off Wells\n\n\nHalf Off Select Appetizers\n\n\n$3 MSU Shots\n\n\n$12 Beer Bucket (6 Domestics)\n\n\n$15 White Claw Bucket
URL:https://theshedbarandgrille.com/event/michigan-vs-nebraska-watch-party/
LOCATION:The Shed Bar & Grille\, 11995 S Merrill Rd\, Brant\, MI\, 48614\, United States
CATEGORIES:Sports
END:VEVENT
BEGIN:VEVENT
DTSTART;TZID=UTC:20200126T150000
DTEND;TZID=UTC:20200126T150000
DTSTAMP:20260425T213117
CREATED:20200108T003409Z
LAST-MODIFIED:20200108T003409Z
UID:942-1580050800-1580050800@theshedbarandgrille.com
SUMMARY:Michigan State vs Minnesota Watch Party
DESCRIPTION:  \n\n\nMichigan State vs Minnesota\n\n\nSunday\, January 26th at 3:00 p.m.\n\n\nThe Shed Bar & Grille\n\n\n \n\n\nSpecials Include:\n\n\n \n\n\n$1 Off Drafts\n\n\n$0.50 Off Wells\n\n\nHalf Off Select Appetizers\n\n\n$3 MSU Shots\n\n\n$12 Beer Bucket (6 Domestics)\n\n\n$15 White Claw Bucket
URL:https://theshedbarandgrille.com/event/michigan-state-vs-minnesota-watch-party-2/
LOCATION:The Shed Bar & Grille\, 11995 S Merrill Rd\, Brant\, MI\, 48614\, United States
CATEGORIES:Sports
END:VEVENT
BEGIN:VEVENT
DTSTART;TZID=UTC:20200125T120000
DTEND;TZID=UTC:20200125T120000
DTSTAMP:20260425T213117
CREATED:20200108T014753Z
LAST-MODIFIED:20200108T014753Z
UID:981-1579953600-1579953600@theshedbarandgrille.com
SUMMARY:Michigan vs Illinois Watch Party
DESCRIPTION:  \n\n\nMichigan vs Illinois\n\n\nSaturday\, January 25th at 12:00 p.m.\n\n\nThe Shed Bar & Grille\n\n\n\n\n\nSpecials Include:\n\n\n\n\n\n$1 Off Drafts\n\n\n$0.50 Off Wells\n\n\nHalf Off Select Appetizers\n\n\n$3 MSU Shots\n\n\n$12 Beer Bucket (6 Domestics)\n\n\n$15 White Claw Bucket
URL:https://theshedbarandgrille.com/event/michigan-vs-illinois-watch-party-2/
LOCATION:The Shed Bar & Grille\, 11995 S Merrill Rd\, Brant\, MI\, 48614\, United States
CATEGORIES:Sports
END:VEVENT
BEGIN:VEVENT
DTSTART;TZID=UTC:20200123T203000
DTEND;TZID=UTC:20200123T203000
DTSTAMP:20260425T213117
CREATED:20200108T003025Z
LAST-MODIFIED:20200108T003025Z
UID:939-1579811400-1579811400@theshedbarandgrille.com
SUMMARY:Michigan State vs Indiana Watch Party
DESCRIPTION:  \n\n\nMichigan State vs Indiana\n\n\nThursday\, January 23rd at 8:30 p.m.\n\n\nThe Shed Bar & Grille\n\n\n \n\n\nSpecials Include:\n\n\n \n\n\n$1 Off Drafts\n\n\n$0.50 Off Wells\n\n\nHalf Off Select Appetizers\n\n\n$3 MSU Shots\n\n\n$12 Beer Bucket (6 Domestics)\n\n\n$15 White Claw Bucket
URL:https://theshedbarandgrille.com/event/michigan-state-vs-indiana-watch-party/
LOCATION:The Shed Bar & Grille\, 11995 S Merrill Rd\, Brant\, MI\, 48614\, United States
CATEGORIES:Sports
END:VEVENT
BEGIN:VEVENT
DTSTART;TZID=UTC:20200122T190000
DTEND;TZID=UTC:20200122T190000
DTSTAMP:20260425T213117
CREATED:20200108T014321Z
LAST-MODIFIED:20200108T014321Z
UID:978-1579719600-1579719600@theshedbarandgrille.com
SUMMARY:Michigan vs Penn State Watch Party
DESCRIPTION:  \n\n\nMichigan vs Penn State\n\n\nWednesday\, January 22nd at 7:00 p.m.\n\n\nThe Shed Bar & Grille\n\n\n\n\n\nSpecials Include:\n\n\n\n\n\n$1 Off Drafts\n\n\n$0.50 Off Wells\n\n\nHalf Off Select Appetizers\n\n\n$3 MSU Shots\n\n\n$12 Beer Bucket (6 Domestics)\n\n\n$15 White Claw Bucket
URL:https://theshedbarandgrille.com/event/michigan-vs-penn-state-watch-party-2/
LOCATION:The Shed Bar & Grille\, 11995 S Merrill Rd\, Brant\, MI\, 48614\, United States
CATEGORIES:Sports
END:VEVENT
BEGIN:VEVENT
DTSTART;TZID=UTC:20200117T210000
DTEND;TZID=UTC:20200117T210000
DTSTAMP:20260425T213117
CREATED:20200108T013759Z
LAST-MODIFIED:20200108T013759Z
UID:975-1579294800-1579294800@theshedbarandgrille.com
SUMMARY:Michigan vs Iowa Watch Party
DESCRIPTION:  \n\n\nMichigan vs Iowa\n\n\nFriday\, January 17th at 9:00 p.m.\n\n\nThe Shed Bar & Grille\n\n\n\n\n\nSpecials Include:\n\n\n\n\n\n$1 Off Drafts\n\n\n$0.50 Off Wells\n\n\nHalf Off Select Appetizers\n\n\n$3 MSU Shots\n\n\n$12 Beer Bucket (6 Domestics)\n\n\n$15 White Claw Bucket
URL:https://theshedbarandgrille.com/event/michigan-vs-iowa-watch-party-2/
LOCATION:The Shed Bar & Grille\, 11995 S Merrill Rd\, Brant\, MI\, 48614\, United States
CATEGORIES:Sports
END:VEVENT
BEGIN:VEVENT
DTSTART;TZID=UTC:20200117T190000
DTEND;TZID=UTC:20200117T190000
DTSTAMP:20260425T213117
CREATED:20200108T002334Z
LAST-MODIFIED:20200108T002334Z
UID:936-1579287600-1579287600@theshedbarandgrille.com
SUMMARY:Michigan State vs Wisconsin Watch Party
DESCRIPTION:  \n\n\nMichigan State vs Wisconsin\n\n\nFriday\, January 17th at 7:00 p.m.\n\n\nThe Shed Bar & Grille\n\n\n \n\n\nSpecials Include:\n\n\n \n\n\n$1 Off Drafts\n\n\n$0.50 Off Wells\n\n\nHalf Off Select Appetizers\n\n\n$3 MSU Shots\n\n\n$12 Beer Bucket (6 Domestics)\n\n\n$15 White Claw Bucket
URL:https://theshedbarandgrille.com/event/michigan-state-vs-wisconsin-watch-party/
LOCATION:The Shed Bar & Grille\, 11995 S Merrill Rd\, Brant\, MI\, 48614\, United States
CATEGORIES:Sports
END:VEVENT
BEGIN:VEVENT
DTSTART;TZID=UTC:20200112T130000
DTEND;TZID=UTC:20200112T130000
DTSTAMP:20260425T213117
CREATED:20200108T013333Z
LAST-MODIFIED:20200108T013333Z
UID:972-1578834000-1578834000@theshedbarandgrille.com
SUMMARY:Michigan vs Minnesota Watch Party
DESCRIPTION:  \n\n\nMichigan vs Minnesota\n\n\nSunday\, January 12th at 1:00 p.m.\n\n\nThe Shed Bar & Grille\n\n\n\n\n\nSpecials Include:\n\n\n\n\n\n$1 Off Drafts\n\n\n$0.50 Off Wells\n\n\nHalf Off Select Appetizers\n\n\n$3 MSU Shots\n\n\n$12 Beer Bucket (6 Domestics)\n\n\n$15 White Claw Bucket
URL:https://theshedbarandgrille.com/event/michigan-vs-minnesota-watch-party/
LOCATION:The Shed Bar & Grille\, 11995 S Merrill Rd\, Brant\, MI\, 48614\, United States
CATEGORIES:Sports
END:VEVENT
BEGIN:VEVENT
DTSTART;TZID=UTC:20200112T120000
DTEND;TZID=UTC:20200112T120000
DTSTAMP:20260425T213117
CREATED:20200108T001730Z
LAST-MODIFIED:20200108T001730Z
UID:933-1578830400-1578830400@theshedbarandgrille.com
SUMMARY:Michigan State vs Purdue Watch Party
DESCRIPTION:  \n\n\nMichigan State vs Purdue\n\n\n\nSunday\, January 12th at 12:00 p.m.\n\n\nThe Shed Bar & Grille\n\n\n \n\n\nSpecials Include:\n\n\n \n\n\n$1 Off Drafts\n\n\n$0.50 Off Wells\n\n\nHalf Off Select Appetizers\n\n\n$3 MSU Shots\n\n\n$12 Beer Bucket (6 Domestics)\n\n\n$15 White Claw Bucket
URL:https://theshedbarandgrille.com/event/michigan-state-vs-purdue-watch-party/
LOCATION:The Shed Bar & Grille\, 11995 S Merrill Rd\, Brant\, MI\, 48614\, United States
CATEGORIES:Sports
END:VEVENT
BEGIN:VEVENT
DTSTART;TZID=UTC:20200109T210000
DTEND;TZID=UTC:20200109T210000
DTSTAMP:20260425T213117
CREATED:20200108T000807Z
LAST-MODIFIED:20200108T000807Z
UID:930-1578603600-1578603600@theshedbarandgrille.com
SUMMARY:Michigan State vs Minnesota Watch Party
DESCRIPTION:  \n\n\nMichigan State vs Minnesota\n\n\nThursday\, January 9th at 9:00 p.m.\n\n\nThe Shed Bar & Grille\n\n\n \n\n\nSpecials Include:\n\n\n \n\n\n$1 Off Drafts\n\n\n$0.50 Off Wells\n\n\nHalf Off Select Appetizers\n\n\n$3 MSU Shots\n\n\n$12 Beer Bucket (6 Domestics)\n\n\n$15 White Claw Bucket
URL:https://theshedbarandgrille.com/event/michigan-state-vs-minnesota-watch-party/
LOCATION:The Shed Bar & Grille\, 11995 S Merrill Rd\, Brant\, MI\, 48614\, United States
CATEGORIES:Sports
END:VEVENT
BEGIN:VEVENT
DTSTART;TZID=UTC:20200109T190000
DTEND;TZID=UTC:20200109T190000
DTSTAMP:20260425T213117
CREATED:20200108T012754Z
LAST-MODIFIED:20200108T012754Z
UID:969-1578596400-1578596400@theshedbarandgrille.com
SUMMARY:Michigan vs Purdue Watch Party
DESCRIPTION:Michigan vs Purdue\n\n\nThursday\, January 9th at 7:00 p.m.\n\n\nThe Shed Bar & Grille\n\n\n\n\n\nSpecials Include:\n\n\n\n\n\n$1 Off Drafts\n\n\n$0.50 Off Wells\n\n\nHalf Off Select Appetizers\n\n\n$3 MSU Shots\n\n\n$12 Beer Bucket (6 Domestics)\n\n\n$15 White Claw Bucket
URL:https://theshedbarandgrille.com/event/michigan-vs-purdue-watch-party/
LOCATION:The Shed Bar & Grille\, 11995 S Merrill Rd\, Brant\, MI\, 48614\, United States
CATEGORIES:Sports
END:VEVENT
BEGIN:VEVENT
DTSTART;TZID=UTC:20191130T153000
DTEND;TZID=UTC:20191130T235900
DTSTAMP:20260425T213117
CREATED:20190910T015650Z
LAST-MODIFIED:20191121T034753Z
UID:577-1575127800-1575158340@theshedbarandgrille.com
SUMMARY:Michigan State vs Maryland Watch Party
DESCRIPTION:  \n\n\nMichigan State vs Maryland\n\n\nSaturday\, November 30th at 3:30 p.m.\n\n\n\nThe Shed Bar & Grille\n\n\n \n\n\nSpecials Include:\n\n\n \n\n\n$1 Off Drafts\n\n\n$0.50 Off Wells\n\n\nHalf Off Select Appetizers\n\n\n$3 Michigan & MSU Shots\n\n\n$12 Beer Bucket (6 Domestics)\n\n\n$15 White Claw Bucket
URL:https://theshedbarandgrille.com/event/michigan-state-vs-maryland-watch-party/
LOCATION:The Shed Bar & Grille\, 11995 S Merrill Rd\, Brant\, MI\, 48614\, United States
CATEGORIES:Sports
END:VEVENT
BEGIN:VEVENT
DTSTART;TZID=UTC:20191130T120000
DTEND;TZID=UTC:20191130T235900
DTSTAMP:20260425T213117
CREATED:20190910T024059Z
LAST-MODIFIED:20190910T024059Z
UID:604-1575115200-1575158340@theshedbarandgrille.com
SUMMARY:Michigan vs Ohio State Watch Party
DESCRIPTION:  \n\n\nMichigan vs Ohio State\n\n\nSaturday\, November 30th at 12:00 p.m.\n\n\nThe Shed Bar & Grille\n\n\n \n\n\nSpecials Include:\n\n\n \n\n\n$1 Off Drafts\n\n\n$0.50 Off Wells\n\n\nHalf Off Select Appetizers\n\n\n$3 Michigan & MSU Shots\n\n\n$12 Beer Bucket (6 Domestics)\n\n\n$15 White Claw Bucket
URL:https://theshedbarandgrille.com/event/michigan-vs-ohio-state-watch-party/
LOCATION:The Shed Bar & Grille\, 11995 S Merrill Rd\, Brant\, MI\, 48614\, United States
CATEGORIES:Sports
END:VEVENT
BEGIN:VEVENT
DTSTART;TZID=UTC:20191123T190000
DTEND;TZID=UTC:20191123T235900
DTSTAMP:20260425T213117
CREATED:20191029T234645Z
LAST-MODIFIED:20191122T130420Z
UID:823-1574535600-1574553540@theshedbarandgrille.com
SUMMARY:Buck Pole Awards
DESCRIPTION:  \nThe Shed Bar & Grille Buck Pole Awards \nSaturday\, November 23rd at 7:00 p.m. \n  \nJoin us as we award the winners of our Buck Pole! All are encouraged to attend and we will have hunting items that will be raffled off. Come out for dinner\, drinks and fun! Buck Pole participants must be present to claim their prize. \n\nTHANK TO OUR SPONSORS\n \nMarion Springs General Store \nDefinitive Skull Works \nMarion Springs Conservation Club \nLewis Technical Industries \nNate’s Auto Body of Ovid \nSLF Air\, Bannister \nTaylor Repair of Elsie \nKirby’s Auto Body of Bannister \nEssex & Sons Construction LLC \nB & B Tax & Financial Services of Ovid \nThe Main Bar of Ovid \nJim’s Deer Processing of Bannister \nBurton Corners of Owosso \nNext Level Tile of St. Johns \nBare’s Sport Shop of St. Charles \nCountry Spice Catering \nWildlife Creations \nElsie Market \nWilliams Heating & Cooling
URL:https://theshedbarandgrille.com/event/buck-pole-awards/
LOCATION:The Shed Bar & Grille\, 11995 S Merrill Rd\, Brant\, MI\, 48614\, United States
CATEGORIES:Hunting,Sports
END:VEVENT
END:VCALENDAR