BEGIN:VCALENDAR
VERSION:2.0
PRODID:-//The Shed Bar &amp; Grille - ECPv6.15.20//NONSGML v1.0//EN
CALSCALE:GREGORIAN
METHOD:PUBLISH
X-ORIGINAL-URL:https://theshedbarandgrille.com
X-WR-CALDESC:Events for The Shed Bar &amp; Grille
REFRESH-INTERVAL;VALUE=DURATION:PT1H
X-Robots-Tag:noindex
X-PUBLISHED-TTL:PT1H
BEGIN:VTIMEZONE
TZID:UTC
BEGIN:STANDARD
TZOFFSETFROM:+0000
TZOFFSETTO:+0000
TZNAME:UTC
DTSTART:20180101T000000
END:STANDARD
END:VTIMEZONE
BEGIN:VEVENT
DTSTART;TZID=UTC:20200312T170000
DTEND;TZID=UTC:20200312T183000
DTSTAMP:20260425T172433
CREATED:20200304T194020Z
LAST-MODIFIED:20200304T194020Z
UID:1516-1584032400-1584037800@theshedbarandgrille.com
SUMMARY:Club Keno Party
DESCRIPTION:  \nClub Keno Party from 5:00 p.m. – 6:30 p.m. There will be giveaways and drawings! \nThirsty Thursday specials include:\n• $1 domestic beers\n• $2 premium beers\n• $1 off 22oz frosted mug drafts\n• 50¢ off wells\n• $12 domestic beer buckets\n• $15 White Claw & premium beer buckets
URL:https://theshedbarandgrille.com/event/club-keno-party/
LOCATION:The Shed Bar & Grille\, 11995 S Merrill Rd\, Brant\, MI\, 48614\, United States
CATEGORIES:Party
END:VEVENT
BEGIN:VEVENT
DTSTART;TZID=UTC:20191231T210000
DTEND;TZID=UTC:20200101T010000
DTSTAMP:20260425T172433
CREATED:20191211T005918Z
LAST-MODIFIED:20191211T011104Z
UID:917-1577826000-1577840400@theshedbarandgrille.com
SUMMARY:New Year's Eve Party
DESCRIPTION:  \nRing in the New Year at The Shed Bar & Grille on Tuesday\, December 31st! Backlash will be playing your favorite hits from 9:00 p.m. – 1:00 a.m. (original music). \n  \nChoose from 3 dinner options: \n• $12.95 smothered chicken dinner \n• $14.95 queen smoked prime rib dinner \n• $16.95 king smoked prime rib dinner \n*All dinner options include your choice of potato\, vegetable\, roll\, dessert and a side. Dinners also include a champagne toast at midnight. \n  \nCall 989-643-7469 to make your reservation today! \n  \n*Must be 21+ after 9:00 p.m.
URL:https://theshedbarandgrille.com/event/new-years-eve-party/
LOCATION:The Shed Bar & Grille\, 11995 S Merrill Rd\, Brant\, MI\, 48614\, United States
CATEGORIES:Band,Drink,Food,Holiday,Music,Party
END:VEVENT
BEGIN:VEVENT
DTSTART;TZID=UTC:20191127T210000
DTEND;TZID=UTC:20191128T020000
DTSTAMP:20260425T172433
CREATED:20191113T015906Z
LAST-MODIFIED:20191113T015906Z
UID:867-1574888400-1574906400@theshedbarandgrille.com
SUMMARY:Biggest Bar Night of The Year!
DESCRIPTION:  \nJoin us for the biggest bar night of the year on Thanksgiving Eve\, November 27th! Former lead singer of The Squids Band\, Jim Pontack\, will be playing and singing all of your favorite tunes from 9:00 p.m. – 1:00 a.m. Come eat\, drink\, sing and dance! \nMust be 21+ after 9:00 p.m.\n*Original Music
URL:https://theshedbarandgrille.com/event/biggest-bar-night-of-the-year/
LOCATION:The Shed Bar & Grille\, 11995 S Merrill Rd\, Brant\, MI\, 48614\, United States
CATEGORIES:Band,Holiday,Party
END:VEVENT
END:VCALENDAR