BEGIN:VCALENDAR
VERSION:2.0
PRODID:-//The Shed Bar &amp; Grille - ECPv6.15.20//NONSGML v1.0//EN
CALSCALE:GREGORIAN
METHOD:PUBLISH
X-WR-CALNAME:The Shed Bar &amp; Grille
X-ORIGINAL-URL:https://theshedbarandgrille.com
X-WR-CALDESC:Events for The Shed Bar &amp; Grille
REFRESH-INTERVAL;VALUE=DURATION:PT1H
X-Robots-Tag:noindex
X-PUBLISHED-TTL:PT1H
BEGIN:VTIMEZONE
TZID:UTC
BEGIN:STANDARD
TZOFFSETFROM:+0000
TZOFFSETTO:+0000
TZNAME:UTC
DTSTART:20230101T000000
END:STANDARD
END:VTIMEZONE
BEGIN:VEVENT
DTSTART;TZID=UTC:20250316T140000
DTEND;TZID=UTC:20250316T170000
DTSTAMP:20260425T212048
CREATED:20250224T233610Z
LAST-MODIFIED:20250224T233610Z
UID:8884-1742133600-1742144400@theshedbarandgrille.com
SUMMARY:St. Patrick's Weekend
DESCRIPTION:  \nWear your green to The Shed Bar & Grille and celebrate St. Patrick’s Weekend with us! \n🎶 Tweed & Dixie playing Saturday\, March 15th from 8:30pm – 12:30am \n🎶 The Lawsons playing Sunday\, March 16th from 2pm – 5pm \n🍽️ Corned Beef & Cabbage Dinner available both days \n🍻 Green Beer + Drink Specials
URL:https://theshedbarandgrille.com/event/st-patricks-weekend-3/
LOCATION:The Shed Bar & Grille\, 11995 S Merrill Rd\, Brant\, MI\, 48614\, United States
CATEGORIES:Band,Drink,Food,Holiday,Music
END:VEVENT
BEGIN:VEVENT
DTSTART;TZID=UTC:20250315T203000
DTEND;TZID=UTC:20250315T203000
DTSTAMP:20260425T212048
CREATED:20250224T233502Z
LAST-MODIFIED:20250224T233502Z
UID:8880-1742070600-1742070600@theshedbarandgrille.com
SUMMARY:St. Patrick's Weekend
DESCRIPTION:  \nWear your green to The Shed Bar & Grille and celebrate St. Patrick’s Weekend with us! \n🎶 Tweed & Dixie playing Saturday\, March 15th from 8:30pm – 12:30am \n🎶 The Lawsons playing Sunday\, March 16th from 2pm – 5pm \n🍽️ Corned Beef & Cabbage Dinner available both days \n🍻 Green Beer + Drink Specials
URL:https://theshedbarandgrille.com/event/st-patricks-weekend-2/
LOCATION:The Shed Bar & Grille\, 11995 S Merrill Rd\, Brant\, MI\, 48614\, United States
CATEGORIES:Band,Drink,Food,Holiday,Music
END:VEVENT
BEGIN:VEVENT
DTSTART;TZID=UTC:20250309T140000
DTEND;TZID=UTC:20250309T170000
DTSTAMP:20260425T212048
CREATED:20250224T232634Z
LAST-MODIFIED:20250224T232634Z
UID:8877-1741528800-1741539600@theshedbarandgrille.com
SUMMARY:John Howard of Rebel Line
DESCRIPTION:  \nJohn Howard of Rebel Line is playing 80’s and 90’s Country on Sunday\, March 9th 2pm – 5pm!
URL:https://theshedbarandgrille.com/event/john-howard-of-rebel-line/
LOCATION:The Shed Bar & Grille\, 11995 S Merrill Rd\, Brant\, MI\, 48614\, United States
CATEGORIES:Band,Music
END:VEVENT
BEGIN:VEVENT
DTSTART;TZID=UTC:20250308T203000
DTEND;TZID=UTC:20250308T203000
DTSTAMP:20260425T212048
CREATED:20250224T231311Z
LAST-MODIFIED:20250224T231311Z
UID:8873-1741465800-1741465800@theshedbarandgrille.com
SUMMARY:Live Music With Cash O’Riley
DESCRIPTION:  \nCash O’Riley is playing The Shed on Saturday\, March 8th at 8:30pm – 12:30am!
URL:https://theshedbarandgrille.com/event/live-music-with-cash-oriley-2/
LOCATION:The Shed Bar & Grille\, 11995 S Merrill Rd\, Brant\, MI\, 48614\, United States
CATEGORIES:Band,Music
END:VEVENT
BEGIN:VEVENT
DTSTART;TZID=UTC:20250302T140000
DTEND;TZID=UTC:20250302T170000
DTSTAMP:20260425T212048
CREATED:20250224T230520Z
LAST-MODIFIED:20250224T230520Z
UID:8871-1740924000-1740934800@theshedbarandgrille.com
SUMMARY:Sunday Funday: Mixed Nutz Variety Band
DESCRIPTION:  \nSunday Funday with Mixed Nutz \n1st Sunday of every month! \nPlaying 2:00PM – 5:00PM
URL:https://theshedbarandgrille.com/event/sunday-funday-mixed-nutz-variety-band-13/
LOCATION:The Shed Bar & Grille\, 11995 S Merrill Rd\, Brant\, MI\, 48614\, United States
CATEGORIES:Band,Music
END:VEVENT
BEGIN:VEVENT
DTSTART;TZID=UTC:20250301T203000
DTEND;TZID=UTC:20250301T203000
DTSTAMP:20260425T212048
CREATED:20250113T182308Z
LAST-MODIFIED:20250224T230403Z
UID:8743-1740861000-1740861000@theshedbarandgrille.com
SUMMARY:DoubleShot Band
DESCRIPTION:  \nCome out to The Shed Bar & Grille for live entertainment with DoubleShot! They’ll be performing from 8:30pm – 12:30am on Saturday\, March 1st.
URL:https://theshedbarandgrille.com/event/live-music-with-timeless-2/
LOCATION:The Shed Bar & Grille\, 11995 S Merrill Rd\, Brant\, MI\, 48614\, United States
CATEGORIES:Band,Music
END:VEVENT
BEGIN:VEVENT
DTSTART;TZID=UTC:20250223T140000
DTEND;TZID=UTC:20250223T170000
DTSTAMP:20260425T212048
CREATED:20250113T181800Z
LAST-MODIFIED:20250123T185158Z
UID:8740-1740319200-1740330000@theshedbarandgrille.com
SUMMARY:The Lawsons Playing The Shed
DESCRIPTION:  \n\nJoin The Lawsons for live music on Sunday\, February 23rd from 2:00pm – 5:00pm!
URL:https://theshedbarandgrille.com/event/kountry-klass-variety-band-14/
LOCATION:The Shed Bar & Grille\, 11995 S Merrill Rd\, Brant\, MI\, 48614\, United States
CATEGORIES:Band,Music
END:VEVENT
BEGIN:VEVENT
DTSTART;TZID=UTC:20250222T203000
DTEND;TZID=UTC:20250222T203000
DTSTAMP:20260425T212048
CREATED:20250113T181004Z
LAST-MODIFIED:20250123T191604Z
UID:8737-1740256200-1740256200@theshedbarandgrille.com
SUMMARY:Alibi Band Returns To The Shed
DESCRIPTION:  \nAlibi returns to The Shed on Saturday\, February 22nd to play from 8:30pm – 12:30am!
URL:https://theshedbarandgrille.com/event/rebel-line-playing-the-shed-4/
LOCATION:The Shed Bar & Grille\, 11995 S Merrill Rd\, Brant\, MI\, 48614\, United States
CATEGORIES:Band,Music
END:VEVENT
BEGIN:VEVENT
DTSTART;TZID=UTC:20250216T140000
DTEND;TZID=UTC:20250216T170000
DTSTAMP:20260425T212048
CREATED:20250113T175345Z
LAST-MODIFIED:20250123T185857Z
UID:8731-1739714400-1739725200@theshedbarandgrille.com
SUMMARY:Andrew Moulton Playing The Shed
DESCRIPTION:  \nAndrew Moulton is playing at The Shed Bar & Grille from 2pm – 5pm on Sunday\, February 16th!
URL:https://theshedbarandgrille.com/event/barry-forster-of-tweed-dixie-acoustic-show-3/
LOCATION:The Shed Bar & Grille\, 11995 S Merrill Rd\, Brant\, MI\, 48614\, United States
CATEGORIES:Band,Music
END:VEVENT
BEGIN:VEVENT
DTSTART;TZID=UTC:20250215T203000
DTEND;TZID=UTC:20250215T203000
DTSTAMP:20260425T212048
CREATED:20250113T180522Z
LAST-MODIFIED:20250113T180522Z
UID:8734-1739651400-1739651400@theshedbarandgrille.com
SUMMARY:Another Shot & Les-Egos Band
DESCRIPTION:  \nJoin Another Shot & Les-Egos Band for live music at The Shed on Saturday\, February 15th at 8:30pm!
URL:https://theshedbarandgrille.com/event/another-shot-les-egos-band-2/
LOCATION:The Shed Bar & Grille\, 11995 S Merrill Rd\, Brant\, MI\, 48614\, United States
CATEGORIES:Band,Music
END:VEVENT
BEGIN:VEVENT
DTSTART;TZID=UTC:20250209T140000
DTEND;TZID=UTC:20250209T170000
DTSTAMP:20260425T212048
CREATED:20250113T183125Z
LAST-MODIFIED:20250113T183125Z
UID:8746-1739109600-1739120400@theshedbarandgrille.com
SUMMARY:Live Music With Andy Braun
DESCRIPTION:  \nAndy Braun is playing 2pm-5pm for Sunday Funday on February 9th!
URL:https://theshedbarandgrille.com/event/live-music-with-andy-braun/
LOCATION:The Shed Bar & Grille\, 11995 S Merrill Rd\, Brant\, MI\, 48614\, United States
CATEGORIES:Band,Music
END:VEVENT
BEGIN:VEVENT
DTSTART;TZID=UTC:20250208T203000
DTEND;TZID=UTC:20250208T203000
DTSTAMP:20260425T212048
CREATED:20250113T172101Z
LAST-MODIFIED:20250113T172101Z
UID:8728-1739046600-1739046600@theshedbarandgrille.com
SUMMARY:Keegan Jacko LIVE At The Shed
DESCRIPTION:  \nNashville music artist\, Keegan Jacko\, is playing The Shed on Saturday\, February 8th from 8:30pm – 12:30am!
URL:https://theshedbarandgrille.com/event/keegan-jacko-live-at-the-shed-9/
LOCATION:The Shed Bar & Grille\, 11995 S Merrill Rd\, Brant\, MI\, 48614\, United States
CATEGORIES:Band,Music
END:VEVENT
BEGIN:VEVENT
DTSTART;TZID=UTC:20250202T140000
DTEND;TZID=UTC:20250202T170000
DTSTAMP:20260425T212048
CREATED:20241230T233227Z
LAST-MODIFIED:20241230T233227Z
UID:8657-1738504800-1738515600@theshedbarandgrille.com
SUMMARY:Sunday Funday: Mixed Nutz Variety Band
DESCRIPTION:  \nSunday Funday with Mixed Nutz \n1st Sunday of every month! \nPlaying 2:00PM – 5:00PM
URL:https://theshedbarandgrille.com/event/sunday-funday-mixed-nutz-variety-band-12/
LOCATION:The Shed Bar & Grille\, 11995 S Merrill Rd\, Brant\, MI\, 48614\, United States
CATEGORIES:Band,Music
END:VEVENT
BEGIN:VEVENT
DTSTART;TZID=UTC:20250201T203000
DTEND;TZID=UTC:20250201T203000
DTSTAMP:20260425T212048
CREATED:20241230T235339Z
LAST-MODIFIED:20241230T235339Z
UID:8676-1738441800-1738441800@theshedbarandgrille.com
SUMMARY:DJ Music & Karaoke
DESCRIPTION:  \nImpact Sound Entertainment returns with DJ music and karaoke Saturday\, February 1st from 8:30pm – 12:30am!
URL:https://theshedbarandgrille.com/event/dj-music-karaoke-2/
LOCATION:The Shed Bar & Grille\, 11995 S Merrill Rd\, Brant\, MI\, 48614\, United States
CATEGORIES:Music
END:VEVENT
BEGIN:VEVENT
DTSTART;TZID=UTC:20250126T140000
DTEND;TZID=UTC:20250126T170000
DTSTAMP:20260425T212048
CREATED:20241230T235103Z
LAST-MODIFIED:20241230T235103Z
UID:8674-1737900000-1737910800@theshedbarandgrille.com
SUMMARY:Scott Peterson Playing The Shed
DESCRIPTION:  \nScott Peterson will be playing Sunday Funday on January 26th from 2pm – 5pm!
URL:https://theshedbarandgrille.com/event/scott-peterson-playing-the-shed-4/
LOCATION:The Shed Bar & Grille\, 11995 S Merrill Rd\, Brant\, MI\, 48614\, United States
CATEGORIES:Band,Music
END:VEVENT
BEGIN:VEVENT
DTSTART;TZID=UTC:20250125T203000
DTEND;TZID=UTC:20250125T203000
DTSTAMP:20260425T212048
CREATED:20241230T234946Z
LAST-MODIFIED:20241230T234946Z
UID:8671-1737837000-1737837000@theshedbarandgrille.com
SUMMARY:Barry Forster of Tweed & Dixie (NEW SHOW)
DESCRIPTION:  \nBarry Forster of Tweed & Dixie will be playing a new show at The Shed Bar & Grille from 8:30pm – 12:30am on Saturday\, January 25th!
URL:https://theshedbarandgrille.com/event/barry-forster-of-tweed-dixie-new-show-2/
LOCATION:The Shed Bar & Grille\, 11995 S Merrill Rd\, Brant\, MI\, 48614\, United States
CATEGORIES:Band,Music
END:VEVENT
BEGIN:VEVENT
DTSTART;TZID=UTC:20250119T140000
DTEND;TZID=UTC:20250119T170000
DTSTAMP:20260425T212048
CREATED:20241230T234612Z
LAST-MODIFIED:20241230T234612Z
UID:8668-1737295200-1737306000@theshedbarandgrille.com
SUMMARY:Live Music With Blue Sky
DESCRIPTION:  \nBlue Sky will be playing Sunday Funday on January 19th from 2pm – 5pm!
URL:https://theshedbarandgrille.com/event/live-music-with-blue-sky-2/
LOCATION:The Shed Bar & Grille\, 11995 S Merrill Rd\, Brant\, MI\, 48614\, United States
CATEGORIES:Band,Music
END:VEVENT
BEGIN:VEVENT
DTSTART;TZID=UTC:20250118T203000
DTEND;TZID=UTC:20250118T203000
DTSTAMP:20260425T212048
CREATED:20241230T234251Z
LAST-MODIFIED:20241230T234251Z
UID:8665-1737232200-1737232200@theshedbarandgrille.com
SUMMARY:Almost Famous Duo
DESCRIPTION:  \nEnjoy an evening of live acoustic music by Jay & Amy 8:30pm – 12:30am!
URL:https://theshedbarandgrille.com/event/almost-famous-duo-9/
LOCATION:The Shed Bar & Grille\, 11995 S Merrill Rd\, Brant\, MI\, 48614\, United States
CATEGORIES:Band,Music
END:VEVENT
BEGIN:VEVENT
DTSTART;TZID=UTC:20250112T140000
DTEND;TZID=UTC:20250112T170000
DTSTAMP:20260425T212048
CREATED:20241230T233953Z
LAST-MODIFIED:20241230T233953Z
UID:8662-1736690400-1736701200@theshedbarandgrille.com
SUMMARY:Barry Forster of Tweed & Dixie (ACOUSTIC SHOW)
DESCRIPTION:  \nBarry Forster of Tweed & Dixie will be playing his standard acoustic show at The Shed Bar & Grille from 2pm – 5pm on Sunday\, January 12th!
URL:https://theshedbarandgrille.com/event/barry-forster-of-tweed-dixie-acoustic-show-2/
LOCATION:The Shed Bar & Grille\, 11995 S Merrill Rd\, Brant\, MI\, 48614\, United States
CATEGORIES:Band,Music
END:VEVENT
BEGIN:VEVENT
DTSTART;TZID=UTC:20250111T203000
DTEND;TZID=UTC:20250111T203000
DTSTAMP:20260425T212048
CREATED:20241230T233550Z
LAST-MODIFIED:20241230T233550Z
UID:8659-1736627400-1736627400@theshedbarandgrille.com
SUMMARY:Alibi Playing The Shed
DESCRIPTION:  \nAlibi is playing The Shed on Saturday\, January 11th from 8:30pm – 12:30am!
URL:https://theshedbarandgrille.com/event/alibi-playing-the-shed/
LOCATION:The Shed Bar & Grille\, 11995 S Merrill Rd\, Brant\, MI\, 48614\, United States
CATEGORIES:Band,Music
END:VEVENT
BEGIN:VEVENT
DTSTART;TZID=UTC:20250105T140000
DTEND;TZID=UTC:20250105T170000
DTSTAMP:20260425T212048
CREATED:20241230T233139Z
LAST-MODIFIED:20241230T233139Z
UID:8655-1736085600-1736096400@theshedbarandgrille.com
SUMMARY:Sunday Funday: Mixed Nutz Variety Band
DESCRIPTION:  \nSunday Funday with Mixed Nutz \n1st Sunday of every month! \nPlaying 2:00PM – 5:00PM
URL:https://theshedbarandgrille.com/event/sunday-funday-mixed-nutz-variety-band-11/
LOCATION:The Shed Bar & Grille\, 11995 S Merrill Rd\, Brant\, MI\, 48614\, United States
CATEGORIES:Band,Holiday,Hunting,Huntington,Music,Party
END:VEVENT
BEGIN:VEVENT
DTSTART;TZID=UTC:20250104T203000
DTEND;TZID=UTC:20250104T203000
DTSTAMP:20260425T212048
CREATED:20241230T233033Z
LAST-MODIFIED:20241230T233033Z
UID:8651-1736022600-1736022600@theshedbarandgrille.com
SUMMARY:CJ Ford Plays The Shed
DESCRIPTION:  \nDon’t miss CJ Ford play The Shed on Saturday\, January 4th from 8:30pm – 12:30am!
URL:https://theshedbarandgrille.com/event/cj-ford-plays-the-shed-4/
LOCATION:The Shed Bar & Grille\, 11995 S Merrill Rd\, Brant\, MI\, 48614\, United States
CATEGORIES:Band,Holiday,Hunting,Huntington,Music,Party
END:VEVENT
BEGIN:VEVENT
DTSTART;TZID=UTC:20241130T203000
DTEND;TZID=UTC:20241130T203000
DTSTAMP:20260425T212048
CREATED:20241029T003642Z
LAST-MODIFIED:20241029T003642Z
UID:8459-1732998600-1732998600@theshedbarandgrille.com
SUMMARY:CJ Ford Plays The Shed
DESCRIPTION:  \nDon’t miss CJ Ford play The Shed on Saturday\, May 25th from 8:30pm – 12:30am!
URL:https://theshedbarandgrille.com/event/cj-ford-plays-the-shed-3/
LOCATION:The Shed Bar & Grille\, 11995 S Merrill Rd\, Brant\, MI\, 48614\, United States
CATEGORIES:Band,Music
END:VEVENT
BEGIN:VEVENT
DTSTART;TZID=UTC:20241127T203000
DTEND;TZID=UTC:20241127T203000
DTSTAMP:20260425T212048
CREATED:20241029T003341Z
LAST-MODIFIED:20241029T003341Z
UID:8455-1732739400-1732739400@theshedbarandgrille.com
SUMMARY:Thanksgiving Eve 2024
DESCRIPTION:  \nJoin us for the biggest bar night of the year on Thanksgiving Eve\, November 27th! The Loaner Project will be playing live music from 8:30 p.m. – 12:30 a.m. Come eat\, drink\, sing and dance! \nMust be 21+ after 9:00 p.m.
URL:https://theshedbarandgrille.com/event/thanksgiving-eve-2024/
LOCATION:The Shed Bar & Grille\, 11995 S Merrill Rd\, Brant\, MI\, 48614\, United States
CATEGORIES:Band,Holiday,Music
END:VEVENT
BEGIN:VEVENT
DTSTART;TZID=UTC:20241124T140000
DTEND;TZID=UTC:20241124T170000
DTSTAMP:20260425T212048
CREATED:20241029T002704Z
LAST-MODIFIED:20241029T002704Z
UID:8452-1732456800-1732467600@theshedbarandgrille.com
SUMMARY:Kountry Klass Variety Band
DESCRIPTION:  \n\nKountry Klass Variety Band is playing a mix of your favorite tunes on Sunday\, November 24th from 2:00pm – 5:00pm!
URL:https://theshedbarandgrille.com/event/kountry-klass-variety-band-13/
LOCATION:The Shed Bar & Grille\, 11995 S Merrill Rd\, Brant\, MI\, 48614\, United States
CATEGORIES:Band,Music
END:VEVENT
BEGIN:VEVENT
DTSTART;TZID=UTC:20241117T140000
DTEND;TZID=UTC:20241117T170000
DTSTAMP:20260425T212048
CREATED:20241029T002506Z
LAST-MODIFIED:20241029T002506Z
UID:8449-1731852000-1731862800@theshedbarandgrille.com
SUMMARY:Barry Clevenger of Rebel Line
DESCRIPTION:  \nBarry Clevenger of Rebel Line will be playing Sunday Funday on November 17th from 2pm – 5pm!
URL:https://theshedbarandgrille.com/event/barry-clevenger-of-rebel-line-3/
LOCATION:The Shed Bar & Grille\, 11995 S Merrill Rd\, Brant\, MI\, 48614\, United States
CATEGORIES:Band,Music
END:VEVENT
BEGIN:VEVENT
DTSTART;TZID=UTC:20241110T140000
DTEND;TZID=UTC:20241110T170000
DTSTAMP:20260425T212048
CREATED:20241029T001026Z
LAST-MODIFIED:20241029T001026Z
UID:8440-1731247200-1731258000@theshedbarandgrille.com
SUMMARY:Barry Forster of Tweed & Dixie (ACOUSTIC SHOW)
DESCRIPTION:  \nBarry Forster of Tweed & Dixie will be playing his standard acoustic show at The Shed Bar & Grille from 2pm – 5pm on Sunday\, November 10th!
URL:https://theshedbarandgrille.com/event/barry-forster-of-tweed-dixie-acoustic-show/
LOCATION:The Shed Bar & Grille\, 11995 S Merrill Rd\, Brant\, MI\, 48614\, United States
CATEGORIES:Band,Music
END:VEVENT
BEGIN:VEVENT
DTSTART;TZID=UTC:20241109T203000
DTEND;TZID=UTC:20241109T203000
DTSTAMP:20260425T212048
CREATED:20241029T000800Z
LAST-MODIFIED:20241029T000800Z
UID:8437-1731184200-1731184200@theshedbarandgrille.com
SUMMARY:Rebel Line Playing The Shed
DESCRIPTION:  \nRebel Line returns to The Shed on Saturday\, November 9th to play past and modern country music with a mix of rock from 8:30pm – 12:30am!
URL:https://theshedbarandgrille.com/event/rebel-line-playing-the-shed-3/
LOCATION:The Shed Bar & Grille\, 11995 S Merrill Rd\, Brant\, MI\, 48614\, United States
CATEGORIES:Band,Music
END:VEVENT
BEGIN:VEVENT
DTSTART;TZID=UTC:20241103T140000
DTEND;TZID=UTC:20241103T170000
DTSTAMP:20260425T212048
CREATED:20241029T000414Z
LAST-MODIFIED:20241029T000414Z
UID:8435-1730642400-1730653200@theshedbarandgrille.com
SUMMARY:Sunday Funday: Mixed Nutz Variety Band
DESCRIPTION:  \nSunday Funday with Mixed Nutz \n1st Sunday of every month! \nPlaying 2:00PM – 5:00PM
URL:https://theshedbarandgrille.com/event/sunday-funday-mixed-nutz-variety-band-10/
LOCATION:The Shed Bar & Grille\, 11995 S Merrill Rd\, Brant\, MI\, 48614\, United States
CATEGORIES:Band,Music
END:VEVENT
BEGIN:VEVENT
DTSTART;TZID=UTC:20241102T203000
DTEND;TZID=UTC:20241102T203000
DTSTAMP:20260425T212048
CREATED:20241029T000019Z
LAST-MODIFIED:20241029T000019Z
UID:8431-1730579400-1730579400@theshedbarandgrille.com
SUMMARY:Barry Forster of Tweed & Dixie (NEW SHOW)
DESCRIPTION:  \nBarry Forster of Tweed & Dixie will be playing a new show at The Shed Bar & Grille from 8:30pm – 12:30am on Saturday\, November 2nd!
URL:https://theshedbarandgrille.com/event/barry-forster-of-tweed-dixie-new-show/
LOCATION:The Shed Bar & Grille\, 11995 S Merrill Rd\, Brant\, MI\, 48614\, United States
CATEGORIES:Band,Music
END:VEVENT
END:VCALENDAR