BEGIN:VCALENDAR
VERSION:2.0
PRODID:-//The Shed Bar &amp; Grille - ECPv6.15.20//NONSGML v1.0//EN
CALSCALE:GREGORIAN
METHOD:PUBLISH
X-WR-CALNAME:The Shed Bar &amp; Grille
X-ORIGINAL-URL:https://theshedbarandgrille.com
X-WR-CALDESC:Events for The Shed Bar &amp; Grille
REFRESH-INTERVAL;VALUE=DURATION:PT1H
X-Robots-Tag:noindex
X-PUBLISHED-TTL:PT1H
BEGIN:VTIMEZONE
TZID:UTC
BEGIN:STANDARD
TZOFFSETFROM:+0000
TZOFFSETTO:+0000
TZNAME:UTC
DTSTART:20250101T000000
END:STANDARD
END:VTIMEZONE
BEGIN:VEVENT
DTSTART;TZID=UTC:20260110T203000
DTEND;TZID=UTC:20260110T203000
DTSTAMP:20260425T102508
CREATED:20251222T211801Z
LAST-MODIFIED:20251222T211801Z
UID:10422-1768077000-1768077000@theshedbarandgrille.com
SUMMARY:The Lawsons Playing The Shed
DESCRIPTION:  \nThe Lawsons are playing The Shed on Saturday\, January 10th from 8:30pm – 12:30am!
URL:https://theshedbarandgrille.com/event/the-lawsons-playing-the-shed-12/
LOCATION:The Shed Bar & Grille\, 11995 S Merrill Rd\, Brant\, MI\, 48614\, United States
CATEGORIES:Band,Music
END:VEVENT
END:VCALENDAR