BEGIN:VCALENDAR
VERSION:2.0
PRODID:-//The Shed Bar &amp; Grille - ECPv6.15.20//NONSGML v1.0//EN
CALSCALE:GREGORIAN
METHOD:PUBLISH
X-ORIGINAL-URL:https://theshedbarandgrille.com
X-WR-CALDESC:Events for The Shed Bar &amp; Grille
REFRESH-INTERVAL;VALUE=DURATION:PT1H
X-Robots-Tag:noindex
X-PUBLISHED-TTL:PT1H
BEGIN:VTIMEZONE
TZID:UTC
BEGIN:STANDARD
TZOFFSETFROM:+0000
TZOFFSETTO:+0000
TZNAME:UTC
DTSTART:20250101T000000
END:STANDARD
END:VTIMEZONE
BEGIN:VEVENT
DTSTART;TZID=UTC:20260104T140000
DTEND;TZID=UTC:20260104T170000
DTSTAMP:20260425T102638
CREATED:20251222T211439Z
LAST-MODIFIED:20251222T211439Z
UID:10420-1767535200-1767546000@theshedbarandgrille.com
SUMMARY:Sunday Funday with Mixed Nutz
DESCRIPTION:  \nSunday Funday with Mixed Nutz1st Sunday of every month!2:00pm – 5:00pm
URL:https://theshedbarandgrille.com/event/sunday-funday-with-mixed-nutz/
LOCATION:The Shed Bar & Grille\, 11995 S Merrill Rd\, Brant\, MI\, 48614\, United States
CATEGORIES:Band,Music
END:VEVENT
END:VCALENDAR