BEGIN:VCALENDAR
VERSION:2.0
PRODID:-//The Shed Bar &amp; Grille - ECPv6.15.20//NONSGML v1.0//EN
CALSCALE:GREGORIAN
METHOD:PUBLISH
X-WR-CALNAME:The Shed Bar &amp; Grille
X-ORIGINAL-URL:https://theshedbarandgrille.com
X-WR-CALDESC:Events for The Shed Bar &amp; Grille
REFRESH-INTERVAL;VALUE=DURATION:PT1H
X-Robots-Tag:noindex
X-PUBLISHED-TTL:PT1H
BEGIN:VTIMEZONE
TZID:UTC
BEGIN:STANDARD
TZOFFSETFROM:+0000
TZOFFSETTO:+0000
TZNAME:UTC
DTSTART:20240101T000000
END:STANDARD
END:VTIMEZONE
BEGIN:VEVENT
DTSTART;TZID=UTC:20251228T140000
DTEND;TZID=UTC:20251228T170000
DTSTAMP:20260425T102516
CREATED:20251122T024825Z
LAST-MODIFIED:20251122T024825Z
UID:10219-1766930400-1766941200@theshedbarandgrille.com
SUMMARY:Live Music with Scott Nelson
DESCRIPTION:  \nJoin Scott Nelson for live music at The Shed on Sunday\, December 28th at 2pm – 5pm!
URL:https://theshedbarandgrille.com/event/live-music-with-scott-nelson-5/
LOCATION:The Shed Bar & Grille\, 11995 S Merrill Rd\, Brant\, MI\, 48614\, United States
CATEGORIES:Band,Music
END:VEVENT
END:VCALENDAR