BEGIN:VCALENDAR
VERSION:2.0
PRODID:-//The Shed Bar &amp; Grille - ECPv6.15.20//NONSGML v1.0//EN
CALSCALE:GREGORIAN
METHOD:PUBLISH
X-WR-CALNAME:The Shed Bar &amp; Grille
X-ORIGINAL-URL:https://theshedbarandgrille.com
X-WR-CALDESC:Events for The Shed Bar &amp; Grille
REFRESH-INTERVAL;VALUE=DURATION:PT1H
X-Robots-Tag:noindex
X-PUBLISHED-TTL:PT1H
BEGIN:VTIMEZONE
TZID:UTC
BEGIN:STANDARD
TZOFFSETFROM:+0000
TZOFFSETTO:+0000
TZNAME:UTC
DTSTART:20240101T000000
END:STANDARD
END:VTIMEZONE
BEGIN:VEVENT
DTSTART;TZID=UTC:20251018T203000
DTEND;TZID=UTC:20251018T203000
DTSTAMP:20260425T142259
CREATED:20250926T180731Z
LAST-MODIFIED:20250926T180731Z
UID:9877-1760819400-1760819400@theshedbarandgrille.com
SUMMARY:REZILIANCE Rocks The Shed!
DESCRIPTION:  \nJoin REZILIANCE for a night of rock ‘n’ roll at The Shed from 8:30PM to 1230AM!
URL:https://theshedbarandgrille.com/event/reziliance-rocks-the-shed/
LOCATION:The Shed Bar & Grille\, 11995 S Merrill Rd\, Brant\, MI\, 48614\, United States
CATEGORIES:Band,Music
END:VEVENT
END:VCALENDAR