BEGIN:VCALENDAR
VERSION:2.0
PRODID:-//The Shed Bar &amp; Grille - ECPv6.15.20//NONSGML v1.0//EN
CALSCALE:GREGORIAN
METHOD:PUBLISH
X-ORIGINAL-URL:https://theshedbarandgrille.com
X-WR-CALDESC:Events for The Shed Bar &amp; Grille
REFRESH-INTERVAL;VALUE=DURATION:PT1H
X-Robots-Tag:noindex
X-PUBLISHED-TTL:PT1H
BEGIN:VTIMEZONE
TZID:UTC
BEGIN:STANDARD
TZOFFSETFROM:+0000
TZOFFSETTO:+0000
TZNAME:UTC
DTSTART:20240101T000000
END:STANDARD
END:VTIMEZONE
BEGIN:VEVENT
DTSTART;TZID=UTC:20251206T203000
DTEND;TZID=UTC:20251206T203000
DTSTAMP:20260425T102411
CREATED:20251122T021828Z
LAST-MODIFIED:20251122T021828Z
UID:10200-1765053000-1765053000@theshedbarandgrille.com
SUMMARY:Cash O'Riley Playing The Shed
DESCRIPTION:  \nCash O’Riley is playing The Shed on Saturday\, December 6th at 8:30pm – 12:30am!
URL:https://theshedbarandgrille.com/event/cash-oriley-playing-the-shed-2/
LOCATION:The Shed Bar & Grille\, 11995 S Merrill Rd\, Brant\, MI\, 48614\, United States
CATEGORIES:Band,Music
END:VEVENT
BEGIN:VEVENT
DTSTART;TZID=UTC:20251207T140000
DTEND;TZID=UTC:20251207T170000
DTSTAMP:20260425T102411
CREATED:20251026T143005Z
LAST-MODIFIED:20251026T143005Z
UID:10031-1765116000-1765126800@theshedbarandgrille.com
SUMMARY:Sunday Funday: Mixed Nutz Variety Band
DESCRIPTION:  \nSunday Funday with Mixed Nutz \n1st Sunday of every month! \nPlaying 2:00PM – 5:00PM
URL:https://theshedbarandgrille.com/event/sunday-funday-mixed-nutz-variety-band-21/
LOCATION:The Shed Bar & Grille\, 11995 S Merrill Rd\, Brant\, MI\, 48614\, United States
CATEGORIES:Band,Music
END:VEVENT
BEGIN:VEVENT
DTSTART;TZID=UTC:20251213T203000
DTEND;TZID=UTC:20251213T203000
DTSTAMP:20260425T102411
CREATED:20251122T022923Z
LAST-MODIFIED:20251122T022923Z
UID:10203-1765657800-1765657800@theshedbarandgrille.com
SUMMARY:Ugly Christmas Sweater Party
DESCRIPTION:  \nJoin us to celebrate the holiday season! Wear your ugliest Christmas sweater to enjoy holiday themed drinks at The Shed with live music by the TnB Duo on Saturday\, December 13th\,
URL:https://theshedbarandgrille.com/event/ugly-christmas-sweater-party-4/
LOCATION:The Shed Bar & Grille\, 11995 S Merrill Rd\, Brant\, MI\, 48614\, United States
CATEGORIES:Drink,Holiday,Music,Party
END:VEVENT
BEGIN:VEVENT
DTSTART;TZID=UTC:20251214T140000
DTEND;TZID=UTC:20251214T170000
DTSTAMP:20260425T102411
CREATED:20251122T023252Z
LAST-MODIFIED:20251122T023252Z
UID:10206-1765720800-1765731600@theshedbarandgrille.com
SUMMARY:Live Music with Scott Nelson
DESCRIPTION:  \nJoin Scott Nelson for live music at The Shed on Sunday\, December 14th at 2pm – 5pm!
URL:https://theshedbarandgrille.com/event/live-music-with-scott-nelson-4/
LOCATION:The Shed Bar & Grille\, 11995 S Merrill Rd\, Brant\, MI\, 48614\, United States
CATEGORIES:Band,Music
END:VEVENT
BEGIN:VEVENT
DTSTART;TZID=UTC:20251220T203000
DTEND;TZID=UTC:20251220T203000
DTSTAMP:20260425T102411
CREATED:20251122T023645Z
LAST-MODIFIED:20251122T023645Z
UID:10209-1766262600-1766262600@theshedbarandgrille.com
SUMMARY:The Lawsons
DESCRIPTION:  \nThe Lawsons are playing The Shed on Saturday\, December 20th from 8:30pm – 12:30am!
URL:https://theshedbarandgrille.com/event/the-lawsons-2/
LOCATION:The Shed Bar & Grille\, 11995 S Merrill Rd\, Brant\, MI\, 48614\, United States
CATEGORIES:Band,Music
END:VEVENT
BEGIN:VEVENT
DTSTART;TZID=UTC:20251221T140000
DTEND;TZID=UTC:20251221T170000
DTSTAMP:20260425T102411
CREATED:20251122T024036Z
LAST-MODIFIED:20251122T024036Z
UID:10212-1766325600-1766336400@theshedbarandgrille.com
SUMMARY:Barry Forster of Tweed & Dixie
DESCRIPTION:  \nBarry Forster of Tweed & Dixie will be playing at The Shed Bar & Grille from 2pm – 5pm on Sunday\, December 21st!
URL:https://theshedbarandgrille.com/event/barry-forster-of-tweed-dixie-15/
LOCATION:The Shed Bar & Grille\, 11995 S Merrill Rd\, Brant\, MI\, 48614\, United States
CATEGORIES:Band,Music
END:VEVENT
BEGIN:VEVENT
DTSTART;TZID=UTC:20251227T203000
DTEND;TZID=UTC:20251227T203000
DTSTAMP:20260425T102411
CREATED:20251122T024529Z
LAST-MODIFIED:20251122T024529Z
UID:10215-1766867400-1766867400@theshedbarandgrille.com
SUMMARY:DJ Music & Karaoke
DESCRIPTION:  \nImpact Sound Entertainment returns with DJ music and karaoke Saturday\, December 27th from 8:30pm – 12:30am!
URL:https://theshedbarandgrille.com/event/dj-music-karaoke-7/
LOCATION:The Shed Bar & Grille\, 11995 S Merrill Rd\, Brant\, MI\, 48614\, United States
CATEGORIES:Music
END:VEVENT
BEGIN:VEVENT
DTSTART;TZID=UTC:20251228T140000
DTEND;TZID=UTC:20251228T170000
DTSTAMP:20260425T102411
CREATED:20251122T024825Z
LAST-MODIFIED:20251122T024825Z
UID:10219-1766930400-1766941200@theshedbarandgrille.com
SUMMARY:Live Music with Scott Nelson
DESCRIPTION:  \nJoin Scott Nelson for live music at The Shed on Sunday\, December 28th at 2pm – 5pm!
URL:https://theshedbarandgrille.com/event/live-music-with-scott-nelson-5/
LOCATION:The Shed Bar & Grille\, 11995 S Merrill Rd\, Brant\, MI\, 48614\, United States
CATEGORIES:Band,Music
END:VEVENT
BEGIN:VEVENT
DTSTART;TZID=UTC:20251231T203000
DTEND;TZID=UTC:20251231T203000
DTSTAMP:20260425T102411
CREATED:20251222T214100Z
LAST-MODIFIED:20251222T214100Z
UID:10440-1767213000-1767213000@theshedbarandgrille.com
SUMMARY:NYE Celebration!
DESCRIPTION:  \nRing in the New Year at The Shed Bar & Grille! Choose from two dinner specials that include a champagne toast at midnight + enjoy live music from Another Shot & Les-Egos Band 8:30PM – 12:30AM!
URL:https://theshedbarandgrille.com/event/nye-celebration/
LOCATION:The Shed Bar & Grille\, 11995 S Merrill Rd\, Brant\, MI\, 48614\, United States
CATEGORIES:Band,Celebration,Drink,Food,Holiday,Music
END:VEVENT
END:VCALENDAR