BEGIN:VCALENDAR
VERSION:2.0
PRODID:-//The Shed Bar &amp; Grille - ECPv6.15.20//NONSGML v1.0//EN
CALSCALE:GREGORIAN
METHOD:PUBLISH
X-WR-CALNAME:The Shed Bar &amp; Grille
X-ORIGINAL-URL:https://theshedbarandgrille.com
X-WR-CALDESC:Events for The Shed Bar &amp; Grille
REFRESH-INTERVAL;VALUE=DURATION:PT1H
X-Robots-Tag:noindex
X-PUBLISHED-TTL:PT1H
BEGIN:VTIMEZONE
TZID:UTC
BEGIN:STANDARD
TZOFFSETFROM:+0000
TZOFFSETTO:+0000
TZNAME:UTC
DTSTART:20240101T000000
END:STANDARD
END:VTIMEZONE
BEGIN:VEVENT
DTSTART;TZID=UTC:20251102T140000
DTEND;TZID=UTC:20251102T170000
DTSTAMP:20260425T113817
CREATED:20251026T142910Z
LAST-MODIFIED:20251026T142910Z
UID:10029-1762092000-1762102800@theshedbarandgrille.com
SUMMARY:Sunday Funday: Mixed Nutz Variety Band
DESCRIPTION:  \nSunday Funday with Mixed Nutz \n1st Sunday of every month! \nPlaying 2:00PM – 5:00PM
URL:https://theshedbarandgrille.com/event/sunday-funday-mixed-nutz-variety-band-20/
LOCATION:The Shed Bar & Grille\, 11995 S Merrill Rd\, Brant\, MI\, 48614\, United States
CATEGORIES:Band,Music
END:VEVENT
BEGIN:VEVENT
DTSTART;TZID=UTC:20251108T203000
DTEND;TZID=UTC:20251108T203000
DTSTAMP:20260425T113817
CREATED:20251026T144620Z
LAST-MODIFIED:20251026T144620Z
UID:10045-1762633800-1762633800@theshedbarandgrille.com
SUMMARY:TnB Duo
DESCRIPTION:  \nTnB – Travis ‘N’ Barry are playing country and rock hits at The Shed Bar & Grille on Saturday\, November 8th at 8:30pm!
URL:https://theshedbarandgrille.com/event/tnb-duo/
LOCATION:The Shed Bar & Grille\, 11995 S Merrill Rd\, Brant\, MI\, 48614\, United States
CATEGORIES:Band,Music
END:VEVENT
BEGIN:VEVENT
DTSTART;TZID=UTC:20251109T140000
DTEND;TZID=UTC:20251109T170000
DTSTAMP:20260425T113817
CREATED:20251026T144926Z
LAST-MODIFIED:20251026T144926Z
UID:10048-1762696800-1762707600@theshedbarandgrille.com
SUMMARY:Live Music with Scott Nelson
DESCRIPTION:  \nJoin Scott Nelson for live music at The Shed on Sunday\, November 9th at 2pm – 5pm!
URL:https://theshedbarandgrille.com/event/live-music-with-scott-nelson-3/
LOCATION:The Shed Bar & Grille\, 11995 S Merrill Rd\, Brant\, MI\, 48614\, United States
CATEGORIES:Band,Music
END:VEVENT
BEGIN:VEVENT
DTSTART;TZID=UTC:20251116T140000
DTEND;TZID=UTC:20251116T170000
DTSTAMP:20260425T113817
CREATED:20251026T145331Z
LAST-MODIFIED:20251026T145331Z
UID:10051-1763301600-1763312400@theshedbarandgrille.com
SUMMARY:Barry Forster of Tweed & Dixie
DESCRIPTION:  \nBarry Forster of Tweed & Dixie will be playing at The Shed Bar & Grille from 2pm – 5pm on Sunday\, November 16th!
URL:https://theshedbarandgrille.com/event/barry-forster-of-tweed-dixie-14/
LOCATION:The Shed Bar & Grille\, 11995 S Merrill Rd\, Brant\, MI\, 48614\, United States
CATEGORIES:Band,Music
END:VEVENT
BEGIN:VEVENT
DTSTART;TZID=UTC:20251123T140000
DTEND;TZID=UTC:20251123T170000
DTSTAMP:20260425T113817
CREATED:20251026T145646Z
LAST-MODIFIED:20251026T145646Z
UID:10054-1763906400-1763917200@theshedbarandgrille.com
SUMMARY:The Lawsons Playing The Shed
DESCRIPTION:  \nThe Lawsons are playing The Shed on Sunday\, November 23rd from 2pm – 5pm!
URL:https://theshedbarandgrille.com/event/the-lawsons-playing-the-shed-10/
LOCATION:The Shed Bar & Grille\, 11995 S Merrill Rd\, Brant\, MI\, 48614\, United States
CATEGORIES:Band,Music
END:VEVENT
BEGIN:VEVENT
DTSTART;TZID=UTC:20251126T203000
DTEND;TZID=UTC:20251126T203000
DTSTAMP:20260425T113817
CREATED:20251026T150656Z
LAST-MODIFIED:20251026T150656Z
UID:10057-1764189000-1764189000@theshedbarandgrille.com
SUMMARY:Thanksgiving Eve Party
DESCRIPTION:  \nJoin us for the biggest bar night of the year on Thanksgiving Eve\, November 26th! Live music with Barry Forster from 8:30 p.m. – 12:30 a.m. Come eat\, drink\, sing and dance!
URL:https://theshedbarandgrille.com/event/thanksgiving-eve-party/
LOCATION:The Shed Bar & Grille\, 11995 S Merrill Rd\, Brant\, MI\, 48614\, United States
CATEGORIES:Holiday,Music
END:VEVENT
BEGIN:VEVENT
DTSTART;TZID=UTC:20251129T203000
DTEND;TZID=UTC:20251129T203000
DTSTAMP:20260425T113817
CREATED:20251026T151321Z
LAST-MODIFIED:20251026T151321Z
UID:10060-1764448200-1764448200@theshedbarandgrille.com
SUMMARY:The Lawsons Playing The Shed
DESCRIPTION:  \n\nThe Lawsons are playing The Shed on Saturday\, November 29th from8:30pm – 12:30am!
URL:https://theshedbarandgrille.com/event/the-lawsons-playing-the-shed-11/
LOCATION:The Shed Bar & Grille\, 11995 S Merrill Rd\, Brant\, MI\, 48614\, United States
CATEGORIES:Band,Music
END:VEVENT
BEGIN:VEVENT
DTSTART;TZID=UTC:20251130T140000
DTEND;TZID=UTC:20251130T170000
DTSTAMP:20260425T113817
CREATED:20251026T151859Z
LAST-MODIFIED:20251026T151859Z
UID:10063-1764511200-1764522000@theshedbarandgrille.com
SUMMARY:Another Shot & Les-Egos Band
DESCRIPTION:  \nJoin Another Shot & Les-Egos Band for live music at The Shed on Sunday\, November 30th at 2pm!
URL:https://theshedbarandgrille.com/event/another-shot-les-egos-band-5/
LOCATION:The Shed Bar & Grille\, 11995 S Merrill Rd\, Brant\, MI\, 48614\, United States
CATEGORIES:Band,Music
END:VEVENT
END:VCALENDAR