BEGIN:VCALENDAR
VERSION:2.0
PRODID:-//The Shed Bar &amp; Grille - ECPv6.15.20//NONSGML v1.0//EN
CALSCALE:GREGORIAN
METHOD:PUBLISH
X-WR-CALNAME:The Shed Bar &amp; Grille
X-ORIGINAL-URL:https://theshedbarandgrille.com
X-WR-CALDESC:Events for The Shed Bar &amp; Grille
REFRESH-INTERVAL;VALUE=DURATION:PT1H
X-Robots-Tag:noindex
X-PUBLISHED-TTL:PT1H
BEGIN:VTIMEZONE
TZID:UTC
BEGIN:STANDARD
TZOFFSETFROM:+0000
TZOFFSETTO:+0000
TZNAME:UTC
DTSTART:20240101T000000
END:STANDARD
END:VTIMEZONE
BEGIN:VEVENT
DTSTART;TZID=UTC:20250802T203000
DTEND;TZID=UTC:20250802T203000
DTSTAMP:20260425T153014
CREATED:20250726T005846Z
LAST-MODIFIED:20250726T005846Z
UID:9562-1754166600-1754166600@theshedbarandgrille.com
SUMMARY:DJ Music & Karaoke
DESCRIPTION:  \nImpact Sound Entertainment returns with DJ music and karaoke Saturday\, July 12 from 8:30pm – 12:30am!
URL:https://theshedbarandgrille.com/event/dj-music-karaoke-6/
LOCATION:The Shed Bar & Grille\, 11995 S Merrill Rd\, Brant\, MI\, 48614\, United States
CATEGORIES:Music
END:VEVENT
BEGIN:VEVENT
DTSTART;TZID=UTC:20250809T203000
DTEND;TZID=UTC:20250809T203000
DTSTAMP:20260425T153014
CREATED:20250801T153551Z
LAST-MODIFIED:20250801T153551Z
UID:9595-1754771400-1754771400@theshedbarandgrille.com
SUMMARY:John Howard of Rebel Line
DESCRIPTION:  \nJohn Howard of Rebel Line is playing 80’s and 90’s Country on Saturday\, August 9th at 8:30pm!
URL:https://theshedbarandgrille.com/event/john-howard-of-rebel-line-7/
LOCATION:The Shed Bar & Grille\, 11995 S Merrill Rd\, Brant\, MI\, 48614\, United States
CATEGORIES:Band,Music
END:VEVENT
BEGIN:VEVENT
DTSTART;TZID=UTC:20250816T203000
DTEND;TZID=UTC:20250816T203000
DTSTAMP:20260425T153014
CREATED:20250726T010228Z
LAST-MODIFIED:20250726T010228Z
UID:9565-1755376200-1755376200@theshedbarandgrille.com
SUMMARY:Almost Famous Duo
DESCRIPTION:  \nEnjoy an evening of live acoustic music by Jay & Amy 8:30pm – 12:30am!
URL:https://theshedbarandgrille.com/event/almost-famous-duo-11/
LOCATION:The Shed Bar & Grille\, 11995 S Merrill Rd\, Brant\, MI\, 48614\, United States
CATEGORIES:Band,Music
END:VEVENT
BEGIN:VEVENT
DTSTART;TZID=UTC:20250817T140000
DTEND;TZID=UTC:20250817T170000
DTSTAMP:20260425T153014
CREATED:20250812T154301Z
LAST-MODIFIED:20250812T154301Z
UID:9657-1755439200-1755450000@theshedbarandgrille.com
SUMMARY:Live Music With Justin Judge
DESCRIPTION:  \nSunday Funday with live music from Justin Judge on August 17th 2-5PM!
URL:https://theshedbarandgrille.com/event/live-music-with-justin-judge/
LOCATION:The Shed Bar & Grille\, 11995 S Merrill Rd\, Brant\, MI\, 48614\, United States
CATEGORIES:Band,Music
END:VEVENT
BEGIN:VEVENT
DTSTART;TZID=UTC:20250830T203000
DTEND;TZID=UTC:20250830T203000
DTSTAMP:20260425T153014
CREATED:20250726T011623Z
LAST-MODIFIED:20250726T011623Z
UID:9571-1756585800-1756585800@theshedbarandgrille.com
SUMMARY:John Howard of Rebel Line
DESCRIPTION:  \nJohn Howard of Rebel Line is playing 80’s and 90’s Country on Saturday\, August 30th at 8:30pm!
URL:https://theshedbarandgrille.com/event/john-howard-of-rebel-line-6/
LOCATION:The Shed Bar & Grille\, 11995 S Merrill Rd\, Brant\, MI\, 48614\, United States
CATEGORIES:Band,Music
END:VEVENT
BEGIN:VEVENT
DTSTART;TZID=UTC:20250831T140000
DTEND;TZID=UTC:20250831T170000
DTSTAMP:20260425T153014
CREATED:20250828T123531Z
LAST-MODIFIED:20250828T123531Z
UID:9730-1756648800-1756659600@theshedbarandgrille.com
SUMMARY:Live Music with Scott Nelson
DESCRIPTION:  \nJoin Scott Nelson for Sunday Funday on August 31st from 2-5PM!
URL:https://theshedbarandgrille.com/event/live-music-with-scott-nelson/
LOCATION:The Shed Bar & Grille\, 11995 S Merrill Rd\, Brant\, MI\, 48614\, United States
CATEGORIES:Band,Music
END:VEVENT
END:VCALENDAR