BEGIN:VCALENDAR
VERSION:2.0
PRODID:-//The Shed Bar &amp; Grille - ECPv6.15.20//NONSGML v1.0//EN
CALSCALE:GREGORIAN
METHOD:PUBLISH
X-ORIGINAL-URL:https://theshedbarandgrille.com
X-WR-CALDESC:Events for The Shed Bar &amp; Grille
REFRESH-INTERVAL;VALUE=DURATION:PT1H
X-Robots-Tag:noindex
X-PUBLISHED-TTL:PT1H
BEGIN:VTIMEZONE
TZID:UTC
BEGIN:STANDARD
TZOFFSETFROM:+0000
TZOFFSETTO:+0000
TZNAME:UTC
DTSTART:20240101T000000
END:STANDARD
END:VTIMEZONE
BEGIN:VEVENT
DTSTART;TZID=UTC:20250405T203000
DTEND;TZID=UTC:20250405T203000
DTSTAMP:20260425T203901
CREATED:20250324T171324Z
LAST-MODIFIED:20250324T171324Z
UID:9012-1743885000-1743885000@theshedbarandgrille.com
SUMMARY:Barry Forster of Tweed & Dixie
DESCRIPTION:  \nBarry Forster of Tweed & Dixie will be playing at The Shed Bar & Grille from 8:30pm – 12:30am on Saturday\, April 5th!
URL:https://theshedbarandgrille.com/event/barry-forster-of-tweed-dixie-9/
LOCATION:The Shed Bar & Grille\, 11995 S Merrill Rd\, Brant\, MI\, 48614\, United States
CATEGORIES:Band,Music
END:VEVENT
BEGIN:VEVENT
DTSTART;TZID=UTC:20250406T140000
DTEND;TZID=UTC:20250406T170000
DTSTAMP:20260425T203901
CREATED:20250324T171558Z
LAST-MODIFIED:20250324T171558Z
UID:9015-1743948000-1743958800@theshedbarandgrille.com
SUMMARY:Sunday Funday: Mixed Nutz Variety Band
DESCRIPTION:  \nSunday Funday with Mixed Nutz \n1st Sunday of every month! \nPlaying 2:00PM – 5:00PM
URL:https://theshedbarandgrille.com/event/sunday-funday-mixed-nutz-variety-band-14/
LOCATION:The Shed Bar & Grille\, 11995 S Merrill Rd\, Brant\, MI\, 48614\, United States
CATEGORIES:Band,Music
END:VEVENT
BEGIN:VEVENT
DTSTART;TZID=UTC:20250412T203000
DTEND;TZID=UTC:20250412T203000
DTSTAMP:20260425T203901
CREATED:20250324T172031Z
LAST-MODIFIED:20250324T172031Z
UID:9017-1744489800-1744489800@theshedbarandgrille.com
SUMMARY:Rebel Line Playing The Shed
DESCRIPTION:  \nRebel Line returns to The Shed on Saturday\, April 12th to play past and modern country music with a mix of rock from 8:30pm – 12:30am!
URL:https://theshedbarandgrille.com/event/rebel-line-playing-the-shed-5/
LOCATION:The Shed Bar & Grille\, 11995 S Merrill Rd\, Brant\, MI\, 48614\, United States
CATEGORIES:Band,Music
END:VEVENT
BEGIN:VEVENT
DTSTART;TZID=UTC:20250413T140000
DTEND;TZID=UTC:20250413T170000
DTSTAMP:20260425T203901
CREATED:20250324T172548Z
LAST-MODIFIED:20250324T172548Z
UID:9020-1744552800-1744563600@theshedbarandgrille.com
SUMMARY:John Howard of Rebel Line
DESCRIPTION:  \nJohn Howard of Rebel Line is playing 80’s and 90’s Country on Sunday\, April 13th 2pm – 5pm!
URL:https://theshedbarandgrille.com/event/john-howard-of-rebel-line-2/
LOCATION:The Shed Bar & Grille\, 11995 S Merrill Rd\, Brant\, MI\, 48614\, United States
CATEGORIES:Band,Music
END:VEVENT
BEGIN:VEVENT
DTSTART;TZID=UTC:20250419T203000
DTEND;TZID=UTC:20250419T203000
DTSTAMP:20260425T203901
CREATED:20250324T173951Z
LAST-MODIFIED:20250415T161910Z
UID:9023-1745094600-1745094600@theshedbarandgrille.com
SUMMARY:Hescott's with Nashville Fiddler - Andy Varner
DESCRIPTION:  \nThe Hescott’s are playing The Shed with Nashville Fiddler\, Andy Varner\, on Saturday\, April 19th at 8:30pm!
URL:https://theshedbarandgrille.com/event/tom-hescott-with-nashville-fiddler-andy-varner-barry-forster/
LOCATION:The Shed Bar & Grille\, 11995 S Merrill Rd\, Brant\, MI\, 48614\, United States
CATEGORIES:Band,Music
END:VEVENT
BEGIN:VEVENT
DTSTART;TZID=UTC:20250426T203000
DTEND;TZID=UTC:20250426T203000
DTSTAMP:20260425T203901
CREATED:20250324T174620Z
LAST-MODIFIED:20250324T174620Z
UID:9026-1745699400-1745699400@theshedbarandgrille.com
SUMMARY:Live Music with Timeless
DESCRIPTION:  \nTimeless plays The Shed on Saturday\, April 26th from 8:30pm – 12:30am!
URL:https://theshedbarandgrille.com/event/live-music-with-timeless-3/
LOCATION:The Shed Bar & Grille\, 11995 S Merrill Rd\, Brant\, MI\, 48614\, United States
CATEGORIES:Band,Music
END:VEVENT
BEGIN:VEVENT
DTSTART;TZID=UTC:20250427T140000
DTEND;TZID=UTC:20250427T170000
DTSTAMP:20260425T203901
CREATED:20250324T174913Z
LAST-MODIFIED:20250324T174913Z
UID:9029-1745762400-1745773200@theshedbarandgrille.com
SUMMARY:CJ Lowe of The Loaner Project
DESCRIPTION:  \nCJ Lowe of The Loaner Project will be playing The Shed on Sunday\, April 27th from 2pm – 5pm!
URL:https://theshedbarandgrille.com/event/cj-lowe-of-the-loaner-project/
LOCATION:The Shed Bar & Grille\, 11995 S Merrill Rd\, Brant\, MI\, 48614\, United States
CATEGORIES:Band,Music
END:VEVENT
END:VCALENDAR