BEGIN:VCALENDAR
VERSION:2.0
PRODID:-//The Shed Bar &amp; Grille - ECPv6.15.20//NONSGML v1.0//EN
CALSCALE:GREGORIAN
METHOD:PUBLISH
X-ORIGINAL-URL:https://theshedbarandgrille.com
X-WR-CALDESC:Events for The Shed Bar &amp; Grille
REFRESH-INTERVAL;VALUE=DURATION:PT1H
X-Robots-Tag:noindex
X-PUBLISHED-TTL:PT1H
BEGIN:VTIMEZONE
TZID:UTC
BEGIN:STANDARD
TZOFFSETFROM:+0000
TZOFFSETTO:+0000
TZNAME:UTC
DTSTART:20180101T000000
END:STANDARD
END:VTIMEZONE
BEGIN:VEVENT
DTSTART;TZID=UTC:20231115T100000
DTEND;TZID=UTC:20231115T210000
DTSTAMP:20260425T103008
CREATED:20231105T230029Z
LAST-MODIFIED:20231105T230202Z
UID:7137-1700042400-1700082000@theshedbarandgrille.com
SUMMARY:5th Annual Buck Pole
DESCRIPTION:  \nThe Shed Bar & Grille Buck Pole\n\n\nTuesday\, November 15 at 10am – 9pm\n*Open for breakfast 8am-11am\n\n\nSaturday\, November 18 at 5pm – 9pm\n*Open for breakfast 8am-11am\n\n\nBring your buck to The Shed Bar & Grille to hang on our pole for at least an hour to be entered for a chance to win our fantastic prizes!\n\n\nPrizes Include:\n\n\n• Biggest Buck (Age 17+)\nPoints Spread Longest Time Total\nPrize: Ruger 300 Win American Go Wild\n\n\n• Biggest Youth Buck (Age 16 & Under)\nPoints Spread Longest Time Total\nPrize: Savage Arms Axis .243\n\n\n• Biggest Womens Buck\nPoints Spread Longest Time Total\nPrize: Mossberg Patriot 350 Legend\n\n\n• Most Points\nPrize: Ruger American .450 BM\n\n\n• Widest Inside Spread\nPrize: Tokarev 12 Gauge\n\n\n• Heaviest Buck\nPrize: Remington Camo 78330-06\n\n\n• Participation Drawing\nPrizes: Savage 93 R17 117 HMR\, CZ Waterfowl 12 Gauge 3-1/2″\, Ruger 10/22 Special .22\n\n\nAND MORE THANKS TO OUR AMAZING SPONSORS!
URL:https://theshedbarandgrille.com/event/5th-annual-buck-pole/
LOCATION:The Shed Bar & Grille\, 11995 S Merrill Rd\, Brant\, MI\, 48614\, United States
CATEGORIES:Hunting
END:VEVENT
BEGIN:VEVENT
DTSTART;TZID=UTC:20230910T090000
DTEND;TZID=UTC:20230910T210000
DTSTAMP:20260425T103008
CREATED:20230825T141726Z
LAST-MODIFIED:20230825T141726Z
UID:6992-1694336400-1694379600@theshedbarandgrille.com
SUMMARY:Youth Hunt Weekend 2023
DESCRIPTION:  \nYouth Hunt Weekend\nSaturday\, September 9th & Sunday\, September 10th \nAll you can eat breakfast buffet available both day 9am – 12pm. \nEvery youth hunter who brings in their legally tagged deer will receive a free meal and will be entered to win one of our grand prizes: \n• A Mossberg 500 20GA Bantam Youth Shotgun courtesy of Wicke Crop Insurance \n• $200 unique buck contest prize courtesy of Walkers Wildlife Control \n• A European Mount courtesy of Derik Schoch \n• Gift certificates from local businesses \n• Other various prizes!
URL:https://theshedbarandgrille.com/event/youth-hunt-weekend-2023-2/
LOCATION:The Shed Bar & Grille\, 11995 S Merrill Rd\, Brant\, MI\, 48614\, United States
CATEGORIES:Hunting
END:VEVENT
BEGIN:VEVENT
DTSTART;TZID=UTC:20230909T090000
DTEND;TZID=UTC:20230909T210000
DTSTAMP:20260425T103008
CREATED:20230825T141626Z
LAST-MODIFIED:20230825T141626Z
UID:6989-1694250000-1694293200@theshedbarandgrille.com
SUMMARY:Youth Hunt Weekend 2023
DESCRIPTION:  \nYouth Hunt Weekend\nSaturday\, September 9th & Sunday\, September 10th \nAll you can eat breakfast buffet available both day 9am – 12pm. \nEvery youth hunter who brings in their legally tagged deer will receive a free meal and will be entered to win one of our grand prizes: \n• A Mossberg 500 20GA Bantam Youth Shotgun courtesy of Wicke Crop Insurance \n• $200 unique buck contest prize courtesy of Walkers Wildlife Control \n• A European Mount courtesy of Derik Schoch \n• Gift certificates from local businesses \n• Other various prizes!
URL:https://theshedbarandgrille.com/event/youth-hunt-weekend-2023/
LOCATION:The Shed Bar & Grille\, 11995 S Merrill Rd\, Brant\, MI\, 48614\, United States
CATEGORIES:Hunting
END:VEVENT
BEGIN:VEVENT
DTSTART;TZID=UTC:20221119T160000
DTEND;TZID=UTC:20221119T210000
DTSTAMP:20260425T103008
CREATED:20221018T024007Z
LAST-MODIFIED:20221018T024007Z
UID:5707-1668873600-1668891600@theshedbarandgrille.com
SUMMARY:4th Annual Buck Pole
DESCRIPTION:  \nThe Shed Bar & Grille Buck Pole\n\nTuesday\, November 15 at 10am – 9pm\n*Open for breakfast 8am – 12pm\n\nSaturday\, November 19 at 4pm – 9pm\n\nBring your buck to The Shed Bar & Grille to hang on our pole for at least an hour to be entered for a chance to win our fantastic prizes!\n\nPrizes Include:\n\n• Biggest Buck (Age 17+)\nPoints Spread Longest Time Total\nPrize: Shoulder Mount\n\n• Biggest Youth Buck (Age 16 & Under)\nPoints Spread Longest Time Total\nPrize: Shoulder Mount\n\n• Biggest Womens Buck\nPoints Spread Longest Time Total\nPrize: Savage Axis .350\n\n• Most Points\nPrize: Ruger 6.5 Creedmore\n\n• Widest Inside Spread\nPrize: Mossberg 500 12 Gauge\n\n• Heaviest Buck\nPrize: Mossberg .450 Patriot\n\n• Veterans Drawing\nPrize: Henry Lever Action .22\n\n• Participation Drawing\nPrize: Traditions Buckstalker XT\n\nAND MORE THANKS TO OUR AMAZING SPONSORS!
URL:https://theshedbarandgrille.com/event/4th-annual-buck-pole-2/
LOCATION:The Shed Bar & Grille\, 11995 S Merrill Rd\, Brant\, MI\, 48614\, United States
CATEGORIES:Hunting
END:VEVENT
BEGIN:VEVENT
DTSTART;TZID=UTC:20221115T100000
DTEND;TZID=UTC:20221115T210000
DTSTAMP:20260425T103008
CREATED:20221018T023858Z
LAST-MODIFIED:20221018T023858Z
UID:5704-1668506400-1668546000@theshedbarandgrille.com
SUMMARY:4th Annual Buck Pole
DESCRIPTION:  \nThe Shed Bar & Grille Buck Pole\n\nTuesday\, November 15 at 10am – 9pm\n*Open for breakfast 8am – 12pm\n\nSaturday\, November 19 at 4pm – 9pm\n\nBring your buck to The Shed Bar & Grille to hang on our pole for at least an hour to be entered for a chance to win our fantastic prizes!\n\nPrizes Include:\n\n• Biggest Buck (Age 17+)\nPoints Spread Longest Time Total\nPrize: Shoulder Mount\n\n• Biggest Youth Buck (Age 16 & Under)\nPoints Spread Longest Time Total\nPrize: Shoulder Mount\n\n• Biggest Womens Buck\nPoints Spread Longest Time Total\nPrize: Savage Axis .350\n\n• Most Points\nPrize: Ruger 6.5 Creedmore\n\n• Widest Inside Spread\nPrize: Mossberg 500 12 Gauge\n\n• Heaviest Buck\nPrize: Mossberg .450 Patriot\n\n• Veterans Drawing\nPrize: Henry Lever Action .22\n\n• Participation Drawing\nPrize: Traditions Buckstalker XT\n\nAND MORE THANKS TO OUR AMAZING SPONSORS!
URL:https://theshedbarandgrille.com/event/4th-annual-buck-pole/
LOCATION:The Shed Bar & Grille\, 11995 S Merrill Rd\, Brant\, MI\, 48614\, United States
CATEGORIES:Hunting
END:VEVENT
BEGIN:VEVENT
DTSTART;TZID=UTC:20220911T090000
DTEND;TZID=UTC:20220911T090000
DTSTAMP:20260425T103008
CREATED:20220902T203802Z
LAST-MODIFIED:20220902T203802Z
UID:5355-1662886800-1662886800@theshedbarandgrille.com
SUMMARY:Youth Hunt Weekend 2022
DESCRIPTION:  \nYouth Hunt Weekend\nSaturday\, September 10th & Sunday\, September 11th \nWe will open open at 9:00am for breakfast on Saturday\, September 10 and Sunday\, September 11. Breakfast will be available until 12:00pm. \nEvery youth hunter who brings in their legally tagged deer will receive a free lunch and will be entered to win one of our grand prizes: \n• 350 Legend Mossberg with scope courtesy of Wicke Crop Insurance \n• A European Mount courtesy of Derik Schoch \n• Gift certificated from local businesses \n• $100 cash prize for ‘Goofiest Rack’ courtesy of Walker Wildlife Control \n• Other various prizes!
URL:https://theshedbarandgrille.com/event/youth-hunt-weekend-2022-2/
LOCATION:The Shed Bar & Grille\, 11995 S Merrill Rd\, Brant\, MI\, 48614\, United States
CATEGORIES:Hunting
END:VEVENT
BEGIN:VEVENT
DTSTART;TZID=UTC:20220910T090000
DTEND;TZID=UTC:20220910T090000
DTSTAMP:20260425T103008
CREATED:20220902T203718Z
LAST-MODIFIED:20220902T203718Z
UID:5351-1662800400-1662800400@theshedbarandgrille.com
SUMMARY:Youth Hunt Weekend 2022
DESCRIPTION:  \nYouth Hunt Weekend\nSaturday\, September 10th & Sunday\, September 11th \nWe will open open at 9:00am for breakfast on Saturday\, September 10 and Sunday\, September 11. Breakfast will be available until 12:00pm. \nEvery youth hunter who brings in their legally tagged deer will receive a free lunch and will be entered to win one of our grand prizes: \n• 350 Legend Mossberg with scope courtesy of Wicke Crop Insurance \n• A European Mount courtesy of Derik Schoch \n• Gift certificated from local businesses \n• $100 cash prize for ‘Goofiest Rack’ courtesy of Walker Wildlife Control \n• Other various prizes!
URL:https://theshedbarandgrille.com/event/youth-hunt-weekend-2022/
LOCATION:The Shed Bar & Grille\, 11995 S Merrill Rd\, Brant\, MI\, 48614\, United States
CATEGORIES:Hunting
END:VEVENT
BEGIN:VEVENT
DTSTART;TZID=UTC:20211120T160000
DTEND;TZID=UTC:20211120T210000
DTSTAMP:20260425T103008
CREATED:20211102T024656Z
LAST-MODIFIED:20211102T024656Z
UID:4021-1637424000-1637442000@theshedbarandgrille.com
SUMMARY:Buck Pole
DESCRIPTION:  \nThe Shed Bar & Grille Buck Pole\nMonday\, November 15 at 10am – 9pm\nSaturday\, November 20 at 4pm – 9pm\n\nOpen for breakfast 8am – 12pm on November 15\n\nBring your buck to The Shed Bar & Grille to hang on our pole for at least an hour to be entered for a chance to win our fantastic prizes!\n\nPrizes Include:\n\n• Biggest Buck (Age 17+)\nPoints Spread Longest Time Total\nPrize: Shoulder Mount\n\n• Biggest Youth Buck (Age 16 & Under)\nPoints Spread Longest Time Total\nPrize: Shoulder Mount\n\n• Biggest Womens Buck\nPoints Spread Longest Time Total\nPrize: $100 The Shed Gift Card + $100 Tipsy Cow Gift Card\n\n• Most Points\nPrize: Savage 30-06\n\n• Widest Inside Spread\nPrize: Savage 93 22 mag\n\n• Heaviest Buck\nPrize: Stevens 320C 12 Ga\n\n• Mystery Buck\nPrize: Traditions Buck Slayer Muzzleloader
URL:https://theshedbarandgrille.com/event/buck-pole-3/
LOCATION:The Shed Bar & Grille\, 11995 S Merrill Rd\, Brant\, MI\, 48614\, United States
CATEGORIES:Hunting
END:VEVENT
BEGIN:VEVENT
DTSTART;TZID=UTC:20211115T100000
DTEND;TZID=UTC:20211115T210000
DTSTAMP:20260425T103008
CREATED:20211102T024608Z
LAST-MODIFIED:20211102T024608Z
UID:4018-1636970400-1637010000@theshedbarandgrille.com
SUMMARY:Buck Pole
DESCRIPTION:  \nThe Shed Bar & Grille Buck Pole\nMonday\, November 15 at 10am – 9pm\nSaturday\, November 20 at 4pm – 9pm\n\nOpen for breakfast 8am – 12pm on November 15\n\nBring your buck to The Shed Bar & Grille to hang on our pole for at least an hour to be entered for a chance to win our fantastic prizes!\n\nPrizes Include:\n\n• Biggest Buck (Age 17+)\nPoints Spread Longest Time Total\nPrize: Shoulder Mount\n\n• Biggest Youth Buck (Age 16 & Under)\nPoints Spread Longest Time Total\nPrize: Shoulder Mount\n\n• Biggest Womens Buck\nPoints Spread Longest Time Total\nPrize: $100 The Shed Gift Card + $100 Tipsy Cow Gift Card\n\n• Most Points\nPrize: Savage 30-06\n\n• Widest Inside Spread\nPrize: Savage 93 22 mag\n\n• Heaviest Buck\nPrize: Stevens 320C 12 Ga\n\n• Mystery Buck\nPrize: Traditions Buck Slayer Muzzleloader
URL:https://theshedbarandgrille.com/event/buck-pole-2/
LOCATION:The Shed Bar & Grille\, 11995 S Merrill Rd\, Brant\, MI\, 48614\, United States
CATEGORIES:Hunting
END:VEVENT
BEGIN:VEVENT
DTSTART;TZID=UTC:20210912T080000
DTEND;TZID=UTC:20210912T210000
DTSTAMP:20260425T103008
CREATED:20210826T190442Z
LAST-MODIFIED:20210826T190442Z
UID:3935-1631433600-1631480400@theshedbarandgrille.com
SUMMARY:Youth Hunt Weekend
DESCRIPTION:  \nYouth Hunt Weekend\nSaturday & Sunday\, September 11th & 12th \nWe will open open at 8:00am for breakfast on Saturday\, September 11 and Sunday\, September 12. Breakfast will be available until 12:00pm. \nBring your youth hunter and their deer to The Shed Bar & Grille to hang their deer and get their picture taken for the wall and your youth hunter will receive a free kids meal. Dine in only. Largest buck wins a gift basket!
URL:https://theshedbarandgrille.com/event/youth-hunt-weekend-3/
LOCATION:The Shed Bar & Grille\, 11995 S Merrill Rd\, Brant\, MI\, 48614\, United States
CATEGORIES:Food,Hunting,Sports
END:VEVENT
BEGIN:VEVENT
DTSTART;TZID=UTC:20210911T180000
DTEND;TZID=UTC:20210911T180000
DTSTAMP:20260425T103008
CREATED:20210826T210949Z
LAST-MODIFIED:20210826T210949Z
UID:3937-1631383200-1631383200@theshedbarandgrille.com
SUMMARY:Buck Bash
DESCRIPTION:  \nJoin us on Saturday\, September 11 at 6:00pm to help us raise funds for this year’s Buck Pole where we will be raffling off gift certificates\, hunting items and more! Rebel Line will be playing classic and modern country music from 9:00pm – 1:00am.
URL:https://theshedbarandgrille.com/event/buck-bash/
LOCATION:The Shed Bar & Grille\, 11995 S Merrill Rd\, Brant\, MI\, 48614\, United States
CATEGORIES:Band,Fundraiser,Hunting
END:VEVENT
BEGIN:VEVENT
DTSTART;TZID=UTC:20210911T080000
DTEND;TZID=UTC:20210911T210000
DTSTAMP:20260425T103008
CREATED:20210826T190347Z
LAST-MODIFIED:20210826T190532Z
UID:3931-1631347200-1631394000@theshedbarandgrille.com
SUMMARY:Youth Hunt Weekend
DESCRIPTION:  \nYouth Hunt Weekend\nSaturday & Sunday\, September 11th & 12th \nWe will open open at 8:00am for breakfast on Saturday\, September 11 and Sunday\, September 12. Breakfast will be available until 12:00pm. \nBring your youth hunter and their deer to The Shed Bar & Grille to hang their deer and get their picture taken for the wall and your youth hunter will receive a free kids meal. Dine in only. Largest buck wins a gift basket!
URL:https://theshedbarandgrille.com/event/youth-hunt-weekend-2/
LOCATION:The Shed Bar & Grille\, 11995 S Merrill Rd\, Brant\, MI\, 48614\, United States
CATEGORIES:Food,Hunting,Sports
END:VEVENT
BEGIN:VEVENT
DTSTART;TZID=UTC:20201121T110000
DTEND;TZID=UTC:20201121T210000
DTSTAMP:20260425T103008
CREATED:20201002T163200Z
LAST-MODIFIED:20201018T205934Z
UID:3145-1605956400-1605992400@theshedbarandgrille.com
SUMMARY:The Shed Bar & Grille Buck Pole
DESCRIPTION:  \nThe Shed Bar & Grille Buck Pole\nSunday\, November 15 at 10:00am – 9:00pm\nSaturday\, November 21 at 11:00am – 9:00pm \nBring your buck to The Shed Bar & Grille to hang on our pole for at least an hour to be entered for a chance to win our fantastic prizes! \nPrizes Include:\n• Biggest Buck (Age 17+)\nPoints Spread Longest Time Total\nPrize: CVA 350 \n• Biggest Youth Buck (Age 16 & Under)\nPoints Spread Longest Time Total\nPrize: Shoulder Mount Courtesy of Aaron Whitting \n• Biggest Womens Buck\nPoints Spread Longest Time Total\nPrize: Ruger 10/22 \n• Most Points\nPrize: CVA .243 \n• Widest Inside Spread\nPrize: Stevens 12 Guage Pump Shotgun \n• Heaviest Buck\nPrize: Savage .17HMR Rifle \n• Mystery Buck\nPrize: Buckstalker .50cal Muzzleloader
URL:https://theshedbarandgrille.com/event/the-shed-bar-grille-buck-pole-2/
LOCATION:The Shed Bar & Grille\, 11995 S Merrill Rd\, Brant\, MI\, 48614\, United States
CATEGORIES:Hunting
END:VEVENT
BEGIN:VEVENT
DTSTART;TZID=UTC:20201115T100000
DTEND;TZID=UTC:20201115T210000
DTSTAMP:20260425T103008
CREATED:20201002T162945Z
LAST-MODIFIED:20201018T205730Z
UID:3142-1605434400-1605474000@theshedbarandgrille.com
SUMMARY:The Shed Bar & Grille Buck Pole
DESCRIPTION:  \nThe Shed Bar & Grille Buck Pole\nSunday\, November 15 at 10:00am – 9:00pm\nSaturday\, November 21 at 11:00am – 9:00pm \nBring your buck to The Shed Bar & Grille to hang on our pole for at least an hour to be entered for a chance to win our fantastic prizes! \nPrizes Include:\n• Biggest Buck (Age 17+)\nPoints Spread Longest Time Total\nPrize: CVA 350 \n• Biggest Youth Buck (Age 16 & Under)\nPoints Spread Longest Time Total\nPrize: Shoulder Mount Courtesy of Aaron Whitting \n• Biggest Womens Buck\nPoints Spread Longest Time Total\nPrize: Ruger 10/22 \n• Most Points\nPrize: CVA .243 \n• Widest Inside Spread\nPrize: Stevens 12 Guage Pump Shotgun \n• Heaviest Buck\nPrize: Savage .17HMR Rifle \n• Mystery Buck\nPrize: Buckstalker .50cal Muzzleloader \n 
URL:https://theshedbarandgrille.com/event/the-shed-bar-grille-buck-pole/
LOCATION:The Shed Bar & Grille\, 11995 S Merrill Rd\, Brant\, MI\, 48614\, United States
CATEGORIES:Hunting
END:VEVENT
BEGIN:VEVENT
DTSTART;TZID=UTC:20200919T060000
DTEND;TZID=UTC:20200919T180000
DTSTAMP:20260425T103008
CREATED:20200908T163639Z
LAST-MODIFIED:20200908T163639Z
UID:3073-1600495200-1600538400@theshedbarandgrille.com
SUMMARY:Squirrel Fest
DESCRIPTION:  \nMarion Springs Squirrel Fest\nSaturday\, September 19 at 6:00 a.m – 6:00 p.m.\nThe Shed Bar & Grille\n\nTEAMS:\n• 2 people per team\n\nREGISTRATION:\n• Friday\, September 18 from 7:00pm – 9:00pm at The Shed Bar & Grille\n• Saturday\, September 19 from 6:00am – 9:00am at The Shed Bar & Grille\n• Both team members must be present\n• $20 per team\n\nPRIZES:\n• Prize for top 3 total weights\n• Prize for mystery weight\n• Prize for top youth team weight\n• Prize for heaviest fox squirrel\n• Prize for heaviest grey squirrel\n• Prize for heaviest black squirrel\n• Prize for heaviest red squirrel\n\nRULES:\n• All hunters must abide by Michigan laws.\n• Teams can submit up to 10 squirrels for weighing\n• Squirrels must be submitted by Saturday\, September 19 at 6:00pm.\n• HAVE FUN!
URL:https://theshedbarandgrille.com/event/squirrel-fest/
LOCATION:The Shed Bar & Grille\, 11995 S Merrill Rd\, Brant\, MI\, 48614\, United States
CATEGORIES:Hunting
END:VEVENT
BEGIN:VEVENT
DTSTART;TZID=UTC:20200912T090000
DTEND;TZID=UTC:20200913T230000
DTSTAMP:20260425T103008
CREATED:20200823T230055Z
LAST-MODIFIED:20200823T230055Z
UID:3013-1599901200-1600038000@theshedbarandgrille.com
SUMMARY:Youth Hunt Weekend
DESCRIPTION:  \nYouth Hunt Weekend\nSaturday & Sunday\, September 12th & 13th \nThe Shed Bar & Grille will be open at 9:00 a.m. for breakfast on September 12th and 13th for Youth Hunt Weekend! \nBring your youth hunter and their deer to The Shed Bar & Grille to get their picture taken for the wall and your youth hunter will receive a free lunch from a select menu. Dine in only. Largest buck wins a gift basket!
URL:https://theshedbarandgrille.com/event/youth-hunt-weekend/
LOCATION:The Shed Bar & Grille\, 11995 S Merrill Rd\, Brant\, MI\, 48614\, United States
CATEGORIES:Hunting
END:VEVENT
BEGIN:VEVENT
DTSTART;TZID=UTC:20200125T080000
DTEND;TZID=UTC:20200125T163000
DTSTAMP:20260425T103008
CREATED:20200109T033439Z
LAST-MODIFIED:20200109T033439Z
UID:1021-1579939200-1579969800@theshedbarandgrille.com
SUMMARY:Rabbit Hunt
DESCRIPTION:  \nRabbit Hunt\nSaturday\, January 25th at 8:00 a.m – 4:30 p.m.\nThe Shed Bar & Grille \nTEAMS:\n• 2 people per team \nREGISTRATION:\n• 8:00 a.m. – 10:00 a.m.\n• Both team members must be present\n• $20 per team \nPRIZES:\n• Cash prizes for the top 3 total weights and a mystery weight \nRULES:\n• Teams can submit up to 5 rabbits for weighing\n• Rabbits must be gutted and submitted by 4:30 p.m.
URL:https://theshedbarandgrille.com/event/rabbit-hunt/
LOCATION:The Shed Bar & Grille\, 11995 S Merrill Rd\, Brant\, MI\, 48614\, United States
CATEGORIES:Hunting
END:VEVENT
BEGIN:VEVENT
DTSTART;TZID=UTC:20191123T190000
DTEND;TZID=UTC:20191123T235900
DTSTAMP:20260425T103008
CREATED:20191029T234645Z
LAST-MODIFIED:20191122T130420Z
UID:823-1574535600-1574553540@theshedbarandgrille.com
SUMMARY:Buck Pole Awards
DESCRIPTION:  \nThe Shed Bar & Grille Buck Pole Awards \nSaturday\, November 23rd at 7:00 p.m. \n  \nJoin us as we award the winners of our Buck Pole! All are encouraged to attend and we will have hunting items that will be raffled off. Come out for dinner\, drinks and fun! Buck Pole participants must be present to claim their prize. \n\nTHANK TO OUR SPONSORS\n \nMarion Springs General Store \nDefinitive Skull Works \nMarion Springs Conservation Club \nLewis Technical Industries \nNate’s Auto Body of Ovid \nSLF Air\, Bannister \nTaylor Repair of Elsie \nKirby’s Auto Body of Bannister \nEssex & Sons Construction LLC \nB & B Tax & Financial Services of Ovid \nThe Main Bar of Ovid \nJim’s Deer Processing of Bannister \nBurton Corners of Owosso \nNext Level Tile of St. Johns \nBare’s Sport Shop of St. Charles \nCountry Spice Catering \nWildlife Creations \nElsie Market \nWilliams Heating & Cooling
URL:https://theshedbarandgrille.com/event/buck-pole-awards/
LOCATION:The Shed Bar & Grille\, 11995 S Merrill Rd\, Brant\, MI\, 48614\, United States
CATEGORIES:Hunting,Sports
END:VEVENT
END:VCALENDAR