BEGIN:VCALENDAR
VERSION:2.0
PRODID:-//The Shed Bar &amp; Grille - ECPv6.15.20//NONSGML v1.0//EN
CALSCALE:GREGORIAN
METHOD:PUBLISH
X-ORIGINAL-URL:https://theshedbarandgrille.com
X-WR-CALDESC:Events for The Shed Bar &amp; Grille
REFRESH-INTERVAL;VALUE=DURATION:PT1H
X-Robots-Tag:noindex
X-PUBLISHED-TTL:PT1H
BEGIN:VTIMEZONE
TZID:UTC
BEGIN:STANDARD
TZOFFSETFROM:+0000
TZOFFSETTO:+0000
TZNAME:UTC
DTSTART:20240101T000000
END:STANDARD
END:VTIMEZONE
BEGIN:VEVENT
DTSTART;TZID=UTC:20250913T080000
DTEND;TZID=UTC:20250913T210000
DTSTAMP:20260425T152535
CREATED:20250906T020444Z
LAST-MODIFIED:20250906T020444Z
UID:9799-1757750400-1757797200@theshedbarandgrille.com
SUMMARY:Youth Hunt
DESCRIPTION:  \nYouth Hunt Weekend\nSaturday\, September 13th\nSunday\, September 14th \nAll you can eat breakfast buffet available both days:\n8AM – 11AM SATURDAY\n8AM – 12PM SUNDAY \nEvery youth hunter who brings in their legally tagged deer will receive a free meal and will be entered to win one of our grand prizes: \nEvery youth hunter who brings in their legally tagged deer will receive a free meal and be entered to win one of our great prizes: \n• Biggest buck wins a Savage 400 Legend courtesy of Thurston Outdoors & The Shed Buck Pole \n• $250 unique buck contest prize courtesy of Walkers Wildlife Control \n• $100 Thurston Outdoors gift card courtesy of Wicke Crop Insurance \n• Gift certificates from local businesses \n• Other various prizes!
URL:https://theshedbarandgrille.com/event/youth-hunt-2/
LOCATION:The Shed Bar & Grille\, 11995 S Merrill Rd\, Brant\, MI\, 48614\, United States
CATEGORIES:Hunting
END:VEVENT
BEGIN:VEVENT
DTSTART;TZID=UTC:20250914T080000
DTEND;TZID=UTC:20250914T210000
DTSTAMP:20260425T152535
CREATED:20250906T020548Z
LAST-MODIFIED:20250906T020548Z
UID:9802-1757836800-1757883600@theshedbarandgrille.com
SUMMARY:Youth Hunt
DESCRIPTION:  \nYouth Hunt Weekend\nSaturday\, September 13th\nSunday\, September 14th \nAll you can eat breakfast buffet available both days:\n8AM – 11AM SATURDAY\n8AM – 12PM SUNDAY \nEvery youth hunter who brings in their legally tagged deer will receive a free meal and will be entered to win one of our grand prizes: \nEvery youth hunter who brings in their legally tagged deer will receive a free meal and be entered to win one of our great prizes: \n• Biggest buck wins a Savage 400 Legend courtesy of Thurston Outdoors & The Shed Buck Pole \n• $250 unique buck contest prize courtesy of Walkers Wildlife Control \n• $100 Thurston Outdoors gift card courtesy of Wicke Crop Insurance \n• Gift certificates from local businesses \n• Other various prizes!
URL:https://theshedbarandgrille.com/event/youth-hunt-3/
LOCATION:The Shed Bar & Grille\, 11995 S Merrill Rd\, Brant\, MI\, 48614\, United States
CATEGORIES:Hunting
END:VEVENT
END:VCALENDAR