BEGIN:VCALENDAR
VERSION:2.0
PRODID:-//The Shed Bar &amp; Grille - ECPv6.15.20//NONSGML v1.0//EN
CALSCALE:GREGORIAN
METHOD:PUBLISH
X-WR-CALNAME:The Shed Bar &amp; Grille
X-ORIGINAL-URL:https://theshedbarandgrille.com
X-WR-CALDESC:Events for The Shed Bar &amp; Grille
REFRESH-INTERVAL;VALUE=DURATION:PT1H
X-Robots-Tag:noindex
X-PUBLISHED-TTL:PT1H
BEGIN:VTIMEZONE
TZID:UTC
BEGIN:STANDARD
TZOFFSETFROM:+0000
TZOFFSETTO:+0000
TZNAME:UTC
DTSTART:20230101T000000
END:STANDARD
END:VTIMEZONE
BEGIN:VEVENT
DTSTART;TZID=UTC:20250522T190000
DTEND;TZID=UTC:20250522T190000
DTSTAMP:20260425T114630
CREATED:20250415T162754Z
LAST-MODIFIED:20250415T162754Z
UID:9156-1747940400-1747940400@theshedbarandgrille.com
SUMMARY:Game Night: You Guessed It
DESCRIPTION:Similar to Family Feud\, You Guessed It is at The Shed EVERY OTHER THURSDAY at 7pm!\nFree to play\, prizes for top 3 teams and Thirsty Thursday drink specials!
URL:https://theshedbarandgrille.com/event/game-night-you-guessed-it-72/
LOCATION:The Shed Bar & Grille\, 11995 S Merrill Rd\, Brant\, MI\, 48614\, United States
CATEGORIES:Games
END:VEVENT
BEGIN:VEVENT
DTSTART;TZID=UTC:20250515T190000
DTEND;TZID=UTC:20250515T190000
DTSTAMP:20260425T114630
CREATED:20250415T162030Z
LAST-MODIFIED:20250415T162030Z
UID:9150-1747335600-1747335600@theshedbarandgrille.com
SUMMARY:Game Night: Trivia
DESCRIPTION:Come test your knowledge with Trivia Night EVERY OTHER THURSDAY at 7pm!\nFree to play\, prizes for top 3 teams and Thirsty Thursday drink specials!
URL:https://theshedbarandgrille.com/event/game-night-trivia-71/
LOCATION:The Shed Bar & Grille\, 11995 S Merrill Rd\, Brant\, MI\, 48614\, United States
CATEGORIES:Games
END:VEVENT
BEGIN:VEVENT
DTSTART;TZID=UTC:20250508T190000
DTEND;TZID=UTC:20250508T190000
DTSTAMP:20260425T114630
CREATED:20250415T162712Z
LAST-MODIFIED:20250415T162712Z
UID:9154-1746730800-1746730800@theshedbarandgrille.com
SUMMARY:Game Night: You Guessed It
DESCRIPTION:Similar to Family Feud\, You Guessed It is at The Shed EVERY OTHER THURSDAY at 7pm!\nFree to play\, prizes for top 3 teams and Thirsty Thursday drink specials!
URL:https://theshedbarandgrille.com/event/game-night-you-guessed-it-71/
LOCATION:The Shed Bar & Grille\, 11995 S Merrill Rd\, Brant\, MI\, 48614\, United States
CATEGORIES:Games
END:VEVENT
BEGIN:VEVENT
DTSTART;TZID=UTC:20250501T190000
DTEND;TZID=UTC:20250501T190000
DTSTAMP:20260425T114630
CREATED:20250324T175921Z
LAST-MODIFIED:20250324T175921Z
UID:9039-1746126000-1746126000@theshedbarandgrille.com
SUMMARY:Game Night: Trivia
DESCRIPTION:Come test your knowledge with Trivia Night EVERY OTHER THURSDAY at 7pm!\nFree to play\, prizes for top 3 teams and Thirsty Thursday drink specials!
URL:https://theshedbarandgrille.com/event/game-night-trivia-70/
LOCATION:The Shed Bar & Grille\, 11995 S Merrill Rd\, Brant\, MI\, 48614\, United States
CATEGORIES:Games
END:VEVENT
BEGIN:VEVENT
DTSTART;TZID=UTC:20250424T190000
DTEND;TZID=UTC:20250424T190000
DTSTAMP:20260425T114630
CREATED:20250324T180117Z
LAST-MODIFIED:20250324T180117Z
UID:9043-1745521200-1745521200@theshedbarandgrille.com
SUMMARY:Game Night: You Guessed It
DESCRIPTION:Similar to Family Feud\, You Guessed It is at The Shed EVERY OTHER THURSDAY at 7pm!\nFree to play\, prizes for top 3 teams and Thirsty Thursday drink specials!
URL:https://theshedbarandgrille.com/event/game-night-you-guessed-it-70/
LOCATION:The Shed Bar & Grille\, 11995 S Merrill Rd\, Brant\, MI\, 48614\, United States
CATEGORIES:Games
END:VEVENT
BEGIN:VEVENT
DTSTART;TZID=UTC:20250417T190000
DTEND;TZID=UTC:20250417T190000
DTSTAMP:20260425T114630
CREATED:20250324T175837Z
LAST-MODIFIED:20250324T175837Z
UID:9037-1744916400-1744916400@theshedbarandgrille.com
SUMMARY:Game Night: Trivia
DESCRIPTION:Come test your knowledge with Trivia Night EVERY OTHER THURSDAY at 7pm!\nFree to play\, prizes for top 3 teams and Thirsty Thursday drink specials!
URL:https://theshedbarandgrille.com/event/game-night-trivia-69/
LOCATION:The Shed Bar & Grille\, 11995 S Merrill Rd\, Brant\, MI\, 48614\, United States
CATEGORIES:Games
END:VEVENT
BEGIN:VEVENT
DTSTART;TZID=UTC:20250410T190000
DTEND;TZID=UTC:20250410T190000
DTSTAMP:20260425T114630
CREATED:20250324T180025Z
LAST-MODIFIED:20250324T180025Z
UID:9041-1744311600-1744311600@theshedbarandgrille.com
SUMMARY:Game Night: You Guessed It
DESCRIPTION:Similar to Family Feud\, You Guessed It is at The Shed EVERY OTHER THURSDAY at 7pm!\nFree to play\, prizes for top 3 teams and Thirsty Thursday drink specials!
URL:https://theshedbarandgrille.com/event/game-night-you-guessed-it-69/
LOCATION:The Shed Bar & Grille\, 11995 S Merrill Rd\, Brant\, MI\, 48614\, United States
CATEGORIES:Games
END:VEVENT
BEGIN:VEVENT
DTSTART;TZID=UTC:20250403T190000
DTEND;TZID=UTC:20250403T190000
DTSTAMP:20260425T114630
CREATED:20250225T000234Z
LAST-MODIFIED:20250225T000234Z
UID:8906-1743706800-1743706800@theshedbarandgrille.com
SUMMARY:Game Night: Trivia
DESCRIPTION:Come test your knowledge with Trivia Night EVERY OTHER THURSDAY at 7pm!\nFree to play\, prizes for top 3 teams and Thirsty Thursday drink specials!
URL:https://theshedbarandgrille.com/event/game-night-trivia-68/
LOCATION:The Shed Bar & Grille\, 11995 S Merrill Rd\, Brant\, MI\, 48614\, United States
CATEGORIES:Games
END:VEVENT
BEGIN:VEVENT
DTSTART;TZID=UTC:20250320T190000
DTEND;TZID=UTC:20250320T190000
DTSTAMP:20260425T114630
CREATED:20250225T000133Z
LAST-MODIFIED:20250225T000133Z
UID:8904-1742497200-1742497200@theshedbarandgrille.com
SUMMARY:Game Night: Trivia
DESCRIPTION:Come test your knowledge with Trivia Night EVERY OTHER THURSDAY at 7pm!\nFree to play\, prizes for top 3 teams and Thirsty Thursday drink specials!
URL:https://theshedbarandgrille.com/event/game-night-trivia-67/
LOCATION:The Shed Bar & Grille\, 11995 S Merrill Rd\, Brant\, MI\, 48614\, United States
CATEGORIES:Games
END:VEVENT
BEGIN:VEVENT
DTSTART;TZID=UTC:20250313T190000
DTEND;TZID=UTC:20250313T190000
DTSTAMP:20260425T114630
CREATED:20250224T235837Z
LAST-MODIFIED:20250224T235837Z
UID:8898-1741892400-1741892400@theshedbarandgrille.com
SUMMARY:Game Night: You Guessed It
DESCRIPTION:Similar to Family Feud\, You Guessed It is at The Shed EVERY OTHER THURSDAY at 7pm!\nFree to play\, prizes for top 3 teams and Thirsty Thursday drink specials!
URL:https://theshedbarandgrille.com/event/game-night-you-guessed-it-68/
LOCATION:The Shed Bar & Grille\, 11995 S Merrill Rd\, Brant\, MI\, 48614\, United States
CATEGORIES:Games
END:VEVENT
BEGIN:VEVENT
DTSTART;TZID=UTC:20250306T190000
DTEND;TZID=UTC:20250306T190000
DTSTAMP:20260425T114630
CREATED:20250225T000046Z
LAST-MODIFIED:20250225T000046Z
UID:8902-1741287600-1741287600@theshedbarandgrille.com
SUMMARY:Game Night: Trivia
DESCRIPTION:Come test your knowledge with Trivia Night EVERY OTHER THURSDAY at 7pm!\nFree to play\, prizes for top 3 teams and Thirsty Thursday drink specials!
URL:https://theshedbarandgrille.com/event/game-night-trivia-66/
LOCATION:The Shed Bar & Grille\, 11995 S Merrill Rd\, Brant\, MI\, 48614\, United States
CATEGORIES:Games
END:VEVENT
BEGIN:VEVENT
DTSTART;TZID=UTC:20250227T190000
DTEND;TZID=UTC:20250227T190000
DTSTAMP:20260425T114630
CREATED:20250113T183347Z
LAST-MODIFIED:20250113T183347Z
UID:8751-1740682800-1740682800@theshedbarandgrille.com
SUMMARY:Game Night: You Guessed It
DESCRIPTION:Similar to Family Feud\, You Guessed It is at The Shed EVERY OTHER THURSDAY at 7pm!\nFree to play\, prizes for top 3 teams and Thirsty Thursday drink specials!
URL:https://theshedbarandgrille.com/event/game-night-you-guessed-it-67/
LOCATION:The Shed Bar & Grille\, 11995 S Merrill Rd\, Brant\, MI\, 48614\, United States
CATEGORIES:Games
END:VEVENT
BEGIN:VEVENT
DTSTART;TZID=UTC:20250220T190000
DTEND;TZID=UTC:20250220T190000
DTSTAMP:20260425T114630
CREATED:20250113T183503Z
LAST-MODIFIED:20250113T183503Z
UID:8753-1740078000-1740078000@theshedbarandgrille.com
SUMMARY:Game Night: Trivia
DESCRIPTION:Similar to Family Feud\, You Guessed It is at The Shed EVERY OTHER THURSDAY at 7pm!\nFree to play\, prizes for top 3 teams and Thirsty Thursday drink specials!
URL:https://theshedbarandgrille.com/event/game-night-trivia-65/
LOCATION:The Shed Bar & Grille\, 11995 S Merrill Rd\, Brant\, MI\, 48614\, United States
CATEGORIES:Games
END:VEVENT
BEGIN:VEVENT
DTSTART;TZID=UTC:20250213T190000
DTEND;TZID=UTC:20250213T190000
DTSTAMP:20260425T114630
CREATED:20250113T183305Z
LAST-MODIFIED:20250113T183305Z
UID:8749-1739473200-1739473200@theshedbarandgrille.com
SUMMARY:Game Night: You Guessed It
DESCRIPTION:Similar to Family Feud\, You Guessed It is at The Shed EVERY OTHER THURSDAY at 7pm!\nFree to play\, prizes for top 3 teams and Thirsty Thursday drink specials!
URL:https://theshedbarandgrille.com/event/game-night-you-guessed-it-66/
LOCATION:The Shed Bar & Grille\, 11995 S Merrill Rd\, Brant\, MI\, 48614\, United States
CATEGORIES:Games
END:VEVENT
BEGIN:VEVENT
DTSTART;TZID=UTC:20250206T190000
DTEND;TZID=UTC:20250206T190000
DTSTAMP:20260425T114630
CREATED:20241230T232522Z
LAST-MODIFIED:20241230T232522Z
UID:8649-1738868400-1738868400@theshedbarandgrille.com
SUMMARY:Game Night: Trivia
DESCRIPTION:Come test your knowledge with Trivia Night EVERY OTHER THURSDAY at 7pm!\nFree to play\, prizes for top 3 teams and Thirsty Thursday drink specials!
URL:https://theshedbarandgrille.com/event/game-night-trivia-64/
LOCATION:The Shed Bar & Grille\, 11995 S Merrill Rd\, Brant\, MI\, 48614\, United States
CATEGORIES:Games
END:VEVENT
BEGIN:VEVENT
DTSTART;TZID=UTC:20250130T190000
DTEND;TZID=UTC:20250130T190000
DTSTAMP:20260425T114630
CREATED:20241230T232227Z
LAST-MODIFIED:20241230T232227Z
UID:8643-1738263600-1738263600@theshedbarandgrille.com
SUMMARY:Game Night: You Guessed It
DESCRIPTION:Similar to Family Feud\, You Guessed It is at The Shed EVERY OTHER THURSDAY at 7pm!\nFree to play\, prizes for top 3 teams and Thirsty Thursday drink specials!
URL:https://theshedbarandgrille.com/event/game-night-you-guessed-it-65/
LOCATION:The Shed Bar & Grille\, 11995 S Merrill Rd\, Brant\, MI\, 48614\, United States
CATEGORIES:Games
END:VEVENT
BEGIN:VEVENT
DTSTART;TZID=UTC:20250123T190000
DTEND;TZID=UTC:20250123T190000
DTSTAMP:20260425T114630
CREATED:20241230T232439Z
LAST-MODIFIED:20241230T232439Z
UID:8647-1737658800-1737658800@theshedbarandgrille.com
SUMMARY:Game Night: Trivia
DESCRIPTION:Come test your knowledge with Trivia Night EVERY OTHER THURSDAY at 7pm!\nFree to play\, prizes for top 3 teams and Thirsty Thursday drink specials!
URL:https://theshedbarandgrille.com/event/game-night-trivia-63/
LOCATION:The Shed Bar & Grille\, 11995 S Merrill Rd\, Brant\, MI\, 48614\, United States
CATEGORIES:Games
END:VEVENT
BEGIN:VEVENT
DTSTART;TZID=UTC:20250116T190000
DTEND;TZID=UTC:20250116T190000
DTSTAMP:20260425T114630
CREATED:20241230T232143Z
LAST-MODIFIED:20241230T232143Z
UID:8641-1737054000-1737054000@theshedbarandgrille.com
SUMMARY:Game Night: You Guessed It
DESCRIPTION:Similar to Family Feud\, You Guessed It is at The Shed EVERY OTHER THURSDAY at 7pm!\nFree to play\, prizes for top 3 teams and Thirsty Thursday drink specials!
URL:https://theshedbarandgrille.com/event/game-night-you-guessed-it-64/
LOCATION:The Shed Bar & Grille\, 11995 S Merrill Rd\, Brant\, MI\, 48614\, United States
CATEGORIES:Games
END:VEVENT
BEGIN:VEVENT
DTSTART;TZID=UTC:20250109T190000
DTEND;TZID=UTC:20250109T190000
DTSTAMP:20260425T114630
CREATED:20241230T232351Z
LAST-MODIFIED:20241230T232351Z
UID:8645-1736449200-1736449200@theshedbarandgrille.com
SUMMARY:Game Night: Trivia
DESCRIPTION:Come test your knowledge with Trivia Night EVERY OTHER THURSDAY at 7pm!\nFree to play\, prizes for top 3 teams and Thirsty Thursday drink specials!
URL:https://theshedbarandgrille.com/event/game-night-trivia-62/
LOCATION:The Shed Bar & Grille\, 11995 S Merrill Rd\, Brant\, MI\, 48614\, United States
CATEGORIES:Games
END:VEVENT
BEGIN:VEVENT
DTSTART;TZID=UTC:20250102T190000
DTEND;TZID=UTC:20250102T190000
DTSTAMP:20260425T114630
CREATED:20241230T232052Z
LAST-MODIFIED:20241230T232052Z
UID:8639-1735844400-1735844400@theshedbarandgrille.com
SUMMARY:Game Night: You Guessed It
DESCRIPTION:Similar to Family Feud\, You Guessed It is at The Shed EVERY OTHER THURSDAY at 7pm!\nFree to play\, prizes for top 3 teams and Thirsty Thursday drink specials!
URL:https://theshedbarandgrille.com/event/game-night-you-guessed-it-63/
LOCATION:The Shed Bar & Grille\, 11995 S Merrill Rd\, Brant\, MI\, 48614\, United States
CATEGORIES:Games
END:VEVENT
BEGIN:VEVENT
DTSTART;TZID=UTC:20241121T190000
DTEND;TZID=UTC:20241121T190000
DTSTAMP:20260425T114630
CREATED:20241029T003932Z
LAST-MODIFIED:20241029T003932Z
UID:8464-1732215600-1732215600@theshedbarandgrille.com
SUMMARY:Game Night: You Guessed It
DESCRIPTION:Similar to Family Feud\, You Guessed It is at The Shed EVERY OTHER THURSDAY at 7pm!\nFree to play\, prizes for top 3 teams and Thirsty Thursday drink specials!
URL:https://theshedbarandgrille.com/event/game-night-you-guessed-it-62/
LOCATION:The Shed Bar & Grille\, 11995 S Merrill Rd\, Brant\, MI\, 48614\, United States
CATEGORIES:Games
END:VEVENT
BEGIN:VEVENT
DTSTART;TZID=UTC:20241114T190000
DTEND;TZID=UTC:20241114T190000
DTSTAMP:20260425T114630
CREATED:20241029T004039Z
LAST-MODIFIED:20241029T004039Z
UID:8466-1731610800-1731610800@theshedbarandgrille.com
SUMMARY:Game Night: Trivia
DESCRIPTION:Come test your knowledge with Trivia Night EVERY OTHER THURSDAY at 7pm!\nFree to play\, prizes for top 3 teams and Thirsty Thursday drink specials!
URL:https://theshedbarandgrille.com/event/game-night-trivia-61/
LOCATION:The Shed Bar & Grille\, 11995 S Merrill Rd\, Brant\, MI\, 48614\, United States
CATEGORIES:Games
END:VEVENT
BEGIN:VEVENT
DTSTART;TZID=UTC:20241107T190000
DTEND;TZID=UTC:20241107T190000
DTSTAMP:20260425T114630
CREATED:20241029T003824Z
LAST-MODIFIED:20241029T003824Z
UID:8462-1731006000-1731006000@theshedbarandgrille.com
SUMMARY:Game Night: You Guessed It
DESCRIPTION:Similar to Family Feud\, You Guessed It is at The Shed EVERY OTHER THURSDAY at 7pm!\nFree to play\, prizes for top 3 teams and Thirsty Thursday drink specials!
URL:https://theshedbarandgrille.com/event/game-night-you-guessed-it-61/
LOCATION:The Shed Bar & Grille\, 11995 S Merrill Rd\, Brant\, MI\, 48614\, United States
CATEGORIES:Games
END:VEVENT
BEGIN:VEVENT
DTSTART;TZID=UTC:20241024T190000
DTEND;TZID=UTC:20241024T190000
DTSTAMP:20260425T114630
CREATED:20240904T141817Z
LAST-MODIFIED:20240904T141817Z
UID:8240-1729796400-1729796400@theshedbarandgrille.com
SUMMARY:Game Night: You Guessed It
DESCRIPTION:Similar to Family Feud\, You Guessed It is at The Shed EVERY OTHER THURSDAY at 7pm!\nFree to play\, prizes for top 3 teams and Thirsty Thursday drink specials!
URL:https://theshedbarandgrille.com/event/game-night-you-guessed-it-60/
LOCATION:The Shed Bar & Grille\, 11995 S Merrill Rd\, Brant\, MI\, 48614\, United States
CATEGORIES:Games
END:VEVENT
BEGIN:VEVENT
DTSTART;TZID=UTC:20241017T190000
DTEND;TZID=UTC:20241017T190000
DTSTAMP:20260425T114630
CREATED:20240904T141305Z
LAST-MODIFIED:20240904T141305Z
UID:8230-1729191600-1729191600@theshedbarandgrille.com
SUMMARY:Game Night: Trivia
DESCRIPTION:Come test your knowledge with Trivia Night EVERY OTHER THURSDAY at 7pm!\nFree to play\, prizes for top 3 teams and Thirsty Thursday drink specials!
URL:https://theshedbarandgrille.com/event/game-night-trivia-60/
LOCATION:The Shed Bar & Grille\, 11995 S Merrill Rd\, Brant\, MI\, 48614\, United States
CATEGORIES:Games
END:VEVENT
BEGIN:VEVENT
DTSTART;TZID=UTC:20241010T190000
DTEND;TZID=UTC:20241010T190000
DTSTAMP:20260425T114630
CREATED:20240904T141737Z
LAST-MODIFIED:20240904T141737Z
UID:8238-1728586800-1728586800@theshedbarandgrille.com
SUMMARY:Game Night: You Guessed It
DESCRIPTION:Similar to Family Feud\, You Guessed It is at The Shed EVERY OTHER THURSDAY at 7pm!\nFree to play\, prizes for top 3 teams and Thirsty Thursday drink specials!
URL:https://theshedbarandgrille.com/event/game-night-you-guessed-it-59/
LOCATION:The Shed Bar & Grille\, 11995 S Merrill Rd\, Brant\, MI\, 48614\, United States
CATEGORIES:Games
END:VEVENT
BEGIN:VEVENT
DTSTART;TZID=UTC:20241003T190000
DTEND;TZID=UTC:20241003T190000
DTSTAMP:20260425T114630
CREATED:20240904T141158Z
LAST-MODIFIED:20240904T141158Z
UID:8228-1727982000-1727982000@theshedbarandgrille.com
SUMMARY:Game Night: Trivia
DESCRIPTION:Come test your knowledge with Trivia Night EVERY OTHER THURSDAY at 7pm!\nFree to play\, prizes for top 3 teams and Thirsty Thursday drink specials!
URL:https://theshedbarandgrille.com/event/game-night-trivia-59/
LOCATION:The Shed Bar & Grille\, 11995 S Merrill Rd\, Brant\, MI\, 48614\, United States
CATEGORIES:Games
END:VEVENT
BEGIN:VEVENT
DTSTART;TZID=UTC:20240926T190000
DTEND;TZID=UTC:20240926T190000
DTSTAMP:20260425T114630
CREATED:20240904T141633Z
LAST-MODIFIED:20240904T141633Z
UID:8236-1727377200-1727377200@theshedbarandgrille.com
SUMMARY:Game Night: You Guessed It
DESCRIPTION:Similar to Family Feud\, You Guessed It is at The Shed EVERY OTHER THURSDAY at 7pm!\nFree to play\, prizes for top 3 teams and Thirsty Thursday drink specials!
URL:https://theshedbarandgrille.com/event/game-night-you-guessed-it-58/
LOCATION:The Shed Bar & Grille\, 11995 S Merrill Rd\, Brant\, MI\, 48614\, United States
CATEGORIES:Games
END:VEVENT
BEGIN:VEVENT
DTSTART;TZID=UTC:20240919T190000
DTEND;TZID=UTC:20240919T190000
DTSTAMP:20260425T114630
CREATED:20240904T141111Z
LAST-MODIFIED:20240904T141111Z
UID:8226-1726772400-1726772400@theshedbarandgrille.com
SUMMARY:Game Night: Trivia
DESCRIPTION:Come test your knowledge with Trivia Night EVERY OTHER THURSDAY at 7pm!\nFree to play\, prizes for top 3 teams and Thirsty Thursday drink specials!
URL:https://theshedbarandgrille.com/event/game-night-trivia-58/
LOCATION:The Shed Bar & Grille\, 11995 S Merrill Rd\, Brant\, MI\, 48614\, United States
CATEGORIES:Games
END:VEVENT
BEGIN:VEVENT
DTSTART;TZID=UTC:20240912T190000
DTEND;TZID=UTC:20240912T190000
DTSTAMP:20260425T114630
CREATED:20240904T141526Z
LAST-MODIFIED:20240904T141526Z
UID:8234-1726167600-1726167600@theshedbarandgrille.com
SUMMARY:Game Night: You Guessed It
DESCRIPTION:Similar to Family Feud\, You Guessed It is at The Shed EVERY OTHER THURSDAY at 7pm!\nFree to play\, prizes for top 3 teams and Thirsty Thursday drink specials!
URL:https://theshedbarandgrille.com/event/game-night-you-guessed-it-57/
LOCATION:The Shed Bar & Grille\, 11995 S Merrill Rd\, Brant\, MI\, 48614\, United States
CATEGORIES:Games
END:VEVENT
END:VCALENDAR