BEGIN:VCALENDAR
VERSION:2.0
PRODID:-//The Shed Bar &amp; Grille - ECPv6.15.20//NONSGML v1.0//EN
CALSCALE:GREGORIAN
METHOD:PUBLISH
X-ORIGINAL-URL:https://theshedbarandgrille.com
X-WR-CALDESC:Events for The Shed Bar &amp; Grille
REFRESH-INTERVAL;VALUE=DURATION:PT1H
X-Robots-Tag:noindex
X-PUBLISHED-TTL:PT1H
BEGIN:VTIMEZONE
TZID:UTC
BEGIN:STANDARD
TZOFFSETFROM:+0000
TZOFFSETTO:+0000
TZNAME:UTC
DTSTART:20210101T000000
END:STANDARD
END:VTIMEZONE
BEGIN:VEVENT
DTSTART;TZID=UTC:20230330T190000
DTEND;TZID=UTC:20230330T190000
DTSTAMP:20260426T012253
CREATED:20230106T042624Z
LAST-MODIFIED:20230106T042624Z
UID:6262-1680202800-1680202800@theshedbarandgrille.com
SUMMARY:Game Night: Trivia
DESCRIPTION:Come test your knowledge with Trivia Night EVERY OTHER THURSDAY at 7pm!\nFree to play\, prizes for top 3 teams and Thirsty Thursday drink specials!
URL:https://theshedbarandgrille.com/event/game-night-trivia-22/
LOCATION:The Shed Bar & Grille\, 11995 S Merrill Rd\, Brant\, MI\, 48614\, United States
CATEGORIES:Games
END:VEVENT
BEGIN:VEVENT
DTSTART;TZID=UTC:20230323T190000
DTEND;TZID=UTC:20230323T190000
DTSTAMP:20260426T012253
CREATED:20230106T035300Z
LAST-MODIFIED:20230106T035300Z
UID:6210-1679598000-1679598000@theshedbarandgrille.com
SUMMARY:Game Night: You Guessed It
DESCRIPTION:Similar to Family Feud\, You Guessed It is at The Shed EVERY OTHER THURSDAY at 7pm!\nFree to play\, prizes for top 3 teams and Thirsty Thursday drink specials!
URL:https://theshedbarandgrille.com/event/game-night-you-guessed-it-21/
LOCATION:The Shed Bar & Grille\, 11995 S Merrill Rd\, Brant\, MI\, 48614\, United States
CATEGORIES:Games
END:VEVENT
BEGIN:VEVENT
DTSTART;TZID=UTC:20230316T190000
DTEND;TZID=UTC:20230316T190000
DTSTAMP:20260426T012253
CREATED:20230106T042525Z
LAST-MODIFIED:20230106T042525Z
UID:6260-1678993200-1678993200@theshedbarandgrille.com
SUMMARY:Game Night: Trivia
DESCRIPTION:Come test your knowledge with Trivia Night EVERY OTHER THURSDAY at 7pm!\nFree to play\, prizes for top 3 teams and Thirsty Thursday drink specials!
URL:https://theshedbarandgrille.com/event/game-night-trivia-21/
LOCATION:The Shed Bar & Grille\, 11995 S Merrill Rd\, Brant\, MI\, 48614\, United States
CATEGORIES:Games
END:VEVENT
BEGIN:VEVENT
DTSTART;TZID=UTC:20230309T190000
DTEND;TZID=UTC:20230309T190000
DTSTAMP:20260426T012253
CREATED:20230106T035150Z
LAST-MODIFIED:20230106T035150Z
UID:6208-1678388400-1678388400@theshedbarandgrille.com
SUMMARY:Game Night: You Guessed It
DESCRIPTION:Similar to Family Feud\, You Guessed It is at The Shed EVERY OTHER THURSDAY at 7pm!\nFree to play\, prizes for top 3 teams and Thirsty Thursday drink specials!
URL:https://theshedbarandgrille.com/event/game-night-you-guessed-it-20/
LOCATION:The Shed Bar & Grille\, 11995 S Merrill Rd\, Brant\, MI\, 48614\, United States
CATEGORIES:Games
END:VEVENT
BEGIN:VEVENT
DTSTART;TZID=UTC:20230302T190000
DTEND;TZID=UTC:20230302T190000
DTSTAMP:20260426T012253
CREATED:20230106T042437Z
LAST-MODIFIED:20230106T042437Z
UID:6258-1677783600-1677783600@theshedbarandgrille.com
SUMMARY:Game Night: Trivia
DESCRIPTION:Come test your knowledge with Trivia Night EVERY OTHER THURSDAY at 7pm!\nFree to play\, prizes for top 3 teams and Thirsty Thursday drink specials!
URL:https://theshedbarandgrille.com/event/game-night-trivia-20/
LOCATION:The Shed Bar & Grille\, 11995 S Merrill Rd\, Brant\, MI\, 48614\, United States
CATEGORIES:Games
END:VEVENT
BEGIN:VEVENT
DTSTART;TZID=UTC:20230223T190000
DTEND;TZID=UTC:20230223T190000
DTSTAMP:20260426T012253
CREATED:20230106T035050Z
LAST-MODIFIED:20230106T035050Z
UID:6206-1677178800-1677178800@theshedbarandgrille.com
SUMMARY:Game Night: You Guessed It
DESCRIPTION:Similar to Family Feud\, You Guessed It is at The Shed EVERY OTHER THURSDAY at 7pm!\nFree to play\, prizes for top 3 teams and Thirsty Thursday drink specials!
URL:https://theshedbarandgrille.com/event/game-night-you-guessed-it-19/
LOCATION:The Shed Bar & Grille\, 11995 S Merrill Rd\, Brant\, MI\, 48614\, United States
CATEGORIES:Games
END:VEVENT
BEGIN:VEVENT
DTSTART;TZID=UTC:20230216T190000
DTEND;TZID=UTC:20230216T190000
DTSTAMP:20260426T012253
CREATED:20230106T042333Z
LAST-MODIFIED:20230106T042333Z
UID:6256-1676574000-1676574000@theshedbarandgrille.com
SUMMARY:Game Night: Trivia
DESCRIPTION:Come test your knowledge with Trivia Night EVERY OTHER THURSDAY at 7pm!\nFree to play\, prizes for top 3 teams and Thirsty Thursday drink specials!
URL:https://theshedbarandgrille.com/event/game-night-trivia-19/
LOCATION:The Shed Bar & Grille\, 11995 S Merrill Rd\, Brant\, MI\, 48614\, United States
CATEGORIES:Games
END:VEVENT
BEGIN:VEVENT
DTSTART;TZID=UTC:20230209T190000
DTEND;TZID=UTC:20230209T190000
DTSTAMP:20260426T012253
CREATED:20230106T034934Z
LAST-MODIFIED:20230106T034934Z
UID:6204-1675969200-1675969200@theshedbarandgrille.com
SUMMARY:Game Night: You Guessed It
DESCRIPTION:Similar to Family Feud\, You Guessed It is at The Shed EVERY OTHER THURSDAY at 7pm!\nFree to play\, prizes for top 3 teams and Thirsty Thursday drink specials!
URL:https://theshedbarandgrille.com/event/game-night-you-guessed-it-18/
LOCATION:The Shed Bar & Grille\, 11995 S Merrill Rd\, Brant\, MI\, 48614\, United States
CATEGORIES:Games
END:VEVENT
BEGIN:VEVENT
DTSTART;TZID=UTC:20230202T190000
DTEND;TZID=UTC:20230202T190000
DTSTAMP:20260426T012253
CREATED:20230106T042231Z
LAST-MODIFIED:20230106T042231Z
UID:6254-1675364400-1675364400@theshedbarandgrille.com
SUMMARY:Game Night: Trivia
DESCRIPTION:Come test your knowledge with Trivia Night EVERY OTHER THURSDAY at 7pm!\nFree to play\, prizes for top 3 teams and Thirsty Thursday drink specials!
URL:https://theshedbarandgrille.com/event/game-night-trivia-18/
LOCATION:The Shed Bar & Grille\, 11995 S Merrill Rd\, Brant\, MI\, 48614\, United States
CATEGORIES:Games
END:VEVENT
BEGIN:VEVENT
DTSTART;TZID=UTC:20230126T190000
DTEND;TZID=UTC:20230126T190000
DTSTAMP:20260426T012253
CREATED:20230106T034830Z
LAST-MODIFIED:20230106T034830Z
UID:6202-1674759600-1674759600@theshedbarandgrille.com
SUMMARY:Game Night: You Guessed It
DESCRIPTION:Similar to Family Feud\, You Guessed It is at The Shed EVERY OTHER THURSDAY at 7pm!\nFree to play\, prizes for top 3 teams and Thirsty Thursday drink specials!
URL:https://theshedbarandgrille.com/event/game-night-you-guessed-it-17/
LOCATION:The Shed Bar & Grille\, 11995 S Merrill Rd\, Brant\, MI\, 48614\, United States
CATEGORIES:Games
END:VEVENT
BEGIN:VEVENT
DTSTART;TZID=UTC:20230119T190000
DTEND;TZID=UTC:20230119T190000
DTSTAMP:20260426T012253
CREATED:20230106T042136Z
LAST-MODIFIED:20230106T042136Z
UID:6252-1674154800-1674154800@theshedbarandgrille.com
SUMMARY:Game Night: Trivia
DESCRIPTION:Come test your knowledge with Trivia Night EVERY OTHER THURSDAY at 7pm!\nFree to play\, prizes for top 3 teams and Thirsty Thursday drink specials!
URL:https://theshedbarandgrille.com/event/game-night-trivia-17/
LOCATION:The Shed Bar & Grille\, 11995 S Merrill Rd\, Brant\, MI\, 48614\, United States
CATEGORIES:Games
END:VEVENT
BEGIN:VEVENT
DTSTART;TZID=UTC:20230112T190000
DTEND;TZID=UTC:20230112T190000
DTSTAMP:20260426T012253
CREATED:20230106T034720Z
LAST-MODIFIED:20230106T034720Z
UID:6200-1673550000-1673550000@theshedbarandgrille.com
SUMMARY:Game Night: You Guessed It
DESCRIPTION:Similar to Family Feud\, You Guessed It is at The Shed EVERY OTHER THURSDAY at 7pm!\nFree to play\, prizes for top 3 teams and Thirsty Thursday drink specials!
URL:https://theshedbarandgrille.com/event/game-night-you-guessed-it-11/
LOCATION:The Shed Bar & Grille\, 11995 S Merrill Rd\, Brant\, MI\, 48614\, United States
CATEGORIES:Games
END:VEVENT
BEGIN:VEVENT
DTSTART;TZID=UTC:20221229T190000
DTEND;TZID=UTC:20221229T190000
DTSTAMP:20260426T012253
CREATED:20220825T180703Z
LAST-MODIFIED:20220825T180703Z
UID:5279-1672340400-1672340400@theshedbarandgrille.com
SUMMARY:Game Night: You Guessed It
DESCRIPTION:Similar to Family Feud\, You Guessed It is at The Shed EVERY OTHER THURSDAY at 7pm!\nFree to play\, prizes for top 3 teams and Thirsty Thursday drink specials!
URL:https://theshedbarandgrille.com/event/game-night-you-guessed-it-16/
LOCATION:The Shed Bar & Grille\, 11995 S Merrill Rd\, Brant\, MI\, 48614\, United States
CATEGORIES:Games
END:VEVENT
BEGIN:VEVENT
DTSTART;TZID=UTC:20221222T190000
DTEND;TZID=UTC:20221222T190000
DTSTAMP:20260426T012253
CREATED:20220825T181459Z
LAST-MODIFIED:20220825T181459Z
UID:5295-1671735600-1671735600@theshedbarandgrille.com
SUMMARY:Game Night: Trivia
DESCRIPTION:Come test your knowledge with Trivia Night EVERY OTHER THURSDAY at 7pm!\nFree to play\, prizes for top 3 teams and Thirsty Thursday drink specials!
URL:https://theshedbarandgrille.com/event/game-night-trivia-16/
LOCATION:The Shed Bar & Grille\, 11995 S Merrill Rd\, Brant\, MI\, 48614\, United States
CATEGORIES:Games
END:VEVENT
BEGIN:VEVENT
DTSTART;TZID=UTC:20221215T190000
DTEND;TZID=UTC:20221215T190000
DTSTAMP:20260426T012253
CREATED:20220825T180625Z
LAST-MODIFIED:20220825T180625Z
UID:5277-1671130800-1671130800@theshedbarandgrille.com
SUMMARY:Game Night: You Guessed It
DESCRIPTION:Similar to Family Feud\, You Guessed It is at The Shed EVERY OTHER THURSDAY at 7pm!\nFree to play\, prizes for top 3 teams and Thirsty Thursday drink specials!
URL:https://theshedbarandgrille.com/event/game-night-you-guessed-it-15/
LOCATION:The Shed Bar & Grille\, 11995 S Merrill Rd\, Brant\, MI\, 48614\, United States
CATEGORIES:Games
END:VEVENT
BEGIN:VEVENT
DTSTART;TZID=UTC:20221208T190000
DTEND;TZID=UTC:20221208T190000
DTSTAMP:20260426T012253
CREATED:20220825T181406Z
LAST-MODIFIED:20220825T181406Z
UID:5293-1670526000-1670526000@theshedbarandgrille.com
SUMMARY:Game Night: Trivia
DESCRIPTION:Come test your knowledge with Trivia Night EVERY OTHER THURSDAY at 7pm!\nFree to play\, prizes for top 3 teams and Thirsty Thursday drink specials!
URL:https://theshedbarandgrille.com/event/game-night-trivia-15/
LOCATION:The Shed Bar & Grille\, 11995 S Merrill Rd\, Brant\, MI\, 48614\, United States
CATEGORIES:Games
END:VEVENT
BEGIN:VEVENT
DTSTART;TZID=UTC:20221201T190000
DTEND;TZID=UTC:20221201T190000
DTSTAMP:20260426T012253
CREATED:20220825T180542Z
LAST-MODIFIED:20220825T180542Z
UID:5275-1669921200-1669921200@theshedbarandgrille.com
SUMMARY:Game Night: You Guessed It
DESCRIPTION:Similar to Family Feud\, You Guessed It is at The Shed EVERY OTHER THURSDAY at 7pm!\nFree to play\, prizes for top 3 teams and Thirsty Thursday drink specials!
URL:https://theshedbarandgrille.com/event/game-night-you-guessed-it-14/
LOCATION:The Shed Bar & Grille\, 11995 S Merrill Rd\, Brant\, MI\, 48614\, United States
CATEGORIES:Games
END:VEVENT
BEGIN:VEVENT
DTSTART;TZID=UTC:20221117T190000
DTEND;TZID=UTC:20221117T190000
DTSTAMP:20260426T012253
CREATED:20220825T180407Z
LAST-MODIFIED:20220825T180407Z
UID:5273-1668711600-1668711600@theshedbarandgrille.com
SUMMARY:Game Night: You Guessed It
DESCRIPTION:Similar to Family Feud\, You Guessed It is at The Shed EVERY OTHER THURSDAY at 7pm!\nFree to play\, prizes for top 3 teams and Thirsty Thursday drink specials!
URL:https://theshedbarandgrille.com/event/game-night-you-guessed-it-13/
LOCATION:The Shed Bar & Grille\, 11995 S Merrill Rd\, Brant\, MI\, 48614\, United States
CATEGORIES:Games
END:VEVENT
BEGIN:VEVENT
DTSTART;TZID=UTC:20221110T190000
DTEND;TZID=UTC:20221110T190000
DTSTAMP:20260426T012253
CREATED:20220825T181315Z
LAST-MODIFIED:20220825T181315Z
UID:5291-1668106800-1668106800@theshedbarandgrille.com
SUMMARY:Game Night: Trivia
DESCRIPTION:Come test your knowledge with Trivia Night EVERY OTHER THURSDAY at 7pm!\nFree to play\, prizes for top 3 teams and Thirsty Thursday drink specials!
URL:https://theshedbarandgrille.com/event/game-night-trivia-14/
LOCATION:The Shed Bar & Grille\, 11995 S Merrill Rd\, Brant\, MI\, 48614\, United States
CATEGORIES:Games
END:VEVENT
BEGIN:VEVENT
DTSTART;TZID=UTC:20221103T190000
DTEND;TZID=UTC:20221103T190000
DTSTAMP:20260426T012253
CREATED:20220825T180323Z
LAST-MODIFIED:20220825T180323Z
UID:5271-1667502000-1667502000@theshedbarandgrille.com
SUMMARY:Game Night: You Guessed It
DESCRIPTION:Similar to Family Feud\, You Guessed It is at The Shed EVERY OTHER THURSDAY at 7pm!\nFree to play\, prizes for top 3 teams and Thirsty Thursday drink specials!
URL:https://theshedbarandgrille.com/event/game-night-you-guessed-it-12/
LOCATION:The Shed Bar & Grille\, 11995 S Merrill Rd\, Brant\, MI\, 48614\, United States
CATEGORIES:Games
END:VEVENT
BEGIN:VEVENT
DTSTART;TZID=UTC:20221027T190000
DTEND;TZID=UTC:20221027T190000
DTSTAMP:20260426T012253
CREATED:20220825T181241Z
LAST-MODIFIED:20220825T181241Z
UID:5289-1666897200-1666897200@theshedbarandgrille.com
SUMMARY:Game Night: Trivia
DESCRIPTION:Come test your knowledge with Trivia Night EVERY OTHER THURSDAY at 7pm!\nFree to play\, prizes for top 3 teams and Thirsty Thursday drink specials!
URL:https://theshedbarandgrille.com/event/game-night-trivia-13/
LOCATION:The Shed Bar & Grille\, 11995 S Merrill Rd\, Brant\, MI\, 48614\, United States
CATEGORIES:Games
END:VEVENT
BEGIN:VEVENT
DTSTART;TZID=UTC:20221013T190000
DTEND;TZID=UTC:20221013T190000
DTSTAMP:20260426T012253
CREATED:20220825T181200Z
LAST-MODIFIED:20220825T181200Z
UID:5287-1665687600-1665687600@theshedbarandgrille.com
SUMMARY:Game Night: Trivia
DESCRIPTION:Come test your knowledge with Trivia Night EVERY OTHER THURSDAY at 7pm!\nFree to play\, prizes for top 3 teams and Thirsty Thursday drink specials!
URL:https://theshedbarandgrille.com/event/game-night-trivia-12/
LOCATION:The Shed Bar & Grille\, 11995 S Merrill Rd\, Brant\, MI\, 48614\, United States
CATEGORIES:Games
END:VEVENT
BEGIN:VEVENT
DTSTART;TZID=UTC:20221006T190000
DTEND;TZID=UTC:20221006T190000
DTSTAMP:20260426T012253
CREATED:20220825T180058Z
LAST-MODIFIED:20220825T180058Z
UID:5267-1665082800-1665082800@theshedbarandgrille.com
SUMMARY:Game Night: You Guessed It
DESCRIPTION:Similar to Family Feud\, You Guessed It is at The Shed EVERY OTHER THURSDAY at 7pm!\nFree to play\, prizes for top 3 teams and Thirsty Thursday drink specials!
URL:https://theshedbarandgrille.com/event/game-night-you-guessed-it-10/
LOCATION:The Shed Bar & Grille\, 11995 S Merrill Rd\, Brant\, MI\, 48614\, United States
CATEGORIES:Games
END:VEVENT
BEGIN:VEVENT
DTSTART;TZID=UTC:20220929T190000
DTEND;TZID=UTC:20220929T190000
DTSTAMP:20260426T012253
CREATED:20220825T181052Z
LAST-MODIFIED:20220825T181052Z
UID:5285-1664478000-1664478000@theshedbarandgrille.com
SUMMARY:Game Night: Trivia
DESCRIPTION:Come test your knowledge with Trivia Night EVERY OTHER THURSDAY at 7pm!\nFree to play\, prizes for top 3 teams and Thirsty Thursday drink specials!
URL:https://theshedbarandgrille.com/event/game-night-trivia-11/
LOCATION:The Shed Bar & Grille\, 11995 S Merrill Rd\, Brant\, MI\, 48614\, United States
CATEGORIES:Games
END:VEVENT
BEGIN:VEVENT
DTSTART;TZID=UTC:20220922T190000
DTEND;TZID=UTC:20220922T190000
DTSTAMP:20260426T012253
CREATED:20220825T180013Z
LAST-MODIFIED:20220825T180013Z
UID:5265-1663873200-1663873200@theshedbarandgrille.com
SUMMARY:Game Night: You Guessed It
DESCRIPTION:Similar to Family Feud\, You Guessed It is at The Shed EVERY OTHER THURSDAY at 7pm!\nFree to play\, prizes for top 3 teams and Thirsty Thursday drink specials!
URL:https://theshedbarandgrille.com/event/game-night-you-guessed-it-9/
LOCATION:The Shed Bar & Grille\, 11995 S Merrill Rd\, Brant\, MI\, 48614\, United States
CATEGORIES:Games
END:VEVENT
BEGIN:VEVENT
DTSTART;TZID=UTC:20220915T190000
DTEND;TZID=UTC:20220915T190000
DTSTAMP:20260426T012253
CREATED:20220825T181011Z
LAST-MODIFIED:20220825T181011Z
UID:5283-1663268400-1663268400@theshedbarandgrille.com
SUMMARY:Game Night: Trivia
DESCRIPTION:Come test your knowledge with Trivia Night EVERY OTHER THURSDAY at 7pm!\nFree to play\, prizes for top 3 teams and Thirsty Thursday drink specials!
URL:https://theshedbarandgrille.com/event/game-night-trivia-10/
LOCATION:The Shed Bar & Grille\, 11995 S Merrill Rd\, Brant\, MI\, 48614\, United States
CATEGORIES:Games
END:VEVENT
BEGIN:VEVENT
DTSTART;TZID=UTC:20220908T190000
DTEND;TZID=UTC:20220908T190000
DTSTAMP:20260426T012253
CREATED:20220825T175859Z
LAST-MODIFIED:20220825T175859Z
UID:5263-1662663600-1662663600@theshedbarandgrille.com
SUMMARY:Game Night: You Guessed It
DESCRIPTION:Similar to Family Feud\, You Guessed It is at The Shed EVERY OTHER THURSDAY at 7pm!\nFree to play\, prizes for top 3 teams and Thirsty Thursday drink specials!
URL:https://theshedbarandgrille.com/event/game-night-you-guessed-it-8/
LOCATION:The Shed Bar & Grille\, 11995 S Merrill Rd\, Brant\, MI\, 48614\, United States
CATEGORIES:Games
END:VEVENT
BEGIN:VEVENT
DTSTART;TZID=UTC:20220901T190000
DTEND;TZID=UTC:20220901T190000
DTSTAMP:20260426T012253
CREATED:20220825T180927Z
LAST-MODIFIED:20220825T180927Z
UID:5281-1662058800-1662058800@theshedbarandgrille.com
SUMMARY:Game Night: Trivia
DESCRIPTION:Come test your knowledge with Trivia Night EVERY OTHER THURSDAY at 7pm!\nFree to play\, prizes for top 3 teams and Thirsty Thursday drink specials!
URL:https://theshedbarandgrille.com/event/game-night-trivia-9/
LOCATION:The Shed Bar & Grille\, 11995 S Merrill Rd\, Brant\, MI\, 48614\, United States
CATEGORIES:Games
END:VEVENT
BEGIN:VEVENT
DTSTART;TZID=UTC:20220825T190000
DTEND;TZID=UTC:20220825T190000
DTSTAMP:20260426T012253
CREATED:20220718T020854Z
LAST-MODIFIED:20220718T020854Z
UID:4971-1661454000-1661454000@theshedbarandgrille.com
SUMMARY:Game Night: You Guessed It
DESCRIPTION:Similar to Family Feud\, You Guessed It is at The Shed EVERY OTHER THURSDAY at 7pm!\nFree to play\, prizes for top 3 teams and Thirsty Thursday drink specials!
URL:https://theshedbarandgrille.com/event/game-night-you-guessed-it-7/
LOCATION:The Shed Bar & Grille\, 11995 S Merrill Rd\, Brant\, MI\, 48614\, United States
CATEGORIES:Games
END:VEVENT
BEGIN:VEVENT
DTSTART;TZID=UTC:20220818T190000
DTEND;TZID=UTC:20220818T190000
DTSTAMP:20260426T012253
CREATED:20220718T020623Z
LAST-MODIFIED:20220718T020623Z
UID:4965-1660849200-1660849200@theshedbarandgrille.com
SUMMARY:Game Night: Trivia
DESCRIPTION:Come test your knowledge with Trivia Night EVERY OTHER THURSDAY at 7pm!\nFree to play\, prizes for top 3 teams and Thirsty Thursday drink specials!\n 
URL:https://theshedbarandgrille.com/event/game-night-trivia-8/
LOCATION:The Shed Bar & Grille\, 11995 S Merrill Rd\, Brant\, MI\, 48614\, United States
CATEGORIES:Games
END:VEVENT
END:VCALENDAR