BEGIN:VCALENDAR
VERSION:2.0
PRODID:-//The Shed Bar &amp; Grille - ECPv6.15.20//NONSGML v1.0//EN
CALSCALE:GREGORIAN
METHOD:PUBLISH
X-ORIGINAL-URL:https://theshedbarandgrille.com
X-WR-CALDESC:Events for The Shed Bar &amp; Grille
REFRESH-INTERVAL;VALUE=DURATION:PT1H
X-Robots-Tag:noindex
X-PUBLISHED-TTL:PT1H
BEGIN:VTIMEZONE
TZID:UTC
BEGIN:STANDARD
TZOFFSETFROM:+0000
TZOFFSETTO:+0000
TZNAME:UTC
DTSTART:20220101T000000
END:STANDARD
END:VTIMEZONE
BEGIN:VEVENT
DTSTART;TZID=UTC:20240411T190000
DTEND;TZID=UTC:20240411T190000
DTSTAMP:20260425T184056
CREATED:20240402T021909Z
LAST-MODIFIED:20240402T021909Z
UID:7738-1712862000-1712862000@theshedbarandgrille.com
SUMMARY:Game Night: Trivia
DESCRIPTION:Come test your knowledge with Trivia Night EVERY OTHER THURSDAY at 7pm!\nFree to play\, prizes for top 3 teams and Thirsty Thursday drink specials!
URL:https://theshedbarandgrille.com/event/game-night-trivia-47/
LOCATION:The Shed Bar & Grille\, 11995 S Merrill Rd\, Brant\, MI\, 48614\, United States
CATEGORIES:Games
END:VEVENT
BEGIN:VEVENT
DTSTART;TZID=UTC:20240404T190000
DTEND;TZID=UTC:20240404T190000
DTSTAMP:20260425T184056
CREATED:20240228T021045Z
LAST-MODIFIED:20240228T021045Z
UID:7575-1712257200-1712257200@theshedbarandgrille.com
SUMMARY:Game Night: You Guessed It
DESCRIPTION:Similar to Family Feud\, You Guessed It is at The Shed EVERY OTHER THURSDAY at 7pm!\nFree to play\, prizes for top 3 teams and Thirsty Thursday drink specials!
URL:https://theshedbarandgrille.com/event/game-night-you-guessed-it-46/
LOCATION:The Shed Bar & Grille\, 11995 S Merrill Rd\, Brant\, MI\, 48614\, United States
CATEGORIES:Games
END:VEVENT
BEGIN:VEVENT
DTSTART;TZID=UTC:20240328T190000
DTEND;TZID=UTC:20240328T190000
DTSTAMP:20260425T184056
CREATED:20240228T020835Z
LAST-MODIFIED:20240228T020835Z
UID:7571-1711652400-1711652400@theshedbarandgrille.com
SUMMARY:Game Night: Trivia
DESCRIPTION:Come test your knowledge with Trivia Night EVERY OTHER THURSDAY at 7pm!\nFree to play\, prizes for top 3 teams and Thirsty Thursday drink specials!
URL:https://theshedbarandgrille.com/event/game-night-trivia-46/
LOCATION:The Shed Bar & Grille\, 11995 S Merrill Rd\, Brant\, MI\, 48614\, United States
CATEGORIES:Games
END:VEVENT
BEGIN:VEVENT
DTSTART;TZID=UTC:20240321T190000
DTEND;TZID=UTC:20240321T190000
DTSTAMP:20260425T184056
CREATED:20240228T020953Z
LAST-MODIFIED:20240228T020953Z
UID:7573-1711047600-1711047600@theshedbarandgrille.com
SUMMARY:Game Night: You Guessed It
DESCRIPTION:Similar to Family Feud\, You Guessed It is at The Shed EVERY OTHER THURSDAY at 7pm!\nFree to play\, prizes for top 3 teams and Thirsty Thursday drink specials!
URL:https://theshedbarandgrille.com/event/game-night-you-guessed-it-45/
LOCATION:The Shed Bar & Grille\, 11995 S Merrill Rd\, Brant\, MI\, 48614\, United States
CATEGORIES:Games
END:VEVENT
BEGIN:VEVENT
DTSTART;TZID=UTC:20240314T190000
DTEND;TZID=UTC:20240314T190000
DTSTAMP:20260425T184056
CREATED:20240228T020759Z
LAST-MODIFIED:20240228T020759Z
UID:7569-1710442800-1710442800@theshedbarandgrille.com
SUMMARY:Game Night: Trivia
DESCRIPTION:Come test your knowledge with Trivia Night EVERY OTHER THURSDAY at 7pm!\nFree to play\, prizes for top 3 teams and Thirsty Thursday drink specials!
URL:https://theshedbarandgrille.com/event/game-night-trivia-45/
LOCATION:The Shed Bar & Grille\, 11995 S Merrill Rd\, Brant\, MI\, 48614\, United States
CATEGORIES:Games
END:VEVENT
BEGIN:VEVENT
DTSTART;TZID=UTC:20240307T190000
DTEND;TZID=UTC:20240307T190000
DTSTAMP:20260425T184056
CREATED:20240126T191303Z
LAST-MODIFIED:20240126T191303Z
UID:7446-1709838000-1709838000@theshedbarandgrille.com
SUMMARY:Game Night: You Guessed It
DESCRIPTION:Similar to Family Feud\, You Guessed It is at The Shed EVERY OTHER THURSDAY at 7pm!\nFree to play\, prizes for top 3 teams and Thirsty Thursday drink specials!
URL:https://theshedbarandgrille.com/event/game-night-you-guessed-it-44/
LOCATION:The Shed Bar & Grille\, 11995 S Merrill Rd\, Brant\, MI\, 48614\, United States
CATEGORIES:Games
END:VEVENT
BEGIN:VEVENT
DTSTART;TZID=UTC:20240229T190000
DTEND;TZID=UTC:20240229T190000
DTSTAMP:20260425T184056
CREATED:20240126T191008Z
LAST-MODIFIED:20240126T191008Z
UID:7440-1709233200-1709233200@theshedbarandgrille.com
SUMMARY:Game Night: Trivia
DESCRIPTION:Come test your knowledge with Trivia Night EVERY OTHER THURSDAY at 7pm!\nFree to play\, prizes for top 3 teams and Thirsty Thursday drink specials!
URL:https://theshedbarandgrille.com/event/game-night-trivia-44/
LOCATION:The Shed Bar & Grille\, 11995 S Merrill Rd\, Brant\, MI\, 48614\, United States
CATEGORIES:Games
END:VEVENT
BEGIN:VEVENT
DTSTART;TZID=UTC:20240222T190000
DTEND;TZID=UTC:20240222T190000
DTSTAMP:20260425T184056
CREATED:20240126T191220Z
LAST-MODIFIED:20240126T191220Z
UID:7444-1708628400-1708628400@theshedbarandgrille.com
SUMMARY:Game Night: You Guessed It
DESCRIPTION:Similar to Family Feud\, You Guessed It is at The Shed EVERY OTHER THURSDAY at 7pm!\nFree to play\, prizes for top 3 teams and Thirsty Thursday drink specials!
URL:https://theshedbarandgrille.com/event/game-night-you-guessed-it-43/
LOCATION:The Shed Bar & Grille\, 11995 S Merrill Rd\, Brant\, MI\, 48614\, United States
CATEGORIES:Games
END:VEVENT
BEGIN:VEVENT
DTSTART;TZID=UTC:20240215T190000
DTEND;TZID=UTC:20240215T190000
DTSTAMP:20260425T184056
CREATED:20240126T190926Z
LAST-MODIFIED:20240126T190926Z
UID:7438-1708023600-1708023600@theshedbarandgrille.com
SUMMARY:Game Night: Trivia
DESCRIPTION:Come test your knowledge with Trivia Night EVERY OTHER THURSDAY at 7pm!\nFree to play\, prizes for top 3 teams and Thirsty Thursday drink specials!
URL:https://theshedbarandgrille.com/event/game-night-trivia-43/
LOCATION:The Shed Bar & Grille\, 11995 S Merrill Rd\, Brant\, MI\, 48614\, United States
CATEGORIES:Games
END:VEVENT
BEGIN:VEVENT
DTSTART;TZID=UTC:20240208T190000
DTEND;TZID=UTC:20240208T190000
DTSTAMP:20260425T184056
CREATED:20240126T191137Z
LAST-MODIFIED:20240126T191137Z
UID:7442-1707418800-1707418800@theshedbarandgrille.com
SUMMARY:Game Night: You Guessed It
DESCRIPTION:Similar to Family Feud\, You Guessed It is at The Shed EVERY OTHER THURSDAY at 7pm!\nFree to play\, prizes for top 3 teams and Thirsty Thursday drink specials!
URL:https://theshedbarandgrille.com/event/game-night-you-guessed-it-42/
LOCATION:The Shed Bar & Grille\, 11995 S Merrill Rd\, Brant\, MI\, 48614\, United States
CATEGORIES:Games
END:VEVENT
BEGIN:VEVENT
DTSTART;TZID=UTC:20240201T190000
DTEND;TZID=UTC:20240201T190000
DTSTAMP:20260425T184056
CREATED:20240126T190845Z
LAST-MODIFIED:20240126T190845Z
UID:7436-1706814000-1706814000@theshedbarandgrille.com
SUMMARY:Game Night: Trivia
DESCRIPTION:Come test your knowledge with Trivia Night EVERY OTHER THURSDAY at 7pm!\nFree to play\, prizes for top 3 teams and Thirsty Thursday drink specials!
URL:https://theshedbarandgrille.com/event/game-night-trivia-42/
LOCATION:The Shed Bar & Grille\, 11995 S Merrill Rd\, Brant\, MI\, 48614\, United States
CATEGORIES:Games
END:VEVENT
BEGIN:VEVENT
DTSTART;TZID=UTC:20240104T190000
DTEND;TZID=UTC:20240104T190000
DTSTAMP:20260425T184056
CREATED:20231229T161351Z
LAST-MODIFIED:20231229T161351Z
UID:7307-1704394800-1704394800@theshedbarandgrille.com
SUMMARY:Game Night: Trivia
DESCRIPTION:Come test your knowledge with Trivia Night EVERY OTHER THURSDAY at 7pm!\nFree to play\, prizes for top 3 teams and Thirsty Thursday drink specials!
URL:https://theshedbarandgrille.com/event/game-night-trivia-41/
LOCATION:The Shed Bar & Grille\, 11995 S Merrill Rd\, Brant\, MI\, 48614\, United States
CATEGORIES:Games
END:VEVENT
BEGIN:VEVENT
DTSTART;TZID=UTC:20231228T190000
DTEND;TZID=UTC:20231228T190000
DTSTAMP:20260425T184056
CREATED:20230106T042015Z
LAST-MODIFIED:20230106T042015Z
UID:6250-1703790000-1703790000@theshedbarandgrille.com
SUMMARY:Game Night: You Guessed It
DESCRIPTION:Similar to Family Feud\, You Guessed It is at The Shed EVERY OTHER THURSDAY at 7pm!\nFree to play\, prizes for top 3 teams and Thirsty Thursday drink specials!
URL:https://theshedbarandgrille.com/event/game-night-you-guessed-it-41/
LOCATION:The Shed Bar & Grille\, 11995 S Merrill Rd\, Brant\, MI\, 48614\, United States
CATEGORIES:Games
END:VEVENT
BEGIN:VEVENT
DTSTART;TZID=UTC:20231221T190000
DTEND;TZID=UTC:20231221T190000
DTSTAMP:20260425T184056
CREATED:20230106T044838Z
LAST-MODIFIED:20230106T044838Z
UID:6298-1703185200-1703185200@theshedbarandgrille.com
SUMMARY:Game Night: Trivia
DESCRIPTION:Come test your knowledge with Trivia Night EVERY OTHER THURSDAY at 7pm!\nFree to play\, prizes for top 3 teams and Thirsty Thursday drink specials!
URL:https://theshedbarandgrille.com/event/game-night-trivia-40/
LOCATION:The Shed Bar & Grille\, 11995 S Merrill Rd\, Brant\, MI\, 48614\, United States
CATEGORIES:Games
END:VEVENT
BEGIN:VEVENT
DTSTART;TZID=UTC:20231214T190000
DTEND;TZID=UTC:20231214T190000
DTSTAMP:20260425T184056
CREATED:20230106T041909Z
LAST-MODIFIED:20230106T041909Z
UID:6248-1702580400-1702580400@theshedbarandgrille.com
SUMMARY:Game Night: You Guessed It
DESCRIPTION:Similar to Family Feud\, You Guessed It is at The Shed EVERY OTHER THURSDAY at 7pm!\nFree to play\, prizes for top 3 teams and Thirsty Thursday drink specials!
URL:https://theshedbarandgrille.com/event/game-night-you-guessed-it-40/
LOCATION:The Shed Bar & Grille\, 11995 S Merrill Rd\, Brant\, MI\, 48614\, United States
CATEGORIES:Games
END:VEVENT
BEGIN:VEVENT
DTSTART;TZID=UTC:20231207T190000
DTEND;TZID=UTC:20231207T190000
DTSTAMP:20260425T184056
CREATED:20230106T044732Z
LAST-MODIFIED:20230106T044732Z
UID:6296-1701975600-1701975600@theshedbarandgrille.com
SUMMARY:Game Night: Trivia
DESCRIPTION:Come test your knowledge with Trivia Night EVERY OTHER THURSDAY at 7pm!\nFree to play\, prizes for top 3 teams and Thirsty Thursday drink specials!
URL:https://theshedbarandgrille.com/event/game-night-trivia-39/
LOCATION:The Shed Bar & Grille\, 11995 S Merrill Rd\, Brant\, MI\, 48614\, United States
CATEGORIES:Games
END:VEVENT
BEGIN:VEVENT
DTSTART;TZID=UTC:20231130T190000
DTEND;TZID=UTC:20231130T190000
DTSTAMP:20260425T184056
CREATED:20230106T041811Z
LAST-MODIFIED:20230106T041811Z
UID:6246-1701370800-1701370800@theshedbarandgrille.com
SUMMARY:Game Night: You Guessed It
DESCRIPTION:Similar to Family Feud\, You Guessed It is at The Shed EVERY OTHER THURSDAY at 7pm!\nFree to play\, prizes for top 3 teams and Thirsty Thursday drink specials!
URL:https://theshedbarandgrille.com/event/game-night-you-guessed-it-39/
LOCATION:The Shed Bar & Grille\, 11995 S Merrill Rd\, Brant\, MI\, 48614\, United States
CATEGORIES:Games
END:VEVENT
BEGIN:VEVENT
DTSTART;TZID=UTC:20231116T190000
DTEND;TZID=UTC:20231116T190000
DTSTAMP:20260425T184056
CREATED:20230106T041653Z
LAST-MODIFIED:20230106T041653Z
UID:6244-1700161200-1700161200@theshedbarandgrille.com
SUMMARY:Game Night: You Guessed It
DESCRIPTION:Similar to Family Feud\, You Guessed It is at The Shed EVERY OTHER THURSDAY at 7pm!\nFree to play\, prizes for top 3 teams and Thirsty Thursday drink specials!
URL:https://theshedbarandgrille.com/event/game-night-you-guessed-it-38/
LOCATION:The Shed Bar & Grille\, 11995 S Merrill Rd\, Brant\, MI\, 48614\, United States
CATEGORIES:Games
END:VEVENT
BEGIN:VEVENT
DTSTART;TZID=UTC:20231109T190000
DTEND;TZID=UTC:20231109T190000
DTSTAMP:20260425T184056
CREATED:20230106T044636Z
LAST-MODIFIED:20230106T044636Z
UID:6294-1699556400-1699556400@theshedbarandgrille.com
SUMMARY:Game Night: Trivia
DESCRIPTION:Come test your knowledge with Trivia Night EVERY OTHER THURSDAY at 7pm!\nFree to play\, prizes for top 3 teams and Thirsty Thursday drink specials!
URL:https://theshedbarandgrille.com/event/game-night-trivia-38/
LOCATION:The Shed Bar & Grille\, 11995 S Merrill Rd\, Brant\, MI\, 48614\, United States
CATEGORIES:Games
END:VEVENT
BEGIN:VEVENT
DTSTART;TZID=UTC:20231102T190000
DTEND;TZID=UTC:20231102T190000
DTSTAMP:20260425T184056
CREATED:20230106T041522Z
LAST-MODIFIED:20230106T041522Z
UID:6242-1698951600-1698951600@theshedbarandgrille.com
SUMMARY:Game Night: You Guessed It
DESCRIPTION:Similar to Family Feud\, You Guessed It is at The Shed EVERY OTHER THURSDAY at 7pm!\nFree to play\, prizes for top 3 teams and Thirsty Thursday drink specials!
URL:https://theshedbarandgrille.com/event/game-night-you-guessed-it-37/
LOCATION:The Shed Bar & Grille\, 11995 S Merrill Rd\, Brant\, MI\, 48614\, United States
CATEGORIES:Games
END:VEVENT
BEGIN:VEVENT
DTSTART;TZID=UTC:20231026T190000
DTEND;TZID=UTC:20231026T190000
DTSTAMP:20260425T184056
CREATED:20230106T044443Z
LAST-MODIFIED:20230106T044443Z
UID:6292-1698346800-1698346800@theshedbarandgrille.com
SUMMARY:Game Night: Trivia
DESCRIPTION:Come test your knowledge with Trivia Night EVERY OTHER THURSDAY at 7pm!\nFree to play\, prizes for top 3 teams and Thirsty Thursday drink specials!
URL:https://theshedbarandgrille.com/event/game-night-trivia-37/
LOCATION:The Shed Bar & Grille\, 11995 S Merrill Rd\, Brant\, MI\, 48614\, United States
CATEGORIES:Games
END:VEVENT
BEGIN:VEVENT
DTSTART;TZID=UTC:20231019T190000
DTEND;TZID=UTC:20231019T190000
DTSTAMP:20260425T184056
CREATED:20230106T041402Z
LAST-MODIFIED:20230106T041402Z
UID:6240-1697742000-1697742000@theshedbarandgrille.com
SUMMARY:Game Night: You Guessed It
DESCRIPTION:Similar to Family Feud\, You Guessed It is at The Shed EVERY OTHER THURSDAY at 7pm!\nFree to play\, prizes for top 3 teams and Thirsty Thursday drink specials!
URL:https://theshedbarandgrille.com/event/game-night-you-guessed-it-36/
LOCATION:The Shed Bar & Grille\, 11995 S Merrill Rd\, Brant\, MI\, 48614\, United States
CATEGORIES:Games
END:VEVENT
BEGIN:VEVENT
DTSTART;TZID=UTC:20231012T190000
DTEND;TZID=UTC:20231012T190000
DTSTAMP:20260425T184056
CREATED:20230106T044248Z
LAST-MODIFIED:20230106T044248Z
UID:6290-1697137200-1697137200@theshedbarandgrille.com
SUMMARY:Game Night: Trivia
DESCRIPTION:Come test your knowledge with Trivia Night EVERY OTHER THURSDAY at 7pm!\nFree to play\, prizes for top 3 teams and Thirsty Thursday drink specials!
URL:https://theshedbarandgrille.com/event/game-night-trivia-36/
LOCATION:The Shed Bar & Grille\, 11995 S Merrill Rd\, Brant\, MI\, 48614\, United States
CATEGORIES:Games
END:VEVENT
BEGIN:VEVENT
DTSTART;TZID=UTC:20231005T190000
DTEND;TZID=UTC:20231005T190000
DTSTAMP:20260425T184056
CREATED:20230106T041243Z
LAST-MODIFIED:20230106T041243Z
UID:6238-1696532400-1696532400@theshedbarandgrille.com
SUMMARY:Game Night: You Guessed It
DESCRIPTION:Similar to Family Feud\, You Guessed It is at The Shed EVERY OTHER THURSDAY at 7pm!\nFree to play\, prizes for top 3 teams and Thirsty Thursday drink specials!
URL:https://theshedbarandgrille.com/event/game-night-you-guessed-it-35/
LOCATION:The Shed Bar & Grille\, 11995 S Merrill Rd\, Brant\, MI\, 48614\, United States
CATEGORIES:Games
END:VEVENT
BEGIN:VEVENT
DTSTART;TZID=UTC:20230928T190000
DTEND;TZID=UTC:20230928T190000
DTSTAMP:20260425T184056
CREATED:20230106T044146Z
LAST-MODIFIED:20230106T044146Z
UID:6288-1695927600-1695927600@theshedbarandgrille.com
SUMMARY:Game Night: Trivia
DESCRIPTION:Come test your knowledge with Trivia Night EVERY OTHER THURSDAY at 7pm!\nFree to play\, prizes for top 3 teams and Thirsty Thursday drink specials!
URL:https://theshedbarandgrille.com/event/game-night-trivia-35/
LOCATION:The Shed Bar & Grille\, 11995 S Merrill Rd\, Brant\, MI\, 48614\, United States
CATEGORIES:Games
END:VEVENT
BEGIN:VEVENT
DTSTART;TZID=UTC:20230921T190000
DTEND;TZID=UTC:20230921T190000
DTSTAMP:20260425T184056
CREATED:20230106T041130Z
LAST-MODIFIED:20230106T041130Z
UID:6236-1695322800-1695322800@theshedbarandgrille.com
SUMMARY:Game Night: You Guessed It
DESCRIPTION:Similar to Family Feud\, You Guessed It is at The Shed EVERY OTHER THURSDAY at 7pm!\nFree to play\, prizes for top 3 teams and Thirsty Thursday drink specials!
URL:https://theshedbarandgrille.com/event/game-night-you-guessed-it-34/
LOCATION:The Shed Bar & Grille\, 11995 S Merrill Rd\, Brant\, MI\, 48614\, United States
CATEGORIES:Games
END:VEVENT
BEGIN:VEVENT
DTSTART;TZID=UTC:20230914T190000
DTEND;TZID=UTC:20230914T190000
DTSTAMP:20260425T184056
CREATED:20230106T044019Z
LAST-MODIFIED:20230106T044019Z
UID:6286-1694718000-1694718000@theshedbarandgrille.com
SUMMARY:Game Night: Trivia
DESCRIPTION:Come test your knowledge with Trivia Night EVERY OTHER THURSDAY at 7pm!\nFree to play\, prizes for top 3 teams and Thirsty Thursday drink specials!
URL:https://theshedbarandgrille.com/event/game-night-trivia-34/
LOCATION:The Shed Bar & Grille\, 11995 S Merrill Rd\, Brant\, MI\, 48614\, United States
CATEGORIES:Games
END:VEVENT
BEGIN:VEVENT
DTSTART;TZID=UTC:20230907T190000
DTEND;TZID=UTC:20230907T190000
DTSTAMP:20260425T184056
CREATED:20230106T041010Z
LAST-MODIFIED:20230106T041010Z
UID:6234-1694113200-1694113200@theshedbarandgrille.com
SUMMARY:Game Night: You Guessed It
DESCRIPTION:Similar to Family Feud\, You Guessed It is at The Shed EVERY OTHER THURSDAY at 7pm!\nFree to play\, prizes for top 3 teams and Thirsty Thursday drink specials!
URL:https://theshedbarandgrille.com/event/game-night-you-guessed-it-33/
LOCATION:The Shed Bar & Grille\, 11995 S Merrill Rd\, Brant\, MI\, 48614\, United States
CATEGORIES:Games
END:VEVENT
BEGIN:VEVENT
DTSTART;TZID=UTC:20230831T190000
DTEND;TZID=UTC:20230831T190000
DTSTAMP:20260425T184056
CREATED:20230106T043851Z
LAST-MODIFIED:20230106T043851Z
UID:6284-1693508400-1693508400@theshedbarandgrille.com
SUMMARY:Game Night: Trivia
DESCRIPTION:Come test your knowledge with Trivia Night EVERY OTHER THURSDAY at 7pm!\nFree to play\, prizes for top 3 teams and Thirsty Thursday drink specials!
URL:https://theshedbarandgrille.com/event/game-night-trivia-33/
LOCATION:The Shed Bar & Grille\, 11995 S Merrill Rd\, Brant\, MI\, 48614\, United States
CATEGORIES:Games
END:VEVENT
BEGIN:VEVENT
DTSTART;TZID=UTC:20230824T190000
DTEND;TZID=UTC:20230824T190000
DTSTAMP:20260425T184056
CREATED:20230106T040808Z
LAST-MODIFIED:20230106T040808Z
UID:6232-1692903600-1692903600@theshedbarandgrille.com
SUMMARY:Game Night: You Guessed It
DESCRIPTION:Similar to Family Feud\, You Guessed It is at The Shed EVERY OTHER THURSDAY at 7pm!\nFree to play\, prizes for top 3 teams and Thirsty Thursday drink specials!
URL:https://theshedbarandgrille.com/event/game-night-you-guessed-it-32/
LOCATION:The Shed Bar & Grille\, 11995 S Merrill Rd\, Brant\, MI\, 48614\, United States
CATEGORIES:Games
END:VEVENT
END:VCALENDAR