BEGIN:VCALENDAR
VERSION:2.0
PRODID:-//The Shed Bar &amp; Grille - ECPv6.15.20//NONSGML v1.0//EN
CALSCALE:GREGORIAN
METHOD:PUBLISH
X-ORIGINAL-URL:https://theshedbarandgrille.com
X-WR-CALDESC:Events for The Shed Bar &amp; Grille
REFRESH-INTERVAL;VALUE=DURATION:PT1H
X-Robots-Tag:noindex
X-PUBLISHED-TTL:PT1H
BEGIN:VTIMEZONE
TZID:UTC
BEGIN:STANDARD
TZOFFSETFROM:+0000
TZOFFSETTO:+0000
TZNAME:UTC
DTSTART:20240101T000000
END:STANDARD
END:VTIMEZONE
BEGIN:VEVENT
DTSTART;TZID=UTC:20250807T190000
DTEND;TZID=UTC:20250807T190000
DTSTAMP:20260425T141716
CREATED:20250801T153910Z
LAST-MODIFIED:20250801T153910Z
UID:9598-1754593200-1754593200@theshedbarandgrille.com
SUMMARY:Game Night: You Guessed It
DESCRIPTION:Similar to Family Feud\, You Guessed It is at The Shed EVERY THURSDAY at 7pm!\nFree to play\, prizes for top 3 teams and Thirsty Thursday drink specials!
URL:https://theshedbarandgrille.com/event/game-night-you-guessed-it-78/
LOCATION:The Shed Bar & Grille\, 11995 S Merrill Rd\, Brant\, MI\, 48614\, United States
CATEGORIES:Games
END:VEVENT
BEGIN:VEVENT
DTSTART;TZID=UTC:20250814T190000
DTEND;TZID=UTC:20250814T190000
DTSTAMP:20260425T141716
CREATED:20250801T154009Z
LAST-MODIFIED:20250801T154009Z
UID:9600-1755198000-1755198000@theshedbarandgrille.com
SUMMARY:Game Night: You Guessed It
DESCRIPTION:Similar to Family Feud\, You Guessed It is at The Shed EVERY THURSDAY at 7pm!\nFree to play\, prizes for top 3 teams and Thirsty Thursday drink specials!
URL:https://theshedbarandgrille.com/event/game-night-you-guessed-it-79/
LOCATION:The Shed Bar & Grille\, 11995 S Merrill Rd\, Brant\, MI\, 48614\, United States
CATEGORIES:Games
END:VEVENT
BEGIN:VEVENT
DTSTART;TZID=UTC:20250821T190000
DTEND;TZID=UTC:20250821T190000
DTSTAMP:20260425T141716
CREATED:20250801T154054Z
LAST-MODIFIED:20250801T154054Z
UID:9602-1755802800-1755802800@theshedbarandgrille.com
SUMMARY:Game Night: You Guessed It
DESCRIPTION:Similar to Family Feud\, You Guessed It is at The Shed EVERY THURSDAY at 7pm!\nFree to play\, prizes for top 3 teams and Thirsty Thursday drink specials!
URL:https://theshedbarandgrille.com/event/game-night-you-guessed-it-80/
LOCATION:The Shed Bar & Grille\, 11995 S Merrill Rd\, Brant\, MI\, 48614\, United States
CATEGORIES:Games
END:VEVENT
BEGIN:VEVENT
DTSTART;TZID=UTC:20250828T190000
DTEND;TZID=UTC:20250828T190000
DTSTAMP:20260425T141716
CREATED:20250801T154255Z
LAST-MODIFIED:20250801T154255Z
UID:9604-1756407600-1756407600@theshedbarandgrille.com
SUMMARY:Game Night: You Guessed It
DESCRIPTION:Similar to Family Feud\, You Guessed It is at The Shed EVERY THURSDAY at 7pm!\nFree to play\, prizes for top 3 teams and Thirsty Thursday drink specials!
URL:https://theshedbarandgrille.com/event/game-night-you-guessed-it-81/
LOCATION:The Shed Bar & Grille\, 11995 S Merrill Rd\, Brant\, MI\, 48614\, United States
CATEGORIES:Games
END:VEVENT
END:VCALENDAR