BEGIN:VCALENDAR
VERSION:2.0
PRODID:-//The Shed Bar &amp; Grille - ECPv6.15.20//NONSGML v1.0//EN
CALSCALE:GREGORIAN
METHOD:PUBLISH
X-WR-CALNAME:The Shed Bar &amp; Grille
X-ORIGINAL-URL:https://theshedbarandgrille.com
X-WR-CALDESC:Events for The Shed Bar &amp; Grille
REFRESH-INTERVAL;VALUE=DURATION:PT1H
X-Robots-Tag:noindex
X-PUBLISHED-TTL:PT1H
BEGIN:VTIMEZONE
TZID:UTC
BEGIN:STANDARD
TZOFFSETFROM:+0000
TZOFFSETTO:+0000
TZNAME:UTC
DTSTART:20180101T000000
END:STANDARD
END:VTIMEZONE
BEGIN:VEVENT
DTSTART;TZID=UTC:20240622T120000
DTEND;TZID=UTC:20240622T160000
DTSTAMP:20260425T172326
CREATED:20240527T151143Z
LAST-MODIFIED:20240527T151502Z
UID:7867-1719057600-1719072000@theshedbarandgrille.com
SUMMARY:1st Annual Marion Springs Car Show
DESCRIPTION:Car show will be 12-4pmMusic – Raffles – EntertainmentRegistration starting at 9am – Voting ends at 2 pmRegistration is $10 per carAll vintage cars including semis and motorcycles are welcome!!Free dash plaques to the first 100 vehicles registeredAll profits donated to Marion Springs Firework Show\nFor more information call Tex @ 989-992-3785 or Seth @ 989-436-3757
URL:https://theshedbarandgrille.com/event/1st-annual-marion-springs-car-show/
LOCATION:The Shed Bar & Grille\, 11995 S Merrill Rd\, Brant\, MI\, 48614\, United States
CATEGORIES:Fundraiser
END:VEVENT
BEGIN:VEVENT
DTSTART;TZID=UTC:20230521T130000
DTEND;TZID=UTC:20230521T170000
DTSTAMP:20260425T172326
CREATED:20230508T023438Z
LAST-MODIFIED:20230508T023438Z
UID:6738-1684674000-1684688400@theshedbarandgrille.com
SUMMARY:Sabrina Godley Benefit with Barry Forster of Tweed & Dixie
DESCRIPTION:  \nPlease join us for a fundraiser to support a member of our Shed family. Sabrina Godley was involved in a severe car accident and partial proceeds from food and drink sales will go towards her medical expenses. Admission is free and we will have a silent auction plus a 50/50 raffle. Barry Forster of Tweed & Dixie will be playing an acoustic set from 1pm – 5pm.
URL:https://theshedbarandgrille.com/event/sabrina-godley-benefit-with-barry-forster-of-tweed-dixie/
LOCATION:The Shed Bar & Grille\, 11995 S Merrill Rd\, Brant\, MI\, 48614\, United States
CATEGORIES:Benefit,Fundraiser,Music
END:VEVENT
BEGIN:VEVENT
DTSTART;TZID=UTC:20210911T180000
DTEND;TZID=UTC:20210911T180000
DTSTAMP:20260425T172326
CREATED:20210826T210949Z
LAST-MODIFIED:20210826T210949Z
UID:3937-1631383200-1631383200@theshedbarandgrille.com
SUMMARY:Buck Bash
DESCRIPTION:  \nJoin us on Saturday\, September 11 at 6:00pm to help us raise funds for this year’s Buck Pole where we will be raffling off gift certificates\, hunting items and more! Rebel Line will be playing classic and modern country music from 9:00pm – 1:00am.
URL:https://theshedbarandgrille.com/event/buck-bash/
LOCATION:The Shed Bar & Grille\, 11995 S Merrill Rd\, Brant\, MI\, 48614\, United States
CATEGORIES:Band,Fundraiser,Hunting
END:VEVENT
BEGIN:VEVENT
DTSTART;TZID=UTC:20210725T140000
DTEND;TZID=UTC:20210725T180000
DTSTAMP:20260425T172326
CREATED:20210701T183411Z
LAST-MODIFIED:20210701T183411Z
UID:3864-1627221600-1627236000@theshedbarandgrille.com
SUMMARY:Bobbi Jo Borsenik Fundraiser Benefit
DESCRIPTION:  \nPlease join us for a benefit in honor of Bobbi Jo Borsenik on Sunday\, July 25th from 2:00pm – 6:00pm.\n\nCome eat\, drink and celebrate the memory of Bobbi Jo Borsenik. Proceeds will benefit the memorial and added expenses.\n\nLive music by Almost Famous\n\nMORE DETAILS TO COME
URL:https://theshedbarandgrille.com/event/bobbi-jo-borsenik-fundraiser-benefit/
LOCATION:The Shed Bar & Grille\, 11995 S Merrill Rd\, Brant\, MI\, 48614\, United States
CATEGORIES:Fundraiser
END:VEVENT
BEGIN:VEVENT
DTSTART;TZID=UTC:20190928T170000
DTEND;TZID=UTC:20190928T235900
DTSTAMP:20260425T172326
CREATED:20190907T192606Z
LAST-MODIFIED:20190910T004131Z
UID:540-1569690000-1569715140@theshedbarandgrille.com
SUMMARY:Denique Greenfelder Benefit
DESCRIPTION:  \nPlease join us for a benefit in honor of Denique Greenfelder on Saturday\, September 28th at 5:00 p.m. \nIt is with great sadness that we mourn the loss of Denique Greenfelder. Denique’s capacity for love and her compassion for every person was unmatched. She loved all people and touched everyone who crossed her path. Denique was down-to-earth\, honest and brilliant and colorful in her way with words. She never hesitated to show her emotions\, share an opinion\, an observation or a beautiful thought. \nDenique is survived by her 13 year old daughter\, Kennedy. Kennedy is a wonderful\, smart\, kind and caring young girl who has been moved to the home of her uncle\, aunt and cousin in the state of Washington where she began her 8th grade year. \nAs Kennedy moves forward\, we would like to invite you to a benefit in honor of Denique where the proceeds will go directly to Kennedy’s college fund. Come eat\, play and dance! \nVENT will be playing from 8:00 p.m. -12:00 a.m. and we will also have a 50/50 raffle!
URL:https://theshedbarandgrille.com/event/denique-greenfelder-benefit/
LOCATION:The Shed Bar & Grille\, 11995 S Merrill Rd\, Brant\, MI\, 48614\, United States
CATEGORIES:Benefit,Fundraiser
END:VEVENT
END:VCALENDAR