BEGIN:VCALENDAR
VERSION:2.0
PRODID:-//The Shed Bar &amp; Grille - ECPv6.15.20//NONSGML v1.0//EN
CALSCALE:GREGORIAN
METHOD:PUBLISH
X-ORIGINAL-URL:https://theshedbarandgrille.com
X-WR-CALDESC:Events for The Shed Bar &amp; Grille
REFRESH-INTERVAL;VALUE=DURATION:PT1H
X-Robots-Tag:noindex
X-PUBLISHED-TTL:PT1H
BEGIN:VTIMEZONE
TZID:UTC
BEGIN:STANDARD
TZOFFSETFROM:+0000
TZOFFSETTO:+0000
TZNAME:UTC
DTSTART:20180101T000000
END:STANDARD
END:VTIMEZONE
BEGIN:VEVENT
DTSTART;TZID=UTC:20191023T110000
DTEND;TZID=UTC:20191023T230000
DTSTAMP:20260425T225755
CREATED:20190605T183556Z
LAST-MODIFIED:20190605T183556Z
UID:448-1571828400-1571871600@theshedbarandgrille.com
SUMMARY:Bike Night
DESCRIPTION:  \n\nJoin us for Bike Night EVERY WEDNESDAY!\n\n\n \n\n\nFood Specials Include:\n\n\n$1.50 Jumbo Wings\n\n\n$4 Gizzard Basket\n\n\n$5 Brat Burger Basket\n\n\n \n\n\nDrink Specials Include:\n\n\n$6 Blue Motorcycles\n\n\n$4 Harley Oil Shots\n\n\n$5 Bud Light Pitchers\n\n\n$6 Summer Shandy Pitchers\n\n\n*Must be 21+ after 9:00 p.m.
URL:https://theshedbarandgrille.com/event/bike-night-19/
LOCATION:The Shed Bar & Grille\, 11995 S Merrill Rd\, Brant\, MI\, 48614\, United States
CATEGORIES:Drink,Food
END:VEVENT
BEGIN:VEVENT
DTSTART;TZID=UTC:20191016T110000
DTEND;TZID=UTC:20191016T230000
DTSTAMP:20260425T225755
CREATED:20190605T183518Z
LAST-MODIFIED:20190605T183518Z
UID:446-1571223600-1571266800@theshedbarandgrille.com
SUMMARY:Bike Night
DESCRIPTION:  \n\nJoin us for Bike Night EVERY WEDNESDAY!\n\n\n \n\n\nFood Specials Include:\n\n\n$1.50 Jumbo Wings\n\n\n$4 Gizzard Basket\n\n\n$5 Brat Burger Basket\n\n\n \n\n\nDrink Specials Include:\n\n\n$6 Blue Motorcycles\n\n\n$4 Harley Oil Shots\n\n\n$5 Bud Light Pitchers\n\n\n$6 Summer Shandy Pitchers\n\n\n*Must be 21+ after 9:00 p.m.
URL:https://theshedbarandgrille.com/event/bike-night-18/
LOCATION:The Shed Bar & Grille\, 11995 S Merrill Rd\, Brant\, MI\, 48614\, United States
CATEGORIES:Drink,Food
END:VEVENT
BEGIN:VEVENT
DTSTART;TZID=UTC:20191013T130000
DTEND;TZID=UTC:20191013T160000
DTSTAMP:20260425T225755
CREATED:20190926T013819Z
LAST-MODIFIED:20190926T013819Z
UID:798-1570971600-1570982400@theshedbarandgrille.com
SUMMARY:Just 4 Fun Polka Band
DESCRIPTION:  \n\n\nVirgil Baker & Tom Galecka’s Just 4 Fun Polka Band\n\n\nSunday\, October 13th at 1:00 p.m. – 4:00 p.m.\n\n\nThe Shed Bar & Grille\n\n\n \n\n\nThe Just 4 Fun Polka Band loves to make music and entertain. While the music includes everything from swing to country to 50’s – 60’s Rock & Roll\, it has developed a solid reputation with the polka and waltz dance crowd.\n\n\n \n\n\nON SPECIAL:\n\n\n• Smoked polish sausage\, sauerkraut and fried potatoes\n\n\n• Fried chicken with a vegetable and your choice of potato and a side\n\n\n \n\n\n*Original Music
URL:https://theshedbarandgrille.com/event/just-4-fun-polka-band-3/
LOCATION:The Shed Bar & Grille\, 11995 S Merrill Rd\, Brant\, MI\, 48614\, United States
CATEGORIES:Band,Food,Music
END:VEVENT
BEGIN:VEVENT
DTSTART;TZID=UTC:20191009T110000
DTEND;TZID=UTC:20191009T230000
DTSTAMP:20260425T225755
CREATED:20190605T183439Z
LAST-MODIFIED:20190605T183439Z
UID:444-1570618800-1570662000@theshedbarandgrille.com
SUMMARY:Bike Night
DESCRIPTION:  \n\nJoin us for Bike Night EVERY WEDNESDAY!\n\n\n \n\n\nFood Specials Include:\n\n\n$1.50 Jumbo Wings\n\n\n$4 Gizzard Basket\n\n\n$5 Brat Burger Basket\n\n\n \n\n\nDrink Specials Include:\n\n\n$6 Blue Motorcycles\n\n\n$4 Harley Oil Shots\n\n\n$5 Bud Light Pitchers\n\n\n$6 Summer Shandy Pitchers\n\n\n*Must be 21+ after 9:00 p.m.
URL:https://theshedbarandgrille.com/event/bike-night-17/
LOCATION:The Shed Bar & Grille\, 11995 S Merrill Rd\, Brant\, MI\, 48614\, United States
CATEGORIES:Drink,Food
END:VEVENT
BEGIN:VEVENT
DTSTART;TZID=UTC:20191002T110000
DTEND;TZID=UTC:20191002T230000
DTSTAMP:20260425T225755
CREATED:20190605T183357Z
LAST-MODIFIED:20190605T183357Z
UID:442-1570014000-1570057200@theshedbarandgrille.com
SUMMARY:Bike Night
DESCRIPTION:  \n\nJoin us for Bike Night EVERY WEDNESDAY!\n\n\n \n\n\nFood Specials Include:\n\n\n$1.50 Jumbo Wings\n\n\n$4 Gizzard Basket\n\n\n$5 Brat Burger Basket\n\n\n \n\n\nDrink Specials Include:\n\n\n$6 Blue Motorcycles\n\n\n$4 Harley Oil Shots\n\n\n$5 Bud Light Pitchers\n\n\n$6 Summer Shandy Pitchers\n\n\n*Must be 21+ after 9:00 p.m.
URL:https://theshedbarandgrille.com/event/bike-night-16/
LOCATION:The Shed Bar & Grille\, 11995 S Merrill Rd\, Brant\, MI\, 48614\, United States
CATEGORIES:Drink,Food
END:VEVENT
BEGIN:VEVENT
DTSTART;TZID=UTC:20190925T110000
DTEND;TZID=UTC:20190925T230000
DTSTAMP:20260425T225755
CREATED:20190605T183305Z
LAST-MODIFIED:20190605T183305Z
UID:440-1569409200-1569452400@theshedbarandgrille.com
SUMMARY:Bike Night
DESCRIPTION:  \n\nJoin us for Bike Night EVERY WEDNESDAY!\n\n\n \n\n\nFood Specials Include:\n\n\n$1.50 Jumbo Wings\n\n\n$4 Gizzard Basket\n\n\n$5 Brat Burger Basket\n\n\n \n\n\nDrink Specials Include:\n\n\n$6 Blue Motorcycles\n\n\n$4 Harley Oil Shots\n\n\n$5 Bud Light Pitchers\n\n\n$6 Summer Shandy Pitchers\n\n\n*Must be 21+ after 9:00 p.m.
URL:https://theshedbarandgrille.com/event/bike-night-15/
LOCATION:The Shed Bar & Grille\, 11995 S Merrill Rd\, Brant\, MI\, 48614\, United States
CATEGORIES:Drink,Food
END:VEVENT
BEGIN:VEVENT
DTSTART;TZID=UTC:20190918T110000
DTEND;TZID=UTC:20190918T230000
DTSTAMP:20260425T225755
CREATED:20190605T183212Z
LAST-MODIFIED:20190605T183212Z
UID:438-1568804400-1568847600@theshedbarandgrille.com
SUMMARY:Bike Night
DESCRIPTION:  \n\nJoin us for Bike Night EVERY WEDNESDAY!\n\n\n \n\n\nFood Specials Include:\n\n\n$1.50 Jumbo Wings\n\n\n$4 Gizzard Basket\n\n\n$5 Brat Burger Basket\n\n\n \n\n\nDrink Specials Include:\n\n\n$6 Blue Motorcycles\n\n\n$4 Harley Oil Shots\n\n\n$5 Bud Light Pitchers\n\n\n$6 Summer Shandy Pitchers\n\n\n*Must be 21+ after 9:00 p.m.
URL:https://theshedbarandgrille.com/event/bike-night-14/
LOCATION:The Shed Bar & Grille\, 11995 S Merrill Rd\, Brant\, MI\, 48614\, United States
CATEGORIES:Drink,Food
END:VEVENT
BEGIN:VEVENT
DTSTART;TZID=UTC:20190914T053000
DTEND;TZID=UTC:20190915T230000
DTSTAMP:20260425T225755
CREATED:20190906T140039Z
LAST-MODIFIED:20190909T162729Z
UID:527-1568439000-1568588400@theshedbarandgrille.com
SUMMARY:Youth Hunt Weekend
DESCRIPTION:  \nYouth Hunt \nSaturday & Sunday\, September 14th & 15th at 5:30 a.m. \nThe Shed Bar & Grille will be open at 5:30 a.m. for breakfast on September 14th and 15th for Youth Hunt Weekend! \nBring your youth hunter and their deer to The Shed Bar & Grille to get their picture taken for the wall and your youth hunter will receive a free lunch from a select menu. Dine in only. Largest buck wins a gift basket!
URL:https://theshedbarandgrille.com/event/youth-hunt/
LOCATION:The Shed Bar & Grille\, 11995 S Merrill Rd\, Brant\, MI\, 48614\, United States
CATEGORIES:Food,Sports
END:VEVENT
BEGIN:VEVENT
DTSTART;TZID=UTC:20190911T110000
DTEND;TZID=UTC:20190911T230000
DTSTAMP:20260425T225755
CREATED:20190605T183133Z
LAST-MODIFIED:20190605T183133Z
UID:436-1568199600-1568242800@theshedbarandgrille.com
SUMMARY:Bike Night
DESCRIPTION:  \n\nJoin us for Bike Night EVERY WEDNESDAY!\n\n\n \n\n\nFood Specials Include:\n\n\n$1.50 Jumbo Wings\n\n\n$4 Gizzard Basket\n\n\n$5 Brat Burger Basket\n\n\n \n\n\nDrink Specials Include:\n\n\n$6 Blue Motorcycles\n\n\n$4 Harley Oil Shots\n\n\n$5 Bud Light Pitchers\n\n\n$6 Summer Shandy Pitchers\n\n\n*Must be 21+ after 9:00 p.m.
URL:https://theshedbarandgrille.com/event/bike-night-13/
LOCATION:The Shed Bar & Grille\, 11995 S Merrill Rd\, Brant\, MI\, 48614\, United States
CATEGORIES:Drink,Food
END:VEVENT
BEGIN:VEVENT
DTSTART;TZID=UTC:20190904T110000
DTEND;TZID=UTC:20190904T230000
DTSTAMP:20260425T225755
CREATED:20190605T183048Z
LAST-MODIFIED:20190605T183048Z
UID:434-1567594800-1567638000@theshedbarandgrille.com
SUMMARY:Bike Night
DESCRIPTION:  \n\nJoin us for Bike Night EVERY WEDNESDAY!\n\n\n \n\n\nFood Specials Include:\n\n\n$1.50 Jumbo Wings\n\n\n$4 Gizzard Basket\n\n\n$5 Brat Burger Basket\n\n\n \n\n\nDrink Specials Include:\n\n\n$6 Blue Motorcycles\n\n\n$4 Harley Oil Shots\n\n\n$5 Bud Light Pitchers\n\n\n$6 Summer Shandy Pitchers\n\n\n*Must be 21+ after 9:00 p.m.
URL:https://theshedbarandgrille.com/event/bike-night-12/
LOCATION:The Shed Bar & Grille\, 11995 S Merrill Rd\, Brant\, MI\, 48614\, United States
CATEGORIES:Drink,Food
END:VEVENT
BEGIN:VEVENT
DTSTART;TZID=UTC:20190828T110000
DTEND;TZID=UTC:20190828T230000
DTSTAMP:20260425T225755
CREATED:20190605T182937Z
LAST-MODIFIED:20190605T182937Z
UID:432-1566990000-1567033200@theshedbarandgrille.com
SUMMARY:Bike Night
DESCRIPTION:  \n\nJoin us for Bike Night EVERY WEDNESDAY!\n\n\n \n\n\nFood Specials Include:\n\n\n$1.50 Jumbo Wings\n\n\n$4 Gizzard Basket\n\n\n$5 Brat Burger Basket\n\n\n \n\n\nDrink Specials Include:\n\n\n$6 Blue Motorcycles\n\n\n$4 Harley Oil Shots\n\n\n$5 Bud Light Pitchers\n\n\n$6 Summer Shandy Pitchers\n\n\n*Must be 21+ after 9:00 p.m.
URL:https://theshedbarandgrille.com/event/bike-night-11/
LOCATION:The Shed Bar & Grille\, 11995 S Merrill Rd\, Brant\, MI\, 48614\, United States
CATEGORIES:Drink,Food
END:VEVENT
BEGIN:VEVENT
DTSTART;TZID=UTC:20190825T130000
DTEND;TZID=UTC:20190825T160000
DTSTAMP:20260425T225755
CREATED:20190724T020928Z
LAST-MODIFIED:20190724T020928Z
UID:500-1566738000-1566748800@theshedbarandgrille.com
SUMMARY:Just 4 Fun Polka Band
DESCRIPTION:  \n\n\nVirgil Baker & Tom Galecka’s Just 4 Fun Polka Band\n\n\nSunday\, August 25th at 1:00 p.m. – 4:00 p.m.\n\n\nThe Shed Bar & Grille\n\n\n \n\n\n\nThe Just 4 Fun Polka Band loves to make music and entertain. While the music includes everything from swing to country to 50’s – 60’s Rock & Roll\, it has developed a solid reputation with the polka and waltz dance crowd.\n\n\n \n\n\n\nWe’ll have smoked polish sausage\, sauerkraut and fried potatoes on special!\n\n\n \n\n\n\n*Original Music
URL:https://theshedbarandgrille.com/event/just-4-fun-polka-band-2/
LOCATION:The Shed Bar & Grille\, 11995 S Merrill Rd\, Brant\, MI\, 48614\, United States
CATEGORIES:Band,Food,Music
END:VEVENT
BEGIN:VEVENT
DTSTART;TZID=UTC:20190821T080000
DTEND;TZID=UTC:20190821T170000
DTSTAMP:20260425T225755
CREATED:20190605T182851Z
LAST-MODIFIED:20190605T182851Z
UID:430-1566374400-1566406800@theshedbarandgrille.com
SUMMARY:Bike Night
DESCRIPTION:  \n\nJoin us for Bike Night EVERY WEDNESDAY!\n\n\n \n\n\nFood Specials Include:\n\n\n$1.50 Jumbo Wings\n\n\n$4 Gizzard Basket\n\n\n$5 Brat Burger Basket\n\n\n \n\n\nDrink Specials Include:\n\n\n$6 Blue Motorcycles\n\n\n$4 Harley Oil Shots\n\n\n$5 Bud Light Pitchers\n\n\n$6 Summer Shandy Pitchers\n\n\n*Must be 21+ after 9:00 p.m.
URL:https://theshedbarandgrille.com/event/bike-night-10/
LOCATION:The Shed Bar & Grille\, 11995 S Merrill Rd\, Brant\, MI\, 48614\, United States
CATEGORIES:Drink,Food
END:VEVENT
BEGIN:VEVENT
DTSTART;TZID=UTC:20190814T110000
DTEND;TZID=UTC:20190814T230000
DTSTAMP:20260425T225755
CREATED:20190605T182810Z
LAST-MODIFIED:20190605T182810Z
UID:428-1565780400-1565823600@theshedbarandgrille.com
SUMMARY:Bike Night
DESCRIPTION:  \n\nJoin us for Bike Night EVERY WEDNESDAY!\n\n\n \n\n\nFood Specials Include:\n\n\n$1.50 Jumbo Wings\n\n\n$4 Gizzard Basket\n\n\n$5 Brat Burger Basket\n\n\n \n\n\nDrink Specials Include:\n\n\n$6 Blue Motorcycles\n\n\n$4 Harley Oil Shots\n\n\n$5 Bud Light Pitchers\n\n\n$6 Summer Shandy Pitchers\n\n\n*Must be 21+ after 9:00 p.m.
URL:https://theshedbarandgrille.com/event/bike-night-9/
LOCATION:The Shed Bar & Grille\, 11995 S Merrill Rd\, Brant\, MI\, 48614\, United States
CATEGORIES:Drink,Food
END:VEVENT
BEGIN:VEVENT
DTSTART;TZID=UTC:20190807T110000
DTEND;TZID=UTC:20190807T230000
DTSTAMP:20260425T225755
CREATED:20190605T182722Z
LAST-MODIFIED:20190605T182722Z
UID:426-1565175600-1565218800@theshedbarandgrille.com
SUMMARY:Bike Night
DESCRIPTION:  \n\nJoin us for Bike Night EVERY WEDNESDAY!\n\n\n \n\n\nFood Specials Include:\n\n\n$1.50 Jumbo Wings\n\n\n$4 Gizzard Basket\n\n\n$5 Brat Burger Basket\n\n\n \n\n\nDrink Specials Include:\n\n\n$6 Blue Motorcycles\n\n\n$4 Harley Oil Shots\n\n\n$5 Bud Light Pitchers\n\n\n$6 Summer Shandy Pitchers\n\n\n*Must be 21+ after 9:00 p.m.
URL:https://theshedbarandgrille.com/event/bike-night-8/
LOCATION:The Shed Bar & Grille\, 11995 S Merrill Rd\, Brant\, MI\, 48614\, United States
CATEGORIES:Drink,Food
END:VEVENT
BEGIN:VEVENT
DTSTART;TZID=UTC:20190731T110000
DTEND;TZID=UTC:20190731T230000
DTSTAMP:20260425T225755
CREATED:20190605T182643Z
LAST-MODIFIED:20190605T182643Z
UID:424-1564570800-1564614000@theshedbarandgrille.com
SUMMARY:Bike Night
DESCRIPTION:  \n\nJoin us for Bike Night EVERY WEDNESDAY!\n\n\n \n\n\nFood Specials Include:\n\n\n$1.50 Jumbo Wings\n\n\n$4 Gizzard Basket\n\n\n$5 Brat Burger Basket\n\n\n \n\n\nDrink Specials Include:\n\n\n$6 Blue Motorcycles\n\n\n$4 Harley Oil Shots\n\n\n$5 Bud Light Pitchers\n\n\n$6 Summer Shandy Pitchers\n\n\n*Must be 21+ after 9:00 p.m.
URL:https://theshedbarandgrille.com/event/bike-night-7/
LOCATION:The Shed Bar & Grille\, 11995 S Merrill Rd\, Brant\, MI\, 48614\, United States
CATEGORIES:Drink,Food
END:VEVENT
BEGIN:VEVENT
DTSTART;TZID=UTC:20190724T110000
DTEND;TZID=UTC:20190724T230000
DTSTAMP:20260425T225755
CREATED:20190605T182240Z
LAST-MODIFIED:20190605T182240Z
UID:422-1563966000-1564009200@theshedbarandgrille.com
SUMMARY:Bike Night
DESCRIPTION:  \n\nJoin us for Bike Night EVERY WEDNESDAY!\n\n\n \n\n\nFood Specials Include:\n\n\n$1.50 Jumbo Wings\n\n\n$4 Gizzard Basket\n\n\n$5 Brat Burger Basket\n\n\n \n\n\nDrink Specials Include:\n\n\n$6 Blue Motorcycles\n\n\n$4 Harley Oil Shots\n\n\n$5 Bud Light Pitchers\n\n\n$6 Summer Shandy Pitchers\n\n\n*Must be 21+ after 9:00 p.m.
URL:https://theshedbarandgrille.com/event/bike-night-6/
LOCATION:The Shed Bar & Grille\, 11995 S Merrill Rd\, Brant\, MI\, 48614\, United States
CATEGORIES:Drink,Food
END:VEVENT
BEGIN:VEVENT
DTSTART;TZID=UTC:20190717T110000
DTEND;TZID=UTC:20190717T230000
DTSTAMP:20260425T225755
CREATED:20190605T182159Z
LAST-MODIFIED:20190605T182159Z
UID:420-1563361200-1563404400@theshedbarandgrille.com
SUMMARY:Bike Night
DESCRIPTION:  \n\nJoin us for Bike Night EVERY WEDNESDAY!\n\n\n \n\n\nFood Specials Include:\n\n\n$1.50 Jumbo Wings\n\n\n$4 Gizzard Basket\n\n\n$5 Brat Burger Basket\n\n\n \n\n\nDrink Specials Include:\n\n\n$6 Blue Motorcycles\n\n\n$4 Harley Oil Shots\n\n\n$5 Bud Light Pitchers\n\n\n$6 Summer Shandy Pitchers\n\n\n*Must be 21+ after 9:00 p.m.
URL:https://theshedbarandgrille.com/event/bike-night-5/
LOCATION:The Shed Bar & Grille\, 11995 S Merrill Rd\, Brant\, MI\, 48614\, United States
CATEGORIES:Drink,Food
END:VEVENT
BEGIN:VEVENT
DTSTART;TZID=UTC:20190710T110000
DTEND;TZID=UTC:20190710T230000
DTSTAMP:20260425T225755
CREATED:20190605T181805Z
LAST-MODIFIED:20190605T181805Z
UID:418-1562756400-1562799600@theshedbarandgrille.com
SUMMARY:Bike Night
DESCRIPTION:  \n\nJoin us for Bike Night EVERY WEDNESDAY!\n\n\n \n\n\nFood Specials Include:\n\n\n$1.50 Jumbo Wings\n\n\n$4 Gizzard Basket\n\n\n$5 Brat Burger Basket\n\n\n \n\n\nDrink Specials Include:\n\n\n$6 Blue Motorcycles\n\n\n$4 Harley Oil Shots\n\n\n$5 Bud Light Pitchers\n\n\n$6 Summer Shandy Pitchers\n\n\n*Must be 21+ after 9:00 p.m.
URL:https://theshedbarandgrille.com/event/bike-night-4/
LOCATION:The Shed Bar & Grille\, 11995 S Merrill Rd\, Brant\, MI\, 48614\, United States
CATEGORIES:Drink,Food
END:VEVENT
BEGIN:VEVENT
DTSTART;TZID=UTC:20190703T110000
DTEND;TZID=UTC:20190703T230000
DTSTAMP:20260425T225755
CREATED:20190605T181720Z
LAST-MODIFIED:20190605T181720Z
UID:416-1562151600-1562194800@theshedbarandgrille.com
SUMMARY:Bike Night
DESCRIPTION:  \n\nJoin us for Bike Night EVERY WEDNESDAY!\n\n\n \n\n\nFood Specials Include:\n\n\n$1.50 Jumbo Wings\n\n\n$4 Gizzard Basket\n\n\n$5 Brat Burger Basket\n\n\n \n\n\nDrink Specials Include:\n\n\n$6 Blue Motorcycles\n\n\n$4 Harley Oil Shots\n\n\n$5 Bud Light Pitchers\n\n\n$6 Summer Shandy Pitchers\n\n\n*Must be 21+ after 9:00 p.m.
URL:https://theshedbarandgrille.com/event/bike-night-3/
LOCATION:The Shed Bar & Grille\, 11995 S Merrill Rd\, Brant\, MI\, 48614\, United States
CATEGORIES:Drink,Food
END:VEVENT
BEGIN:VEVENT
DTSTART;TZID=UTC:20190626T110000
DTEND;TZID=UTC:20190626T230000
DTSTAMP:20260425T225755
CREATED:20190605T180240Z
LAST-MODIFIED:20190605T180240Z
UID:414-1561546800-1561590000@theshedbarandgrille.com
SUMMARY:Bike Night
DESCRIPTION:  \n\nJoin us for Bike Night EVERY WEDNESDAY!\n\n\n \n\n\nFood Specials Include:\n\n\n$1.50 Jumbo Wings\n\n\n$4 Gizzard Basket\n\n\n$5 Brat Burger Basket\n\n\n \n\n\nDrink Specials Include:\n\n\n$6 Blue Motorcycles\n\n\n$4 Harley Oil Shots\n\n\n$5 Bud Light Pitchers\n\n\n$6 Summer Shandy Pitchers\n\n\n*Must be 21+ after 9:00 p.m.
URL:https://theshedbarandgrille.com/event/bike-night-2/
LOCATION:The Shed Bar & Grille\, 11995 S Merrill Rd\, Brant\, MI\, 48614\, United States
CATEGORIES:Drink,Food
END:VEVENT
BEGIN:VEVENT
DTSTART;TZID=UTC:20190622T120000
DTEND;TZID=UTC:20190623T020000
DTSTAMP:20260425T225755
CREATED:20190530T213608Z
LAST-MODIFIED:20190531T215147Z
UID:394-1561204800-1561255200@theshedbarandgrille.com
SUMMARY:Side By Side Poker Run
DESCRIPTION:The Shed Bar & Grille is hosting its first-ever Side By Side Poker Run in association with local area bars on Saturday\, June 22nd! Event begins at 12:00 p.m. and doors will open at 11:00 a.m. \n  \nParticipating bars include: \n\nThe Shed Bar & Grille\nHappy Hour\nHoovers Corners\nBrant Bar\nEvergreen Tavern\nTwin Bridges Golf Course\n\n  \nParticipants will begin at The Shed Bar & Grille and will be required to sign a waiver. For $20\, participants will receive: \n\n50¢ off all drinks at The Shed Bar & Grille from 12:00 p.m. – 2:00 a.m.\nLunch at 12:00 p.m. with your choice of a pulled pork sandwich or a brat burger both served with potato chips.\n1 playing card at each location (Happy Hour\, Hoovers Corners\, Brant Bar\, Evergreen Tavern\, Twin Bridges Golf Course). The best poker hand will win a cash prize. The best poker hand will be determined at approximately 7:00 p.m. (subject to change) when all participants have returned to The Shed Bar & Grille.\n\n*All drivers must be 16+ years of age. \n  \nBacklash will be performing at The Shed Bar & Grille from 9:00 p.m. – 1:00 a.m. \n*Must be 21+ after 9:00 p.m.
URL:https://theshedbarandgrille.com/event/side-by-side-poker-run/
LOCATION:The Shed Bar & Grille\, 11995 S Merrill Rd\, Brant\, MI\, 48614\, United States
CATEGORIES:Band,Drink,Food,Sports
END:VEVENT
BEGIN:VEVENT
DTSTART;TZID=UTC:20190619T110000
DTEND;TZID=UTC:20190619T230000
DTSTAMP:20260425T225755
CREATED:20190605T175617Z
LAST-MODIFIED:20190605T175617Z
UID:412-1560942000-1560985200@theshedbarandgrille.com
SUMMARY:Bike Night
DESCRIPTION:  \n\nJoin us for Bike Night EVERY WEDNESDAY!\n\n\n \n\n\nFood Specials Include:\n\n\n$1.50 Jumbo Wings\n\n\n$4 Gizzard Basket\n\n\n$5 Brat Burger Basket\n\n\n \n\n\nDrink Specials Include:\n\n\n$6 Blue Motorcycles\n\n\n$4 Harley Oil Shots\n\n\n$5 Bud Light Pitchers\n\n\n$6 Summer Shandy Pitchers\n\n\n*Must be 21+ after 9:00 p.m.
URL:https://theshedbarandgrille.com/event/bike-night/
LOCATION:The Shed Bar & Grille\, 11995 S Merrill Rd\, Brant\, MI\, 48614\, United States
CATEGORIES:Drink,Food
END:VEVENT
BEGIN:VEVENT
DTSTART;TZID=UTC:20190612T110000
DTEND;TZID=UTC:20190612T230000
DTSTAMP:20260425T225755
CREATED:20190605T174930Z
LAST-MODIFIED:20190605T175004Z
UID:408-1560337200-1560380400@theshedbarandgrille.com
SUMMARY:Bike Night
DESCRIPTION:  \n\nJoin us for Bike Night EVERY WEDNESDAY!\n\n\n \n\n\nFood Specials Include:\n\n\n$1.50 Jumbo Wings\n\n\n$4 Gizzard Basket\n\n\n$5 Brat Burger Basket\n\n\n \n\n\nDrink Specials Include:\n\n\n$6 Blue Motorcycles\n\n\n$4 Harley Oil Shots\n\n\n$5 Bud Light Pitchers\n\n\n$6 Summer Shandy Pitchers\n\n\n*Must be 21+ after 9:00 p.m.
URL:https://theshedbarandgrille.com/event/bike-nights/
LOCATION:The Shed Bar & Grille\, 11995 S Merrill Rd\, Brant\, MI\, 48614\, United States
CATEGORIES:Drink,Food
END:VEVENT
BEGIN:VEVENT
DTSTART;TZID=UTC:20190512T110000
DTEND;TZID=UTC:20190512T150000
DTSTAMP:20260425T225755
CREATED:20190503T013656Z
LAST-MODIFIED:20190503T034655Z
UID:376-1557658800-1557673200@theshedbarandgrille.com
SUMMARY:Mother's Day Brunch
DESCRIPTION:Join us for a Mother’s Day Brunch on Sunday\, May 12th from 11:00 a.m. – 3:00 p.m. We’ll have a $12.99 buffet with breakfast\, lunch and dessert items. Plus\, moms are half off! Please call ahead to make a reservation at 989-643-7469.
URL:https://theshedbarandgrille.com/event/mothers-day-brunch/
LOCATION:The Shed Bar & Grille\, 11995 S Merrill Rd\, Brant\, MI\, 48614\, United States
CATEGORIES:Celebration,Food
END:VEVENT
END:VCALENDAR