BEGIN:VCALENDAR
VERSION:2.0
PRODID:-//The Shed Bar &amp; Grille - ECPv6.15.20//NONSGML v1.0//EN
CALSCALE:GREGORIAN
METHOD:PUBLISH
X-WR-CALNAME:The Shed Bar &amp; Grille
X-ORIGINAL-URL:https://theshedbarandgrille.com
X-WR-CALDESC:Events for The Shed Bar &amp; Grille
REFRESH-INTERVAL;VALUE=DURATION:PT1H
X-Robots-Tag:noindex
X-PUBLISHED-TTL:PT1H
BEGIN:VTIMEZONE
TZID:UTC
BEGIN:STANDARD
TZOFFSETFROM:+0000
TZOFFSETTO:+0000
TZNAME:UTC
DTSTART:20190101T000000
END:STANDARD
END:VTIMEZONE
BEGIN:VEVENT
DTSTART;TZID=UTC:20210225T210000
DTEND;TZID=UTC:20210225T210000
DTSTAMP:20260425T172434
CREATED:20210203T181831Z
LAST-MODIFIED:20210225T153447Z
UID:3364-1614286800-1614286800@theshedbarandgrille.com
SUMMARY:Michigan State vs Ohio State
DESCRIPTION:  \nMichigan State vs Ohio State\nThursday\, February 25 at 9:00PM\nThe Shed Bar & Grille \n50¢ off wells\n$1.00 0ff drafts\n50% off select appetizers\n$3.00 Michigan shots\n$12.00 domestic beer bucket\n$15.00 premium beer bucket \nAvailable from tip off until the end of the game. We are still operating at 25% capacity so tables are available on a first-come\, first-served basis. No reservations.
URL:https://theshedbarandgrille.com/event/michigan-state-vs-ohio-state/
LOCATION:The Shed Bar & Grille\, 11995 S Merrill Rd\, Brant\, MI\, 48614\, United States
CATEGORIES:Drink,Food,Sports
END:VEVENT
BEGIN:VEVENT
DTSTART;TZID=UTC:20210225T190000
DTEND;TZID=UTC:20210225T190000
DTSTAMP:20260425T172434
CREATED:20210220T165810Z
LAST-MODIFIED:20210225T153251Z
UID:3452-1614279600-1614279600@theshedbarandgrille.com
SUMMARY:Michigan vs Iowa
DESCRIPTION:  \nMichigan vs Iowa\nThursday\, February 25 at 7:00PM\nThe Shed Bar & Grille \n50¢ off wells\n$1.00 0ff drafts\n50% off select appetizers\n$3.00 Michigan shots\n$12.00 domestic beer bucket\n$15.00 premium beer bucket \nAvailable from tip off until the end of the game. We are still operating at 25% capacity so tables are available on a first-come\, first-served basis. No reservations.
URL:https://theshedbarandgrille.com/event/michigan-vs-iowa-2/
LOCATION:The Shed Bar & Grille\, 11995 S Merrill Rd\, Brant\, MI\, 48614\, United States
CATEGORIES:Drink,Food,Sports
END:VEVENT
BEGIN:VEVENT
DTSTART;TZID=UTC:20210223T190000
DTEND;TZID=UTC:20210223T190000
DTSTAMP:20260425T172434
CREATED:20210220T165357Z
LAST-MODIFIED:20210220T165357Z
UID:3450-1614106800-1614106800@theshedbarandgrille.com
SUMMARY:Michigan State vs Illinois
DESCRIPTION:  \nMichigan State vs Illinois\nTuesday\, February 23 at 7:00PM\nThe Shed Bar & Grille \n50¢ off wells\n$1.00 0ff drafts\n50% off select appetizers\n$3.00 Michigan State shots\n$12.00 domestic beer bucket\n$15.00 premium beer bucket \nAvailable from tip off until the end of the game. We are still operating at 25% capacity so tables are available on a first-come\, first-served basis. No reservations.
URL:https://theshedbarandgrille.com/event/michigan-state-vs-illinois/
LOCATION:The Shed Bar & Grille\, 11995 S Merrill Rd\, Brant\, MI\, 48614\, United States
CATEGORIES:Drink,Food,Sports
END:VEVENT
BEGIN:VEVENT
DTSTART;TZID=UTC:20210221T130000
DTEND;TZID=UTC:20210221T130000
DTSTAMP:20260425T172434
CREATED:20210203T184312Z
LAST-MODIFIED:20210209T185038Z
UID:3378-1613912400-1613912400@theshedbarandgrille.com
SUMMARY:Michigan vs Ohio State
DESCRIPTION:  \nMichigan vs Ohio State\nSunday\, February 21 at 1:00PM\nThe Shed Bar & Grille \n50¢ off wells\n$1.00 0ff drafts\n50% off select appetizers\n$3.00 Michigan State shots\n$12.00 domestic beer bucket\n$15.00 premium beer bucket \nAvailable from tip off until the end of the game. We are still operating at 25% capacity so tables are available on a first-come\, first-served basis. No reservations.
URL:https://theshedbarandgrille.com/event/michigan-vs-ohio-state/
LOCATION:The Shed Bar & Grille\, 11995 S Merrill Rd\, Brant\, MI\, 48614\, United States
CATEGORIES:Drink,Food,Sports
END:VEVENT
BEGIN:VEVENT
DTSTART;TZID=UTC:20210220T120000
DTEND;TZID=UTC:20210220T120000
DTSTAMP:20260425T172434
CREATED:20210203T181434Z
LAST-MODIFIED:20210203T181434Z
UID:3362-1613822400-1613822400@theshedbarandgrille.com
SUMMARY:Michigan State vs Indiana
DESCRIPTION:  \nMichigan State vs Indiana\nSaturday\, February 20 at TBD\nThe Shed Bar & Grille \n50¢ off wells\n$1.00 0ff drafts\n50% off select appetizers\n$3.00 Michigan State shots\n$12.00 domestic beer bucket\n$15.00 premium beer bucket \nAvailable from tip off until the end of the game. We are still operating at 25% capacity so tables are available on a first-come\, first-served basis. No reservations.
URL:https://theshedbarandgrille.com/event/michigan-state-vs-indiana-2/
LOCATION:The Shed Bar & Grille\, 11995 S Merrill Rd\, Brant\, MI\, 48614\, United States
CATEGORIES:Drink,Food,Sports
END:VEVENT
BEGIN:VEVENT
DTSTART;TZID=UTC:20210218T210000
DTEND;TZID=UTC:20210218T210000
DTSTAMP:20260425T172434
CREATED:20210203T184017Z
LAST-MODIFIED:20210209T184841Z
UID:3376-1613682000-1613682000@theshedbarandgrille.com
SUMMARY:Michigan vs Rutgers
DESCRIPTION:  \nMichigan vs Rutgers\nThursday\, February 18 at 9:00PM\nThe Shed Bar & Grille \n50¢ off wells\n$1.00 0ff drafts\n50% off select appetizers\n$3.00 Michigan shots\n$12.00 domestic beer bucket\n$15.00 premium beer bucket \nAvailable from tip off until the end of the game. We are still operating at 25% capacity so tables are available on a first-come\, first-served basis. No reservations.
URL:https://theshedbarandgrille.com/event/michigan-vs-rutgers/
LOCATION:The Shed Bar & Grille\, 11995 S Merrill Rd\, Brant\, MI\, 48614\, United States
CATEGORIES:Drink,Food,Sports
END:VEVENT
BEGIN:VEVENT
DTSTART;TZID=UTC:20210216T190000
DTEND;TZID=UTC:20210216T190000
DTSTAMP:20260425T172434
CREATED:20210203T181023Z
LAST-MODIFIED:20210203T181023Z
UID:3360-1613502000-1613502000@theshedbarandgrille.com
SUMMARY:Michigan State vs Purdue
DESCRIPTION:  \nDon’t miss a minute of Michigan State Basketball with us this season! Come watch the game with your team while enjoying our game day specials! \nMichigan State vs Purdue\nTuesday\, February 16 at 7:00PM\nThe Shed Bar & Grille \n50¢ off wells\n$1.00 0ff drafts\n50% off select appetizers\n$3.00 Michigan State shots\n$12.00 domestic beer bucket\n$15.00 premium beer bucket \nAvailable from tip off until the end of the game. We are still operating at 25% capacity so tables are available on a first-come\, first-served basis. No reservations.
URL:https://theshedbarandgrille.com/event/michigan-state-vs-purdue/
LOCATION:The Shed Bar & Grille\, 11995 S Merrill Rd\, Brant\, MI\, 48614\, United States
CATEGORIES:Drink,Food,Sports
END:VEVENT
BEGIN:VEVENT
DTSTART;TZID=UTC:20210214T130000
DTEND;TZID=UTC:20210214T130000
DTSTAMP:20260425T172434
CREATED:20210203T183737Z
LAST-MODIFIED:20210209T184707Z
UID:3374-1613307600-1613307600@theshedbarandgrille.com
SUMMARY:Michigan vs Wisconsin
DESCRIPTION:  \nMichigan vs Wisconsin\nSunday\, February 14 at 1:00PM\nThe Shed Bar & Grille \n50¢ off wells\n$1.00 0ff drafts\n50% off select appetizers\n$3.00 Michigan shots\n$12.00 domestic beer bucket\n$15.00 premium beer bucket \nAvailable from tip off until the end of the game. We are still operating at 25% capacity so tables are available on a first-come\, first-served basis. No reservations.
URL:https://theshedbarandgrille.com/event/michigan-vs-wisconsin/
LOCATION:The Shed Bar & Grille\, 11995 S Merrill Rd\, Brant\, MI\, 48614\, United States
CATEGORIES:Drink,Food,Sports
END:VEVENT
BEGIN:VEVENT
DTSTART;TZID=UTC:20210214T110000
DTEND;TZID=UTC:20210214T210000
DTSTAMP:20260425T172434
CREATED:20210209T193334Z
LAST-MODIFIED:20210209T193334Z
UID:3400-1613300400-1613336400@theshedbarandgrille.com
SUMMARY:Valentine's Day Lunch & Dinner
DESCRIPTION:  \nCelebrate Valentine’s Day with The Shed Bar & Grille!\n\nLUNCH & DINNER SPECIAL:\nSurf & Turf\n1 Dish For $22 OR 2 Dishes For $40\n\n• Small Salad\n• 10oz Steak\n• 8 Piece Butter Shrimp\n• Garlic Mashed Potatoes\n• Asparagus\n• Raspberry Chimichanga\n\nAvailable for dine in\, takeout\, or curbside pickup. We are not accepting reservations at this time while operating at a limited capacity. Tables will be available on a first-come\, first-served basis. For takeout or curbside pickup\, please call 989-643-7469 to place an order.
URL:https://theshedbarandgrille.com/event/valentines-day-lunch-dinner/
LOCATION:The Shed Bar & Grille\, 11995 S Merrill Rd\, Brant\, MI\, 48614\, United States
CATEGORIES:Food,Holiday
END:VEVENT
BEGIN:VEVENT
DTSTART;TZID=UTC:20210213T143000
DTEND;TZID=UTC:20210213T143000
DTSTAMP:20260425T172434
CREATED:20210203T180616Z
LAST-MODIFIED:20210209T183927Z
UID:3358-1613226600-1613226600@theshedbarandgrille.com
SUMMARY:Michigan State vs Iowa
DESCRIPTION:  \nDon’t miss a minute of Michigan State Basketball with us this season! Come watch the game with your team while enjoying our game day specials! \nMichigan State vs Iowa\nSaturday\, February 13 at 2:30PM\nThe Shed Bar & Grille \n50¢ off wells\n$1.00 0ff drafts\n50% off select appetizers\n$3.00 Michigan State shots\n$12.00 domestic beer bucket\n$15.00 premium beer bucket \nAvailable from tip off until the end of the game. We are still operating at 25% capacity so tables are available on a first-come\, first-served basis. No reservations.
URL:https://theshedbarandgrille.com/event/michigan-state-vs-iowa/
LOCATION:The Shed Bar & Grille\, 11995 S Merrill Rd\, Brant\, MI\, 48614\, United States
CATEGORIES:Drink,Food,Sports
END:VEVENT
BEGIN:VEVENT
DTSTART;TZID=UTC:20210209T190000
DTEND;TZID=UTC:20210209T190000
DTSTAMP:20260425T172434
CREATED:20210203T180004Z
LAST-MODIFIED:20210209T183819Z
UID:3356-1612897200-1612897200@theshedbarandgrille.com
SUMMARY:Michigan State vs Penn State
DESCRIPTION:  \nDon’t miss a minute of Michigan State Basketball with us this season! Come watch the game with your team while enjoying our game day specials! \nMichigan State vs Penn State\nTuesday\, February 9 at 7:00PM\nThe Shed Bar & Grille \n50¢ off wells\n$1.00 0ff drafts\n50% off select appetizers\n$3.00 Michigan State shots\n$12.00 domestic beer bucket\n$15.00 premium beer bucket \nAvailable from tip off until the end of the game. We are still operating at 25% capacity so tables are available on a first-come\, first-served basis. No reservations.
URL:https://theshedbarandgrille.com/event/michigan-state-vs-penn-state/
LOCATION:The Shed Bar & Grille\, 11995 S Merrill Rd\, Brant\, MI\, 48614\, United States
CATEGORIES:Drink,Food,Sports
END:VEVENT
BEGIN:VEVENT
DTSTART;TZID=UTC:20210207T183000
DTEND;TZID=UTC:20210207T183000
DTSTAMP:20260425T172434
CREATED:20210203T193421Z
LAST-MODIFIED:20210203T193542Z
UID:3387-1612722600-1612722600@theshedbarandgrille.com
SUMMARY:Super Bowl LV
DESCRIPTION:  \nSuper Bowl LV Watch Party\nThe Shed Bar & Grille\nSunday\, February 7 at 6:30 p.m.\nTampa Bay Buccaneers vs Kansas City Chiefs \nSpecials:\n• $1.00 off all beer buckets (dine in only).\n• $7.50 Slider Basket. Includes 3 sliders with your choice of french fries or pub chips. Mix and match ham & cheese sliders and cheeseburger sliders.\n• $20.00 Party Pack. Includes 12 sliders and 1lb. of potato dippers. Mix and match ham & cheese sliders and cheeseburger sliders. \nAvailable for takeout and dine in! We are still operating at 25% capacity so tables will be available on a first-come\, first-served basis. No reservations.
URL:https://theshedbarandgrille.com/event/super-bowl-lv/
LOCATION:The Shed Bar & Grille\, 11995 S Merrill Rd\, Brant\, MI\, 48614\, United States
CATEGORIES:Drink,Food,Sports
END:VEVENT
BEGIN:VEVENT
DTSTART;TZID=UTC:20210206T183000
DTEND;TZID=UTC:20210206T183000
DTSTAMP:20260425T172434
CREATED:20210203T175428Z
LAST-MODIFIED:20210203T175723Z
UID:3351-1612636200-1612636200@theshedbarandgrille.com
SUMMARY:Michigan State vs Nebraska
DESCRIPTION:  \nDon’t miss a minute of Michigan State Basketball with us this season! Come watch the game with your team while enjoying our game day specials! \nMichigan State vs Nebraska\nSaturday\, February 6 at 6:30pm\nThe Shed Bar & Grille \n50¢ off wells\n$1.00 0ff drafts\n50% off select appetizers\n$3.00 Michigan State shots\n$12.00 domestic beer bucket\n$15.00 premium beer bucket \nAvailable from tip off until the end of the game. We are still operating at 25% capacity so tables are available on a first-come\, first-served basis. No reservations.
URL:https://theshedbarandgrille.com/event/michigan-state-vs-nebraska/
LOCATION:The Shed Bar & Grille\, 11995 S Merrill Rd\, Brant\, MI\, 48614\, United States
CATEGORIES:Drink,Food,Sports
END:VEVENT
BEGIN:VEVENT
DTSTART;TZID=UTC:20201114T193000
DTEND;TZID=UTC:20201114T193000
DTSTAMP:20260425T172434
CREATED:20201018T180140Z
LAST-MODIFIED:20201106T164615Z
UID:3180-1605382200-1605382200@theshedbarandgrille.com
SUMMARY:Michigan vs Wisconsin Watch Party
DESCRIPTION:  \nDon’t miss a minute of Michigan Football with us this season! Come watch the game with your team while enjoying our game day specials! \nMichigan vs Wisconsin\nSaturday\, November 14 at 7:30pm\nThe Shed Bar & Grille \n50¢ off wells\n$1.00 0ff drafts\n50% off select appetizers\n$3.00 Michigan shots\n$12.00 domestic beer bucket\n$15.00 premium beer bucket \nAvailable from kickoff until the end of the game.
URL:https://theshedbarandgrille.com/event/michigan-vs-wisconsin-watch-party-3/
LOCATION:The Shed Bar & Grille\, 11995 S Merrill Rd\, Brant\, MI\, 48614\, United States
CATEGORIES:Drink,Food,Sports
END:VEVENT
BEGIN:VEVENT
DTSTART;TZID=UTC:20201114T120000
DTEND;TZID=UTC:20201114T120000
DTSTAMP:20260425T172434
CREATED:20201018T180433Z
LAST-MODIFIED:20201106T164727Z
UID:3182-1605355200-1605355200@theshedbarandgrille.com
SUMMARY:Michigan State vs Indiana Watch Party
DESCRIPTION:  \nDon’t miss a minute of Michigan State Football with us this season! Come watch the game with your team while enjoying our game day specials! \nMichigan State vs Indiana\nSaturday\, November 14 at 12:00pm\nThe Shed Bar & Grille \n50¢ off wells\n$1.00 0ff drafts\n50% off select appetizers\n$3.00 Michigan State shots\n$12.00 domestic beer bucket\n$15.00 premium beer bucket \nAvailable from kickoff until the end of the game.
URL:https://theshedbarandgrille.com/event/michigan-state-vs-indiana-watch-party-2/
LOCATION:The Shed Bar & Grille\, 11995 S Merrill Rd\, Brant\, MI\, 48614\, United States
CATEGORIES:Drink,Food,Sports
END:VEVENT
BEGIN:VEVENT
DTSTART;TZID=UTC:20201107T120000
DTEND;TZID=UTC:20201107T120000
DTSTAMP:20260425T172434
CREATED:20201018T172104Z
LAST-MODIFIED:20201103T235506Z
UID:3178-1604750400-1604750400@theshedbarandgrille.com
SUMMARY:Michigan State vs Iowa Watch Party
DESCRIPTION:  \nDon’t miss a minute of Michigan State Football with us this season! Come watch the game with your team while enjoying our game day specials! \nMichigan State vs Iowa\nSaturday\, November 7 at 12:00pm\nThe Shed Bar & Grille \n50¢ off wells\n$1.00 0ff drafts\n50% off select appetizers\n$3.00 Michigan State shots\n$12.00 domestic beer bucket\n$15.00 premium beer bucket \nAvailable from kickoff until the end of the game.
URL:https://theshedbarandgrille.com/event/michigan-state-vs-iowa-watch-party-2/
LOCATION:The Shed Bar & Grille\, 11995 S Merrill Rd\, Brant\, MI\, 48614\, United States
CATEGORIES:Drink,Food,Sports
END:VEVENT
BEGIN:VEVENT
DTSTART;TZID=UTC:20201107T120000
DTEND;TZID=UTC:20201107T120000
DTSTAMP:20260425T172434
CREATED:20201018T171817Z
LAST-MODIFIED:20201103T235353Z
UID:3176-1604750400-1604750400@theshedbarandgrille.com
SUMMARY:Michigan vs Indiana Watch Party
DESCRIPTION:  \nDon’t miss a minute of Michigan Football with us this season! Come watch the game with your team while enjoying our game day specials! \nMichigan vs Indiana\nSaturday\, November 7 at 12:00pm\nThe Shed Bar & Grille \n50¢ off wells\n$1.00 0ff drafts\n50% off select appetizers\n$3.00 Michigan shots\n$12.00 domestic beer bucket\n$15.00 premium beer bucket \nAvailable from kickoff until the end of the game.
URL:https://theshedbarandgrille.com/event/michigan-vs-indiana-watch-party-3/
LOCATION:The Shed Bar & Grille\, 11995 S Merrill Rd\, Brant\, MI\, 48614\, United States
CATEGORIES:Drink,Food,Sports
END:VEVENT
BEGIN:VEVENT
DTSTART;TZID=UTC:20201107T110000
DTEND;TZID=UTC:20201107T110000
DTSTAMP:20260425T172434
CREATED:20201020T135200Z
LAST-MODIFIED:20201020T135816Z
UID:3218-1604746800-1604746800@theshedbarandgrille.com
SUMMARY:Deer Widows Ladies Night
DESCRIPTION:  \n\n\nLadies Night invites deer widows to The Shed Bar & Grille on Saturday\, November 7! \nWe will have a craft and vendor show from 11:00am – 4:00pm! Come shop from your local vendors and stay for lunch. A list of vendors will be available soon. \nJoin us again at night for dinner with the girls plus live music and karaoke with DeeJay Lyss from 9:00pm – 1:00am! \nFood and drink specials all day long!
URL:https://theshedbarandgrille.com/event/deer-widows-ladies-night/
LOCATION:The Shed Bar & Grille\, 11995 S Merrill Rd\, Brant\, MI\, 48614\, United States
CATEGORIES:Crafts,Drink,Food,Music,Party
END:VEVENT
BEGIN:VEVENT
DTSTART;TZID=UTC:20201031T200000
DTEND;TZID=UTC:20201031T200000
DTSTAMP:20260425T172434
CREATED:20201002T162007Z
LAST-MODIFIED:20211014T023312Z
UID:3139-1604174400-1604174400@theshedbarandgrille.com
SUMMARY:Halloween
DESCRIPTION:  \nJoin us for a wicked good time! Wear your best costume out to The Shed Bar & Grille on Saturday\, October 31st for Halloween Night!\n\nOnce Removed with Jim Pontack will be playing your favorite hits as well as some Halloween tunes from 9:00 p.m. – 1:00 a.m.\n\n Food + drink specials will be available\n\n*Original Music\n*Must be 21+ after 9:00 p.m to enter.
URL:https://theshedbarandgrille.com/event/halloween/
LOCATION:The Shed Bar & Grille\, 11995 S Merrill Rd\, Brant\, MI\, 48614\, United States
CATEGORIES:Drink,Food,Holiday,Music,Party
END:VEVENT
BEGIN:VEVENT
DTSTART;TZID=UTC:20201031T120000
DTEND;TZID=UTC:20201031T120000
DTSTAMP:20260425T172434
CREATED:20201018T171326Z
LAST-MODIFIED:20201022T011944Z
UID:3172-1604145600-1604145600@theshedbarandgrille.com
SUMMARY:Michigan vs Michigan State Watch Party
DESCRIPTION:  \nDon’t miss a minute of Michigan and Michigan State Football with us this season! Come watch the game with your team while enjoying our game day specials! \nMichigan vs Michigan State\nSaturday\, October 31 at 12:00pm\nThe Shed Bar & Grille \n50¢ off wells\n$1.00 0ff drafts\n50% off select appetizers\n$3.00 Michigan shots\n$3.00 Michigan State shots\n$12.00 domestic beer bucket\n$15.00 premium beer bucket \nAvailable from kickoff until the end of the game.
URL:https://theshedbarandgrille.com/event/michigan-vs-michigan-state-watch-party-3/
LOCATION:The Shed Bar & Grille\, 11995 S Merrill Rd\, Brant\, MI\, 48614\, United States
CATEGORIES:Drink,Food,Sports
END:VEVENT
BEGIN:VEVENT
DTSTART;TZID=UTC:20201024T193000
DTEND;TZID=UTC:20201024T193000
DTSTAMP:20260425T172434
CREATED:20201018T165338Z
LAST-MODIFIED:20201018T165338Z
UID:3163-1603567800-1603567800@theshedbarandgrille.com
SUMMARY:Michigan vs Minnesota Watch Party
DESCRIPTION:  \nDon’t miss a minute of Michigan Football with us this season! Come watch the game with your team while enjoying our game day specials! \nMichigan vs Minnesota\nSaturday\, October 24 at 7:30pm\nThe Shed Bar & Grille \n50¢ off wells\n$1.00 0ff drafts\n50% off select appetizers\n$3.00 Michigan shots\n$12.00 domestic beer bucket\n$15.00 premium beer bucket \nAvailable from kickoff until the end of the game.
URL:https://theshedbarandgrille.com/event/michigan-vs-minnesota-watch-party-2/
LOCATION:The Shed Bar & Grille\, 11995 S Merrill Rd\, Brant\, MI\, 48614\, United States
CATEGORIES:Drink,Food,Sports
END:VEVENT
BEGIN:VEVENT
DTSTART;TZID=UTC:20201024T120000
DTEND;TZID=UTC:20201024T120000
DTSTAMP:20260425T172434
CREATED:20201018T165821Z
LAST-MODIFIED:20201018T165821Z
UID:3167-1603540800-1603540800@theshedbarandgrille.com
SUMMARY:Michigan State vs Rutgers Watch Party
DESCRIPTION:  \nDon’t miss a minute of Michigan State Football with us this season! Come watch the game with your team while enjoying our game day specials! \nMichigan State vs Rutgers\nSaturday\, October 24 at 12:00pm\nThe Shed Bar & Grille \n50¢ off wells\n$1.00 0ff drafts\n50% off select appetizers\n$3.00 Michigan State shots\n$12.00 domestic beer bucket\n$15.00 premium beer bucket \nAvailable from kickoff until the end of the game.
URL:https://theshedbarandgrille.com/event/michigan-state-vs-rutgers-watch-party-2/
LOCATION:The Shed Bar & Grille\, 11995 S Merrill Rd\, Brant\, MI\, 48614\, United States
CATEGORIES:Drink,Food,Sports
END:VEVENT
BEGIN:VEVENT
DTSTART;TZID=UTC:20201018T130000
DTEND;TZID=UTC:20201018T160000
DTSTAMP:20260425T172434
CREATED:20201003T171339Z
LAST-MODIFIED:20201003T171339Z
UID:3156-1603026000-1603036800@theshedbarandgrille.com
SUMMARY:Just 4 Fun Polka Band
DESCRIPTION:  \nVirgil Baker & Tom Galecka’s Just 4 Fun Polka Band\nSunday\, October 18th at 1:00 p.m. – 4:00 p.m.\nThe Shed Bar & Grille\n\nThe Just 4 Fun Polka Band loves to make music and entertain. While the music includes everything from swing to country to 50’s – 60’s Rock & Roll\, it has developed a solid reputation with the polka and waltz dance crowd.\n\nFOOD SPECIALS:\n• $7.95 smoked polish sausage\, sauerkraut & fried potatoes.\n• $6.95 polish dog on a bun topped with sauerkraut and your choice of fried potatoes and pub chips. Add another polish dog for $1.00.\n\n*Original Music
URL:https://theshedbarandgrille.com/event/just-4-fun-polka-band-5/
LOCATION:The Shed Bar & Grille\, 11995 S Merrill Rd\, Brant\, MI\, 48614\, United States
CATEGORIES:Band,Concert,Food,Music
END:VEVENT
BEGIN:VEVENT
DTSTART;TZID=UTC:20200505T130000
DTEND;TZID=UTC:20200505T200000
DTSTAMP:20260425T172434
CREATED:20200126T031620Z
LAST-MODIFIED:20200502T172418Z
UID:1095-1588683600-1588708800@theshedbarandgrille.com
SUMMARY:Cinco de Mayo Fiesta
DESCRIPTION:  \n\n\nCinco de Mayo Fiesta\n\n\nThe Shed Bar & Grille\n\n\nTuesday\, May 5th 1:00pm – 8:00pm\n\n\n\n \n\n\nCinco de Mayo falls on Taco Tuesday\, coincidence?\n\n\n \n\n\nCelebrate Cinco de Mayo with our Taco Tuesday specials!\n\n\n \n\n\n• $1.25 tacos – hard\, soft or fried shells\n\n\n• $8 deluxe nacho\n\n\n• $7 taco salad\n\n\n• $1.50 fish taco\n\n\n• $2 nacho taco
URL:https://theshedbarandgrille.com/event/cinco-de-mayo-fiesta/
LOCATION:The Shed Bar & Grille\, 11995 S Merrill Rd\, Brant\, MI\, 48614\, United States
CATEGORIES:Food,Holiday
END:VEVENT
BEGIN:VEVENT
DTSTART;TZID=UTC:20200320T160000
DTEND;TZID=UTC:20200320T210000
DTSTAMP:20260425T172434
CREATED:20200318T014836Z
LAST-MODIFIED:20200318T014836Z
UID:1531-1584720000-1584738000@theshedbarandgrille.com
SUMMARY:Fish Fry Friday Parking Lot Party
DESCRIPTION:  \nOur building may be closed but our parking lot is not! In order to make the best of what is a difficult time\, we are hosting a Fish Fry Friday Parking Lot Party on Friday\, March 20 from 4:00 p.m. – 9:00 p.m. Order in advance by calling 989-643-7469\, head to The Shed Bar & Grille and receive car side delivery service. Enjoy dinner with us from the comfort of your car while still keeping others safe by social distancing. Music will be provided. \nFish Fry Friday Special: $10.95 Cod Basket:\n• 4 pieces of cod (dry or wet batter)\n• Served with french fries or pub chips\n• Side of coleslaw\n• Add more cod for $1.00 per piece
URL:https://theshedbarandgrille.com/event/fish-fry-friday-parking-lot-party/
LOCATION:The Shed Bar & Grille\, 11995 S Merrill Rd\, Brant\, MI\, 48614\, United States
CATEGORIES:Food
END:VEVENT
BEGIN:VEVENT
DTSTART;TZID=UTC:20200224T180000
DTEND;TZID=UTC:20200224T210000
DTSTAMP:20260425T172434
CREATED:20191211T004048Z
LAST-MODIFIED:20191211T004048Z
UID:915-1582567200-1582578000@theshedbarandgrille.com
SUMMARY:Mixed Nutz Band
DESCRIPTION:  \nJoin us every Monday night for live entertainment with Mixed Nuts and our Build-A Burger Monday special\, plus $1 off 22oz frosted mug drafts! Mixed Nuts will be performing from 6:00 p.m. – 9:00 p.m. Get there early to enjoy our Happy Hour specials from 3:00 p.m. – 6:00 p.m. \n  \n*Original Music
URL:https://theshedbarandgrille.com/event/mixed-nutz-band-11/
LOCATION:The Shed Bar & Grille\, 11995 S Merrill Rd\, Brant\, MI\, 48614\, United States
CATEGORIES:Band,Drink,Food
END:VEVENT
BEGIN:VEVENT
DTSTART;TZID=UTC:20200217T180000
DTEND;TZID=UTC:20200217T210000
DTSTAMP:20260425T172434
CREATED:20191211T003949Z
LAST-MODIFIED:20191211T003949Z
UID:913-1581962400-1581973200@theshedbarandgrille.com
SUMMARY:Mixed Nutz Band
DESCRIPTION:  \nJoin us every Monday night for live entertainment with Mixed Nuts and our Build-A Burger Monday special\, plus $1 off 22oz frosted mug drafts! Mixed Nuts will be performing from 6:00 p.m. – 9:00 p.m. Get there early to enjoy our Happy Hour specials from 3:00 p.m. – 6:00 p.m. \n  \n*Original Music
URL:https://theshedbarandgrille.com/event/mixed-nutz-band-10/
LOCATION:The Shed Bar & Grille\, 11995 S Merrill Rd\, Brant\, MI\, 48614\, United States
CATEGORIES:Band,Drink,Food
END:VEVENT
BEGIN:VEVENT
DTSTART;TZID=UTC:20200214T160000
DTEND;TZID=UTC:20200214T160000
DTSTAMP:20260425T172434
CREATED:20200109T011335Z
LAST-MODIFIED:20200109T011335Z
UID:1014-1581696000-1581696000@theshedbarandgrille.com
SUMMARY:Valentine's Day Dinner
DESCRIPTION:  \nValentine’s Day Dinner Specials\nFriday\, February 14th at 4:00 p.m.\nThe Shed Bar & Grille \nValentine’s Day Dinner Specials: \n• King Smoked Prime Rib Dinner – $18.95\nServed with a vegetable\, your choice of potato and our full salad bar including a roll and dessert \n• Queen Smoked Prime Rib Dinner – $16.95\nServed with a vegetable\, your choice of potato and our full salad bar including a roll and dessert \n• Chicken Alfredo – $12.95\nServed with our full salad bar including a roll and dessert \n• All You Can Eat Cod – $12.95\nServed with our full salad bar including a roll and dessert \nCall 989-643-7469 to make a reservation!
URL:https://theshedbarandgrille.com/event/valentines-day-dinner/
LOCATION:The Shed Bar & Grille\, 11995 S Merrill Rd\, Brant\, MI\, 48614\, United States
CATEGORIES:Food,Holiday
END:VEVENT
BEGIN:VEVENT
DTSTART;TZID=UTC:20200210T180000
DTEND;TZID=UTC:20200210T210000
DTSTAMP:20260425T172434
CREATED:20191211T003831Z
LAST-MODIFIED:20191211T003831Z
UID:911-1581357600-1581368400@theshedbarandgrille.com
SUMMARY:Mixed Nutz Band
DESCRIPTION:  \nJoin us every Monday night for live entertainment with Mixed Nuts and our Build-A Burger Monday special\, plus $1 off 22oz frosted mug drafts! Mixed Nuts will be performing from 6:00 p.m. – 9:00 p.m. Get there early to enjoy our Happy Hour specials from 3:00 p.m. – 6:00 p.m. \n  \n*Original Music
URL:https://theshedbarandgrille.com/event/mixed-nutz-band-9/
LOCATION:The Shed Bar & Grille\, 11995 S Merrill Rd\, Brant\, MI\, 48614\, United States
CATEGORIES:Band,Drink,Food
END:VEVENT
BEGIN:VEVENT
DTSTART;TZID=UTC:20200203T180000
DTEND;TZID=UTC:20200203T210000
DTSTAMP:20260425T172434
CREATED:20191211T003707Z
LAST-MODIFIED:20191211T003707Z
UID:909-1580752800-1580763600@theshedbarandgrille.com
SUMMARY:Mixed Nutz Band
DESCRIPTION:  \nJoin us every Monday night for live entertainment with Mixed Nuts and our Build-A Burger Monday special\, plus $1 off 22oz frosted mug drafts! Mixed Nuts will be performing from 6:00 p.m. – 9:00 p.m. Get there early to enjoy our Happy Hour specials from 3:00 p.m. – 6:00 p.m. \n  \n*Original Music
URL:https://theshedbarandgrille.com/event/mixed-nutz-band-8/
LOCATION:The Shed Bar & Grille\, 11995 S Merrill Rd\, Brant\, MI\, 48614\, United States
CATEGORIES:Band,Drink,Food
END:VEVENT
END:VCALENDAR