BEGIN:VCALENDAR
VERSION:2.0
PRODID:-//The Shed Bar &amp; Grille - ECPv6.15.20//NONSGML v1.0//EN
CALSCALE:GREGORIAN
METHOD:PUBLISH
X-ORIGINAL-URL:https://theshedbarandgrille.com
X-WR-CALDESC:Events for The Shed Bar &amp; Grille
REFRESH-INTERVAL;VALUE=DURATION:PT1H
X-Robots-Tag:noindex
X-PUBLISHED-TTL:PT1H
BEGIN:VTIMEZONE
TZID:UTC
BEGIN:STANDARD
TZOFFSETFROM:+0000
TZOFFSETTO:+0000
TZNAME:UTC
DTSTART:20240101T000000
END:STANDARD
END:VTIMEZONE
BEGIN:VEVENT
DTSTART;TZID=UTC:20250315T203000
DTEND;TZID=UTC:20250315T203000
DTSTAMP:20260426T040100
CREATED:20250224T233502Z
LAST-MODIFIED:20250224T233502Z
UID:8880-1742070600-1742070600@theshedbarandgrille.com
SUMMARY:St. Patrick's Weekend
DESCRIPTION:  \nWear your green to The Shed Bar & Grille and celebrate St. Patrick’s Weekend with us! \n🎶 Tweed & Dixie playing Saturday\, March 15th from 8:30pm – 12:30am \n🎶 The Lawsons playing Sunday\, March 16th from 2pm – 5pm \n🍽️ Corned Beef & Cabbage Dinner available both days \n🍻 Green Beer + Drink Specials
URL:https://theshedbarandgrille.com/event/st-patricks-weekend-2/
LOCATION:The Shed Bar & Grille\, 11995 S Merrill Rd\, Brant\, MI\, 48614\, United States
CATEGORIES:Band,Drink,Food,Holiday,Music
END:VEVENT
BEGIN:VEVENT
DTSTART;TZID=UTC:20250316T140000
DTEND;TZID=UTC:20250316T170000
DTSTAMP:20260426T040100
CREATED:20250224T233610Z
LAST-MODIFIED:20250224T233610Z
UID:8884-1742133600-1742144400@theshedbarandgrille.com
SUMMARY:St. Patrick's Weekend
DESCRIPTION:  \nWear your green to The Shed Bar & Grille and celebrate St. Patrick’s Weekend with us! \n🎶 Tweed & Dixie playing Saturday\, March 15th from 8:30pm – 12:30am \n🎶 The Lawsons playing Sunday\, March 16th from 2pm – 5pm \n🍽️ Corned Beef & Cabbage Dinner available both days \n🍻 Green Beer + Drink Specials
URL:https://theshedbarandgrille.com/event/st-patricks-weekend-3/
LOCATION:The Shed Bar & Grille\, 11995 S Merrill Rd\, Brant\, MI\, 48614\, United States
CATEGORIES:Band,Drink,Food,Holiday,Music
END:VEVENT
END:VCALENDAR