BEGIN:VCALENDAR
VERSION:2.0
PRODID:-//The Shed Bar &amp; Grille - ECPv6.15.20//NONSGML v1.0//EN
CALSCALE:GREGORIAN
METHOD:PUBLISH
X-ORIGINAL-URL:https://theshedbarandgrille.com
X-WR-CALDESC:Events for The Shed Bar &amp; Grille
REFRESH-INTERVAL;VALUE=DURATION:PT1H
X-Robots-Tag:noindex
X-PUBLISHED-TTL:PT1H
BEGIN:VTIMEZONE
TZID:UTC
BEGIN:STANDARD
TZOFFSETFROM:+0000
TZOFFSETTO:+0000
TZNAME:UTC
DTSTART:20190101T000000
END:STANDARD
END:VTIMEZONE
BEGIN:VEVENT
DTSTART;TZID=UTC:20201107T110000
DTEND;TZID=UTC:20201107T110000
DTSTAMP:20260426T000143
CREATED:20201020T135200Z
LAST-MODIFIED:20201020T135816Z
UID:3218-1604746800-1604746800@theshedbarandgrille.com
SUMMARY:Deer Widows Ladies Night
DESCRIPTION:  \n\n\nLadies Night invites deer widows to The Shed Bar & Grille on Saturday\, November 7! \nWe will have a craft and vendor show from 11:00am – 4:00pm! Come shop from your local vendors and stay for lunch. A list of vendors will be available soon. \nJoin us again at night for dinner with the girls plus live music and karaoke with DeeJay Lyss from 9:00pm – 1:00am! \nFood and drink specials all day long!
URL:https://theshedbarandgrille.com/event/deer-widows-ladies-night/
LOCATION:The Shed Bar & Grille\, 11995 S Merrill Rd\, Brant\, MI\, 48614\, United States
CATEGORIES:Crafts,Drink,Food,Music,Party
END:VEVENT
BEGIN:VEVENT
DTSTART;TZID=UTC:20201105T190000
DTEND;TZID=UTC:20201105T203000
DTSTAMP:20260426T000143
CREATED:20200617T032635Z
LAST-MODIFIED:20200617T032635Z
UID:2955-1604602800-1604608200@theshedbarandgrille.com
SUMMARY:DJ Trivia
DESCRIPTION:  \nCome test your knowledge with DJ Trivia every Thursday night from 7:00 p.m. – 8:30 p.m. Free to participate and all ages are welcome! Prizes for first\, second and third place. \nThirsty Thursday Specials: \n• $1 Domestic Beers\n• $2 Premium Beers\n• $1 off 22 oz Frosted Mug Drafts\n• 50¢ off Wells\n• Beer Buckets:\n6 for $12 – Domestics\n6 for $15 – Premiums & Seltzers
URL:https://theshedbarandgrille.com/event/dj-trivia-36/
LOCATION:The Shed Bar & Grille\, 11995 S Merrill Rd\, Brant\, MI\, 48614\, United States
CATEGORIES:Drink,Games
END:VEVENT
BEGIN:VEVENT
DTSTART;TZID=UTC:20201031T200000
DTEND;TZID=UTC:20201031T200000
DTSTAMP:20260426T000143
CREATED:20201002T162007Z
LAST-MODIFIED:20211014T023312Z
UID:3139-1604174400-1604174400@theshedbarandgrille.com
SUMMARY:Halloween
DESCRIPTION:  \nJoin us for a wicked good time! Wear your best costume out to The Shed Bar & Grille on Saturday\, October 31st for Halloween Night!\n\nOnce Removed with Jim Pontack will be playing your favorite hits as well as some Halloween tunes from 9:00 p.m. – 1:00 a.m.\n\n Food + drink specials will be available\n\n*Original Music\n*Must be 21+ after 9:00 p.m to enter.
URL:https://theshedbarandgrille.com/event/halloween/
LOCATION:The Shed Bar & Grille\, 11995 S Merrill Rd\, Brant\, MI\, 48614\, United States
CATEGORIES:Drink,Food,Holiday,Music,Party
END:VEVENT
BEGIN:VEVENT
DTSTART;TZID=UTC:20201031T120000
DTEND;TZID=UTC:20201031T120000
DTSTAMP:20260426T000143
CREATED:20201018T171326Z
LAST-MODIFIED:20201022T011944Z
UID:3172-1604145600-1604145600@theshedbarandgrille.com
SUMMARY:Michigan vs Michigan State Watch Party
DESCRIPTION:  \nDon’t miss a minute of Michigan and Michigan State Football with us this season! Come watch the game with your team while enjoying our game day specials! \nMichigan vs Michigan State\nSaturday\, October 31 at 12:00pm\nThe Shed Bar & Grille \n50¢ off wells\n$1.00 0ff drafts\n50% off select appetizers\n$3.00 Michigan shots\n$3.00 Michigan State shots\n$12.00 domestic beer bucket\n$15.00 premium beer bucket \nAvailable from kickoff until the end of the game.
URL:https://theshedbarandgrille.com/event/michigan-vs-michigan-state-watch-party-3/
LOCATION:The Shed Bar & Grille\, 11995 S Merrill Rd\, Brant\, MI\, 48614\, United States
CATEGORIES:Drink,Food,Sports
END:VEVENT
BEGIN:VEVENT
DTSTART;TZID=UTC:20201029T190000
DTEND;TZID=UTC:20201029T203000
DTSTAMP:20260426T000143
CREATED:20200617T032541Z
LAST-MODIFIED:20200617T032541Z
UID:2953-1603998000-1604003400@theshedbarandgrille.com
SUMMARY:DJ Trivia
DESCRIPTION:  \nCome test your knowledge with DJ Trivia every Thursday night from 7:00 p.m. – 8:30 p.m. Free to participate and all ages are welcome! Prizes for first\, second and third place. \nThirsty Thursday Specials: \n• $1 Domestic Beers\n• $2 Premium Beers\n• $1 off 22 oz Frosted Mug Drafts\n• 50¢ off Wells\n• Beer Buckets:\n6 for $12 – Domestics\n6 for $15 – Premiums & Seltzers
URL:https://theshedbarandgrille.com/event/dj-trivia-35/
LOCATION:The Shed Bar & Grille\, 11995 S Merrill Rd\, Brant\, MI\, 48614\, United States
CATEGORIES:Drink,Games
END:VEVENT
BEGIN:VEVENT
DTSTART;TZID=UTC:20201024T193000
DTEND;TZID=UTC:20201024T193000
DTSTAMP:20260426T000143
CREATED:20201018T165338Z
LAST-MODIFIED:20201018T165338Z
UID:3163-1603567800-1603567800@theshedbarandgrille.com
SUMMARY:Michigan vs Minnesota Watch Party
DESCRIPTION:  \nDon’t miss a minute of Michigan Football with us this season! Come watch the game with your team while enjoying our game day specials! \nMichigan vs Minnesota\nSaturday\, October 24 at 7:30pm\nThe Shed Bar & Grille \n50¢ off wells\n$1.00 0ff drafts\n50% off select appetizers\n$3.00 Michigan shots\n$12.00 domestic beer bucket\n$15.00 premium beer bucket \nAvailable from kickoff until the end of the game.
URL:https://theshedbarandgrille.com/event/michigan-vs-minnesota-watch-party-2/
LOCATION:The Shed Bar & Grille\, 11995 S Merrill Rd\, Brant\, MI\, 48614\, United States
CATEGORIES:Drink,Food,Sports
END:VEVENT
BEGIN:VEVENT
DTSTART;TZID=UTC:20201024T120000
DTEND;TZID=UTC:20201024T120000
DTSTAMP:20260426T000143
CREATED:20201018T165821Z
LAST-MODIFIED:20201018T165821Z
UID:3167-1603540800-1603540800@theshedbarandgrille.com
SUMMARY:Michigan State vs Rutgers Watch Party
DESCRIPTION:  \nDon’t miss a minute of Michigan State Football with us this season! Come watch the game with your team while enjoying our game day specials! \nMichigan State vs Rutgers\nSaturday\, October 24 at 12:00pm\nThe Shed Bar & Grille \n50¢ off wells\n$1.00 0ff drafts\n50% off select appetizers\n$3.00 Michigan State shots\n$12.00 domestic beer bucket\n$15.00 premium beer bucket \nAvailable from kickoff until the end of the game.
URL:https://theshedbarandgrille.com/event/michigan-state-vs-rutgers-watch-party-2/
LOCATION:The Shed Bar & Grille\, 11995 S Merrill Rd\, Brant\, MI\, 48614\, United States
CATEGORIES:Drink,Food,Sports
END:VEVENT
BEGIN:VEVENT
DTSTART;TZID=UTC:20201022T190000
DTEND;TZID=UTC:20201022T203000
DTSTAMP:20260426T000143
CREATED:20200617T032421Z
LAST-MODIFIED:20200617T032421Z
UID:2951-1603393200-1603398600@theshedbarandgrille.com
SUMMARY:DJ Trivia
DESCRIPTION:  \nCome test your knowledge with DJ Trivia every Thursday night from 7:00 p.m. – 8:30 p.m. Free to participate and all ages are welcome! Prizes for first\, second and third place. \nThirsty Thursday Specials: \n• $1 Domestic Beers\n• $2 Premium Beers\n• $1 off 22 oz Frosted Mug Drafts\n• 50¢ off Wells\n• Beer Buckets:\n6 for $12 – Domestics\n6 for $15 – Premiums & Seltzers
URL:https://theshedbarandgrille.com/event/dj-trivia-34/
LOCATION:The Shed Bar & Grille\, 11995 S Merrill Rd\, Brant\, MI\, 48614\, United States
CATEGORIES:Drink,Games
END:VEVENT
BEGIN:VEVENT
DTSTART;TZID=UTC:20201015T190000
DTEND;TZID=UTC:20201015T203000
DTSTAMP:20260426T000143
CREATED:20200617T032304Z
LAST-MODIFIED:20200617T032304Z
UID:2949-1602788400-1602793800@theshedbarandgrille.com
SUMMARY:DJ Trivia
DESCRIPTION:  \nCome test your knowledge with DJ Trivia every Thursday night from 7:00 p.m. – 8:30 p.m. Free to participate and all ages are welcome! Prizes for first\, second and third place. \nThirsty Thursday Specials: \n• $1 Domestic Beers\n• $2 Premium Beers\n• $1 off 22 oz Frosted Mug Drafts\n• 50¢ off Wells\n• Beer Buckets:\n6 for $12 – Domestics\n6 for $15 – Premiums & Seltzers
URL:https://theshedbarandgrille.com/event/dj-trivia-33/
LOCATION:The Shed Bar & Grille\, 11995 S Merrill Rd\, Brant\, MI\, 48614\, United States
CATEGORIES:Drink,Games
END:VEVENT
BEGIN:VEVENT
DTSTART;TZID=UTC:20201010T110000
DTEND;TZID=UTC:20201010T190000
DTSTAMP:20260426T000143
CREATED:20200922T194242Z
LAST-MODIFIED:20201002T182536Z
UID:3131-1602327600-1602356400@theshedbarandgrille.com
SUMMARY:Fall Color Run
DESCRIPTION:  \n\nFall Color Run\n\n\nThe Shed Bar & Grille\n\n\nSaturday\, October 10 at 11:00am\n\n\n \n\n\nParticipating Bars:\n\n\n• Begin at The Shed Bar & Grille\n\n\n• Happy Hour Bar\n\n\n• Main Bar And Grill\n• Hoovers Corners\n\n\n• The Brant Bar\n\n\n• The Evergreen Tavern\n\n\n• End at The Shed Bar & Grille\n\n\n \n\n\nMaps will be provided.
URL:https://theshedbarandgrille.com/event/fall-color-run/
LOCATION:The Shed Bar & Grille\, 11995 S Merrill Rd\, Brant\, MI\, 48614\, United States
CATEGORIES:Drink
END:VEVENT
BEGIN:VEVENT
DTSTART;TZID=UTC:20201008T190000
DTEND;TZID=UTC:20201008T203000
DTSTAMP:20260426T000143
CREATED:20200617T032007Z
LAST-MODIFIED:20200617T032007Z
UID:2947-1602183600-1602189000@theshedbarandgrille.com
SUMMARY:DJ Trivia
DESCRIPTION:  \nCome test your knowledge with DJ Trivia every Thursday night from 7:00 p.m. – 8:30 p.m. Free to participate and all ages are welcome! Prizes for first\, second and third place. \nThirsty Thursday Specials: \n• $1 Domestic Beers\n• $2 Premium Beers\n• $1 off 22 oz Frosted Mug Drafts\n• 50¢ off Wells\n• Beer Buckets:\n6 for $12 – Domestics\n6 for $15 – Premiums & Seltzers
URL:https://theshedbarandgrille.com/event/dj-trivia-32/
LOCATION:The Shed Bar & Grille\, 11995 S Merrill Rd\, Brant\, MI\, 48614\, United States
CATEGORIES:Drink,Games
END:VEVENT
BEGIN:VEVENT
DTSTART;TZID=UTC:20201001T190000
DTEND;TZID=UTC:20201001T203000
DTSTAMP:20260426T000143
CREATED:20200617T031911Z
LAST-MODIFIED:20200617T031911Z
UID:2945-1601578800-1601584200@theshedbarandgrille.com
SUMMARY:DJ Trivia
DESCRIPTION:  \nCome test your knowledge with DJ Trivia every Thursday night from 7:00 p.m. – 8:30 p.m. Free to participate and all ages are welcome! Prizes for first\, second and third place. \nThirsty Thursday Specials: \n• $1 Domestic Beers\n• $2 Premium Beers\n• $1 off 22 oz Frosted Mug Drafts\n• 50¢ off Wells\n• Beer Buckets:\n6 for $12 – Domestics\n6 for $15 – Premiums & Seltzers
URL:https://theshedbarandgrille.com/event/dj-trivia-31/
LOCATION:The Shed Bar & Grille\, 11995 S Merrill Rd\, Brant\, MI\, 48614\, United States
CATEGORIES:Drink,Games
END:VEVENT
BEGIN:VEVENT
DTSTART;TZID=UTC:20200924T190000
DTEND;TZID=UTC:20200924T203000
DTSTAMP:20260426T000143
CREATED:20200617T031819Z
LAST-MODIFIED:20200617T031819Z
UID:2943-1600974000-1600979400@theshedbarandgrille.com
SUMMARY:DJ Trivia
DESCRIPTION:  \nCome test your knowledge with DJ Trivia every Thursday night from 7:00 p.m. – 8:30 p.m. Free to participate and all ages are welcome! Prizes for first\, second and third place. \nThirsty Thursday Specials: \n• $1 Domestic Beers\n• $2 Premium Beers\n• $1 off 22 oz Frosted Mug Drafts\n• 50¢ off Wells\n• Beer Buckets:\n6 for $12 – Domestics\n6 for $15 – Premiums & Seltzers
URL:https://theshedbarandgrille.com/event/dj-trivia-30/
LOCATION:The Shed Bar & Grille\, 11995 S Merrill Rd\, Brant\, MI\, 48614\, United States
CATEGORIES:Drink,Games
END:VEVENT
BEGIN:VEVENT
DTSTART;TZID=UTC:20200917T190000
DTEND;TZID=UTC:20200917T203000
DTSTAMP:20260426T000143
CREATED:20200617T031728Z
LAST-MODIFIED:20200617T031728Z
UID:2941-1600369200-1600374600@theshedbarandgrille.com
SUMMARY:DJ Trivia
DESCRIPTION:  \nCome test your knowledge with DJ Trivia every Thursday night from 7:00 p.m. – 8:30 p.m. Free to participate and all ages are welcome! Prizes for first\, second and third place. \nThirsty Thursday Specials: \n• $1 Domestic Beers\n• $2 Premium Beers\n• $1 off 22 oz Frosted Mug Drafts\n• 50¢ off Wells\n• Beer Buckets:\n6 for $12 – Domestics\n6 for $15 – Premiums & Seltzers
URL:https://theshedbarandgrille.com/event/dj-trivia-29/
LOCATION:The Shed Bar & Grille\, 11995 S Merrill Rd\, Brant\, MI\, 48614\, United States
CATEGORIES:Drink,Games
END:VEVENT
BEGIN:VEVENT
DTSTART;TZID=UTC:20200910T190000
DTEND;TZID=UTC:20200910T203000
DTSTAMP:20260426T000143
CREATED:20200617T031633Z
LAST-MODIFIED:20200617T031633Z
UID:2939-1599764400-1599769800@theshedbarandgrille.com
SUMMARY:DJ Trivia
DESCRIPTION:  \nCome test your knowledge with DJ Trivia every Thursday night from 7:00 p.m. – 8:30 p.m. Free to participate and all ages are welcome! Prizes for first\, second and third place. \nThirsty Thursday Specials: \n• $1 Domestic Beers\n• $2 Premium Beers\n• $1 off 22 oz Frosted Mug Drafts\n• 50¢ off Wells\n• Beer Buckets:\n6 for $12 – Domestics\n6 for $15 – Premiums & Seltzers
URL:https://theshedbarandgrille.com/event/dj-trivia-28/
LOCATION:The Shed Bar & Grille\, 11995 S Merrill Rd\, Brant\, MI\, 48614\, United States
CATEGORIES:Drink,Games
END:VEVENT
BEGIN:VEVENT
DTSTART;TZID=UTC:20200903T190000
DTEND;TZID=UTC:20200903T203000
DTSTAMP:20260426T000143
CREATED:20200617T031518Z
LAST-MODIFIED:20200617T031518Z
UID:2937-1599159600-1599165000@theshedbarandgrille.com
SUMMARY:DJ Trivia
DESCRIPTION:  \nCome test your knowledge with DJ Trivia every Thursday night from 7:00 p.m. – 8:30 p.m. Free to participate and all ages are welcome! Prizes for first\, second and third place. \nThirsty Thursday Specials: \n• $1 Domestic Beers\n• $2 Premium Beers\n• $1 off 22 oz Frosted Mug Drafts\n• 50¢ off Wells\n• Beer Buckets:\n6 for $12 – Domestics\n6 for $15 – Premiums & Seltzers
URL:https://theshedbarandgrille.com/event/dj-trivia-27/
LOCATION:The Shed Bar & Grille\, 11995 S Merrill Rd\, Brant\, MI\, 48614\, United States
CATEGORIES:Drink,Games
END:VEVENT
BEGIN:VEVENT
DTSTART;TZID=UTC:20200827T190000
DTEND;TZID=UTC:20200827T203000
DTSTAMP:20260426T000143
CREATED:20200617T031311Z
LAST-MODIFIED:20200617T031311Z
UID:2935-1598554800-1598560200@theshedbarandgrille.com
SUMMARY:DJ Trivia
DESCRIPTION:  \nCome test your knowledge with DJ Trivia every Thursday night from 7:00 p.m. – 8:30 p.m. Free to participate and all ages are welcome! Prizes for first\, second and third place. \nThirsty Thursday Specials: \n• $1 Domestic Beers\n• $2 Premium Beers\n• $1 off 22 oz Frosted Mug Drafts\n• 50¢ off Wells\n• Beer Buckets:\n6 for $12 – Domestics\n6 for $15 – Premiums & Seltzers
URL:https://theshedbarandgrille.com/event/dj-trivia-26/
LOCATION:The Shed Bar & Grille\, 11995 S Merrill Rd\, Brant\, MI\, 48614\, United States
CATEGORIES:Drink,Games
END:VEVENT
BEGIN:VEVENT
DTSTART;TZID=UTC:20200820T190000
DTEND;TZID=UTC:20200820T203000
DTSTAMP:20260426T000143
CREATED:20200617T031209Z
LAST-MODIFIED:20200617T031209Z
UID:2933-1597950000-1597955400@theshedbarandgrille.com
SUMMARY:DJ Trivia
DESCRIPTION:  \nCome test your knowledge with DJ Trivia every Thursday night from 7:00 p.m. – 8:30 p.m. Free to participate and all ages are welcome! Prizes for first\, second and third place. \nThirsty Thursday Specials: \n• $1 Domestic Beers\n• $2 Premium Beers\n• $1 off 22 oz Frosted Mug Drafts\n• 50¢ off Wells\n• Beer Buckets:\n6 for $12 – Domestics\n6 for $15 – Premiums & Seltzers
URL:https://theshedbarandgrille.com/event/dj-trivia-25/
LOCATION:The Shed Bar & Grille\, 11995 S Merrill Rd\, Brant\, MI\, 48614\, United States
CATEGORIES:Drink,Games
END:VEVENT
BEGIN:VEVENT
DTSTART;TZID=UTC:20200815T110000
DTEND;TZID=UTC:20200815T190000
DTSTAMP:20260426T000143
CREATED:20200623T191858Z
LAST-MODIFIED:20200703T020709Z
UID:2980-1597489200-1597518000@theshedbarandgrille.com
SUMMARY:Side By Side Fun Run
DESCRIPTION:  \n\n\nSide By Side Fun Run\n\n\nThe Shed Bar & Grille\n\n\nSaturday\, August 15 at 11:00am\n\n\n \n\n\nParticipating Bars:\n\n\nBegin at The Shed Bar & Grille\n\n\nHappy Hour Bar\n\n\nMain Bar And Grill\n\n\nThe Brant Bar\n\n\nThe Evergreen Tavern\n\n\nEnd at The Shed Bar & Grille\n\n\n \n\n\nMaps will be provided.
URL:https://theshedbarandgrille.com/event/side-by-side-fun-run/
LOCATION:The Shed Bar & Grille\, 11995 S Merrill Rd\, Brant\, MI\, 48614\, United States
CATEGORIES:Drink,Sports
END:VEVENT
BEGIN:VEVENT
DTSTART;TZID=UTC:20200813T190000
DTEND;TZID=UTC:20200813T203000
DTSTAMP:20260426T000143
CREATED:20200617T031120Z
LAST-MODIFIED:20200617T031405Z
UID:2931-1597345200-1597350600@theshedbarandgrille.com
SUMMARY:DJ Trivia
DESCRIPTION:  \nCome test your knowledge with DJ Trivia every Thursday night from 7:00 p.m. – 8:30 p.m. Free to participate and all ages are welcome! Prizes for first\, second and third place. \nThirsty Thursday Specials: \n• $1 Domestic Beers\n• $2 Premium Beers\n• $1 off 22 oz Frosted Mug Drafts\n• 50¢ off Wells\n• Beer Buckets:\n6 for $12 – Domestics\n6 for $15 – Premiums & Seltzers
URL:https://theshedbarandgrille.com/event/dj-trivia-24/
LOCATION:The Shed Bar & Grille\, 11995 S Merrill Rd\, Brant\, MI\, 48614\, United States
CATEGORIES:Drink,Games
END:VEVENT
BEGIN:VEVENT
DTSTART;TZID=UTC:20200806T190000
DTEND;TZID=UTC:20200806T203000
DTSTAMP:20260426T000143
CREATED:20200617T031030Z
LAST-MODIFIED:20200617T031030Z
UID:2929-1596740400-1596745800@theshedbarandgrille.com
SUMMARY:DJ Trivia
DESCRIPTION:  \nCome test your knowledge with DJ Trivia every Thursday night from 7:00 p.m. – 8:30 p.m. Free to participate and all ages are welcome! Prizes for first\, second and third place. \nThirsty Thursday Specials: \n• $1 Domestic Beers\n• $2 Premium Beers\n• $1 off 22 oz Frosted Mug Drafts\n• 50¢ off Wells\n• Beer Buckets:\n6 for $12 – Domestics\n6 for $15 – Premiums & Seltzers
URL:https://theshedbarandgrille.com/event/dj-trivia-23/
LOCATION:The Shed Bar & Grille\, 11995 S Merrill Rd\, Brant\, MI\, 48614\, United States
CATEGORIES:Drink,Games
END:VEVENT
BEGIN:VEVENT
DTSTART;TZID=UTC:20200730T190000
DTEND;TZID=UTC:20200730T203000
DTSTAMP:20260426T000143
CREATED:20200617T030817Z
LAST-MODIFIED:20200617T030817Z
UID:2927-1596135600-1596141000@theshedbarandgrille.com
SUMMARY:DJ Trivia
DESCRIPTION:  \nCome test your knowledge with DJ Trivia every Thursday night from 7:00 p.m. – 8:30 p.m. Free to participate and all ages are welcome! Prizes for first\, second and third place. \nThirsty Thursday Specials: \n• $1 Domestic Beers\n• $2 Premium Beers\n• $1 off 22 oz Frosted Mug Drafts\n• 50¢ off Wells\n• Beer Buckets:\n6 for $12 – Domestics\n6 for $15 – Premiums & Seltzers
URL:https://theshedbarandgrille.com/event/dj-trivia-22/
LOCATION:The Shed Bar & Grille\, 11995 S Merrill Rd\, Brant\, MI\, 48614\, United States
CATEGORIES:Drink,Games
END:VEVENT
BEGIN:VEVENT
DTSTART;TZID=UTC:20200723T190000
DTEND;TZID=UTC:20200723T203000
DTSTAMP:20260426T000143
CREATED:20200617T030708Z
LAST-MODIFIED:20200617T030708Z
UID:2925-1595530800-1595536200@theshedbarandgrille.com
SUMMARY:DJ Trivia
DESCRIPTION:  \nCome test your knowledge with DJ Trivia every Thursday night from 7:00 p.m. – 8:30 p.m. Free to participate and all ages are welcome! Prizes for first\, second and third place. \nThirsty Thursday Specials: \n• $1 Domestic Beers\n• $2 Premium Beers\n• $1 off 22 oz Frosted Mug Drafts\n• 50¢ off Wells\n• Beer Buckets:\n6 for $12 – Domestics\n6 for $15 – Premiums & Seltzers
URL:https://theshedbarandgrille.com/event/dj-trivia-21/
LOCATION:The Shed Bar & Grille\, 11995 S Merrill Rd\, Brant\, MI\, 48614\, United States
CATEGORIES:Drink,Games
END:VEVENT
BEGIN:VEVENT
DTSTART;TZID=UTC:20200716T190000
DTEND;TZID=UTC:20200716T203000
DTSTAMP:20260426T000143
CREATED:20200617T030606Z
LAST-MODIFIED:20200617T030606Z
UID:2923-1594926000-1594931400@theshedbarandgrille.com
SUMMARY:DJ Trivia
DESCRIPTION:  \nCome test your knowledge with DJ Trivia every Thursday night from 7:00 p.m. – 8:30 p.m. Free to participate and all ages are welcome! Prizes for first\, second and third place. \nThirsty Thursday Specials: \n• $1 Domestic Beers\n• $2 Premium Beers\n• $1 off 22 oz Frosted Mug Drafts\n• 50¢ off Wells\n• Beer Buckets:\n6 for $12 – Domestics\n6 for $15 – Premiums & Seltzers
URL:https://theshedbarandgrille.com/event/dj-trivia-20/
LOCATION:The Shed Bar & Grille\, 11995 S Merrill Rd\, Brant\, MI\, 48614\, United States
CATEGORIES:Drink,Games
END:VEVENT
BEGIN:VEVENT
DTSTART;TZID=UTC:20200709T190000
DTEND;TZID=UTC:20200709T203000
DTSTAMP:20260426T000143
CREATED:20200617T030457Z
LAST-MODIFIED:20200617T030457Z
UID:2921-1594321200-1594326600@theshedbarandgrille.com
SUMMARY:DJ Trivia
DESCRIPTION:  \nCome test your knowledge with DJ Trivia every Thursday night from 7:00 p.m. – 8:30 p.m. Free to participate and all ages are welcome! Prizes for first\, second and third place. \nThirsty Thursday Specials: \n• $1 Domestic Beers\n• $2 Premium Beers\n• $1 off 22 oz Frosted Mug Drafts\n• 50¢ off Wells\n• Beer Buckets:\n6 for $12 – Domestics\n6 for $15 – Premiums & Seltzers
URL:https://theshedbarandgrille.com/event/dj-trivia-19/
LOCATION:The Shed Bar & Grille\, 11995 S Merrill Rd\, Brant\, MI\, 48614\, United States
CATEGORIES:Drink,Games
END:VEVENT
BEGIN:VEVENT
DTSTART;TZID=UTC:20200702T190000
DTEND;TZID=UTC:20200702T203000
DTSTAMP:20260426T000143
CREATED:20200617T030058Z
LAST-MODIFIED:20200617T030058Z
UID:2919-1593716400-1593721800@theshedbarandgrille.com
SUMMARY:DJ Trivia
DESCRIPTION:  \nCome test your knowledge with DJ Trivia every Thursday night from 7:00 p.m. – 8:30 p.m. Free to participate and all ages are welcome! Prizes for first\, second and third place. \nThirsty Thursday Specials: \n• $1 Domestic Beers\n• $2 Premium Beers\n• $1 off 22 oz Frosted Mug Drafts\n• 50¢ off Wells\n• Beer Buckets:\n6 for $12 – Domestics\n6 for $15 – Premiums & Seltzers
URL:https://theshedbarandgrille.com/event/dj-trivia-18/
LOCATION:The Shed Bar & Grille\, 11995 S Merrill Rd\, Brant\, MI\, 48614\, United States
CATEGORIES:Drink,Games
END:VEVENT
BEGIN:VEVENT
DTSTART;TZID=UTC:20200625T190000
DTEND;TZID=UTC:20200625T203000
DTSTAMP:20260426T000143
CREATED:20200617T025923Z
LAST-MODIFIED:20200617T025923Z
UID:2915-1593111600-1593117000@theshedbarandgrille.com
SUMMARY:DJ Trivia
DESCRIPTION:  \nCome test your knowledge with DJ Trivia every Thursday night from 7:00 p.m. – 8:30 p.m. Free to participate and all ages are welcome! Prizes for first\, second and third place. \nThirsty Thursday Specials: \n• $1 Domestic Beers\n• $2 Premium Beers\n• $1 off 22 oz Frosted Mug Drafts\n• 50¢ off Wells\n• Beer Buckets:\n6 for $12 – Domestics\n6 for $15 – Premiums & Seltzers
URL:https://theshedbarandgrille.com/event/dj-trivia-17/
LOCATION:The Shed Bar & Grille\, 11995 S Merrill Rd\, Brant\, MI\, 48614\, United States
CATEGORIES:Drink,Games
END:VEVENT
BEGIN:VEVENT
DTSTART;TZID=UTC:20200224T180000
DTEND;TZID=UTC:20200224T210000
DTSTAMP:20260426T000143
CREATED:20191211T004048Z
LAST-MODIFIED:20191211T004048Z
UID:915-1582567200-1582578000@theshedbarandgrille.com
SUMMARY:Mixed Nutz Band
DESCRIPTION:  \nJoin us every Monday night for live entertainment with Mixed Nuts and our Build-A Burger Monday special\, plus $1 off 22oz frosted mug drafts! Mixed Nuts will be performing from 6:00 p.m. – 9:00 p.m. Get there early to enjoy our Happy Hour specials from 3:00 p.m. – 6:00 p.m. \n  \n*Original Music
URL:https://theshedbarandgrille.com/event/mixed-nutz-band-11/
LOCATION:The Shed Bar & Grille\, 11995 S Merrill Rd\, Brant\, MI\, 48614\, United States
CATEGORIES:Band,Drink,Food
END:VEVENT
BEGIN:VEVENT
DTSTART;TZID=UTC:20200217T180000
DTEND;TZID=UTC:20200217T210000
DTSTAMP:20260426T000143
CREATED:20191211T003949Z
LAST-MODIFIED:20191211T003949Z
UID:913-1581962400-1581973200@theshedbarandgrille.com
SUMMARY:Mixed Nutz Band
DESCRIPTION:  \nJoin us every Monday night for live entertainment with Mixed Nuts and our Build-A Burger Monday special\, plus $1 off 22oz frosted mug drafts! Mixed Nuts will be performing from 6:00 p.m. – 9:00 p.m. Get there early to enjoy our Happy Hour specials from 3:00 p.m. – 6:00 p.m. \n  \n*Original Music
URL:https://theshedbarandgrille.com/event/mixed-nutz-band-10/
LOCATION:The Shed Bar & Grille\, 11995 S Merrill Rd\, Brant\, MI\, 48614\, United States
CATEGORIES:Band,Drink,Food
END:VEVENT
BEGIN:VEVENT
DTSTART;TZID=UTC:20200210T180000
DTEND;TZID=UTC:20200210T210000
DTSTAMP:20260426T000143
CREATED:20191211T003831Z
LAST-MODIFIED:20191211T003831Z
UID:911-1581357600-1581368400@theshedbarandgrille.com
SUMMARY:Mixed Nutz Band
DESCRIPTION:  \nJoin us every Monday night for live entertainment with Mixed Nuts and our Build-A Burger Monday special\, plus $1 off 22oz frosted mug drafts! Mixed Nuts will be performing from 6:00 p.m. – 9:00 p.m. Get there early to enjoy our Happy Hour specials from 3:00 p.m. – 6:00 p.m. \n  \n*Original Music
URL:https://theshedbarandgrille.com/event/mixed-nutz-band-9/
LOCATION:The Shed Bar & Grille\, 11995 S Merrill Rd\, Brant\, MI\, 48614\, United States
CATEGORIES:Band,Drink,Food
END:VEVENT
END:VCALENDAR