BEGIN:VCALENDAR
VERSION:2.0
PRODID:-//The Shed Bar &amp; Grille - ECPv6.15.20//NONSGML v1.0//EN
CALSCALE:GREGORIAN
METHOD:PUBLISH
X-WR-CALNAME:The Shed Bar &amp; Grille
X-ORIGINAL-URL:https://theshedbarandgrille.com
X-WR-CALDESC:Events for The Shed Bar &amp; Grille
REFRESH-INTERVAL;VALUE=DURATION:PT1H
X-Robots-Tag:noindex
X-PUBLISHED-TTL:PT1H
BEGIN:VTIMEZONE
TZID:UTC
BEGIN:STANDARD
TZOFFSETFROM:+0000
TZOFFSETTO:+0000
TZNAME:UTC
DTSTART:20200101T000000
END:STANDARD
END:VTIMEZONE
BEGIN:VEVENT
DTSTART;TZID=UTC:20211202T190000
DTEND;TZID=UTC:20211202T190000
DTSTAMP:20260425T160526
CREATED:20210701T175043Z
LAST-MODIFIED:20210701T175043Z
UID:3858-1638471600-1638471600@theshedbarandgrille.com
SUMMARY:Trivia Night
DESCRIPTION:  \nTrivia Night every Thursday at 7:00pm. Come test your knowledge! Free to participate. Prizes for first\, second and third place.\n\nThirsty Thursday Specials:\n• $1.50 Domestic Bottles\n• $2 Premium Bottles\n• $1 off Frosted Mug Drafts\n• 50¢ off Wells
URL:https://theshedbarandgrille.com/event/trivia-night-december-2-2021/
LOCATION:The Shed Bar & Grille\, 11995 S Merrill Rd\, Brant\, MI\, 48614\, United States
CATEGORIES:Drink,Games
END:VEVENT
BEGIN:VEVENT
DTSTART;TZID=UTC:20211118T190000
DTEND;TZID=UTC:20211118T190000
DTSTAMP:20260425T160526
CREATED:20210701T174941Z
LAST-MODIFIED:20210701T174941Z
UID:3856-1637262000-1637262000@theshedbarandgrille.com
SUMMARY:Trivia Night
DESCRIPTION:  \nTrivia Night every Thursday at 7:00pm. Come test your knowledge! Free to participate. Prizes for first\, second and third place.\n\nThirsty Thursday Specials:\n• $1.50 Domestic Bottles\n• $2 Premium Bottles\n• $1 off Frosted Mug Drafts\n• 50¢ off Wells
URL:https://theshedbarandgrille.com/event/trivia-night-november-18-2021/
LOCATION:The Shed Bar & Grille\, 11995 S Merrill Rd\, Brant\, MI\, 48614\, United States
CATEGORIES:Drink,Games
END:VEVENT
BEGIN:VEVENT
DTSTART;TZID=UTC:20211111T190000
DTEND;TZID=UTC:20211111T190000
DTSTAMP:20260425T160526
CREATED:20210701T174836Z
LAST-MODIFIED:20210701T174836Z
UID:3854-1636657200-1636657200@theshedbarandgrille.com
SUMMARY:Trivia Night
DESCRIPTION:  \nTrivia Night every Thursday at 7:00pm. Come test your knowledge! Free to participate. Prizes for first\, second and third place.\n\nThirsty Thursday Specials:\n• $1.50 Domestic Bottles\n• $2 Premium Bottles\n• $1 off Frosted Mug Drafts\n• 50¢ off Wells
URL:https://theshedbarandgrille.com/event/trivia-night-november-11-2021/
LOCATION:The Shed Bar & Grille\, 11995 S Merrill Rd\, Brant\, MI\, 48614\, United States
CATEGORIES:Drink,Games
END:VEVENT
BEGIN:VEVENT
DTSTART;TZID=UTC:20211104T190000
DTEND;TZID=UTC:20211104T190000
DTSTAMP:20260425T160526
CREATED:20210701T174749Z
LAST-MODIFIED:20210701T174749Z
UID:3852-1636052400-1636052400@theshedbarandgrille.com
SUMMARY:Trivia Night
DESCRIPTION:  \nTrivia Night every Thursday at 7:00pm. Come test your knowledge! Free to participate. Prizes for first\, second and third place.\n\nThirsty Thursday Specials:\n• $1.50 Domestic Bottles\n• $2 Premium Bottles\n• $1 off Frosted Mug Drafts\n• 50¢ off Wells
URL:https://theshedbarandgrille.com/event/trivia-night-november-4-2021/
LOCATION:The Shed Bar & Grille\, 11995 S Merrill Rd\, Brant\, MI\, 48614\, United States
CATEGORIES:Drink,Games
END:VEVENT
BEGIN:VEVENT
DTSTART;TZID=UTC:20211030T210000
DTEND;TZID=UTC:20211030T210000
DTSTAMP:20260425T160526
CREATED:20211012T050800Z
LAST-MODIFIED:20211012T050800Z
UID:4002-1635627600-1635627600@theshedbarandgrille.com
SUMMARY:Halloween Party
DESCRIPTION:  \nJoin us for a wicked good time! Wear your best costume out to The Shed Bar & Grille on Saturday\, October 30th to celebrate Halloween 🎃👻🦇 \n🎶 DJ Jeff of Nightlife Entertainment will be playing your favorite hits as well as some Halloween tunes from 9:00 p.m. – 1:00 a.m. \n🍽 Food + drink specials will be available 🍻 \n*Original Music\n*Must be 21+ after 9:00 p.m to enter.
URL:https://theshedbarandgrille.com/event/halloween-party-2/
LOCATION:The Shed Bar & Grille\, 11995 S Merrill Rd\, Brant\, MI\, 48614\, United States
CATEGORIES:Band,Drink,Food,Holiday,Music,Party
END:VEVENT
BEGIN:VEVENT
DTSTART;TZID=UTC:20211028T190000
DTEND;TZID=UTC:20211028T190000
DTSTAMP:20260425T160526
CREATED:20210701T174653Z
LAST-MODIFIED:20210701T174653Z
UID:3850-1635447600-1635447600@theshedbarandgrille.com
SUMMARY:Trivia Night
DESCRIPTION:  \nTrivia Night every Thursday at 7:00pm. Come test your knowledge! Free to participate. Prizes for first\, second and third place.\n\nThirsty Thursday Specials:\n• $1.50 Domestic Bottles\n• $2 Premium Bottles\n• $1 off Frosted Mug Drafts\n• 50¢ off Wells
URL:https://theshedbarandgrille.com/event/trivia-night-october-28-2021/
LOCATION:The Shed Bar & Grille\, 11995 S Merrill Rd\, Brant\, MI\, 48614\, United States
CATEGORIES:Drink,Games
END:VEVENT
BEGIN:VEVENT
DTSTART;TZID=UTC:20211021T190000
DTEND;TZID=UTC:20211021T190000
DTSTAMP:20260425T160526
CREATED:20210701T174441Z
LAST-MODIFIED:20210701T174441Z
UID:3848-1634842800-1634842800@theshedbarandgrille.com
SUMMARY:Trivia Night
DESCRIPTION:  \nTrivia Night every Thursday at 7:00pm. Come test your knowledge! Free to participate. Prizes for first\, second and third place.\n\nThirsty Thursday Specials:\n• $1.50 Domestic Bottles\n• $2 Premium Bottles\n• $1 off Frosted Mug Drafts\n• 50¢ off Wells
URL:https://theshedbarandgrille.com/event/trivia-night-october-21-2021/
LOCATION:The Shed Bar & Grille\, 11995 S Merrill Rd\, Brant\, MI\, 48614\, United States
CATEGORIES:Drink,Games
END:VEVENT
BEGIN:VEVENT
DTSTART;TZID=UTC:20211016T110000
DTEND;TZID=UTC:20211016T110000
DTSTAMP:20260425T160526
CREATED:20211005T042737Z
LAST-MODIFIED:20211005T042737Z
UID:3988-1634382000-1634382000@theshedbarandgrille.com
SUMMARY:Fall Color Run
DESCRIPTION:  \nFall Color Run\nThe Shed Bar & Grille\nSaturday\, October 16 at 11:00am\n\nParticipating Bars:\n• Begin at The Shed Bar & Grille\n• Happy Hour Bar\n• The Tipsy Cow\n• Main Bar And Grill\n• Hoovers Corners\n• The Brant Bar\n• End at The Shed Bar & Grille\n\nMaps will be provided.
URL:https://theshedbarandgrille.com/event/fall-color-run-2/
LOCATION:The Shed Bar & Grille\, 11995 S Merrill Rd\, Brant\, MI\, 48614\, United States
CATEGORIES:Drink,Food
END:VEVENT
BEGIN:VEVENT
DTSTART;TZID=UTC:20211014T190000
DTEND;TZID=UTC:20211014T190000
DTSTAMP:20260425T160526
CREATED:20210701T174340Z
LAST-MODIFIED:20210701T174340Z
UID:3846-1634238000-1634238000@theshedbarandgrille.com
SUMMARY:Trivia Night
DESCRIPTION:  \nTrivia Night every Thursday at 7:00pm. Come test your knowledge! Free to participate. Prizes for first\, second and third place.\n\nThirsty Thursday Specials:\n• $1.50 Domestic Bottles\n• $2 Premium Bottles\n• $1 off Frosted Mug Drafts\n• 50¢ off Wells
URL:https://theshedbarandgrille.com/event/trivia-night-october-14-2021/
LOCATION:The Shed Bar & Grille\, 11995 S Merrill Rd\, Brant\, MI\, 48614\, United States
CATEGORIES:Drink,Games
END:VEVENT
BEGIN:VEVENT
DTSTART;TZID=UTC:20211007T190000
DTEND;TZID=UTC:20211007T190000
DTSTAMP:20260425T160526
CREATED:20210701T174252Z
LAST-MODIFIED:20210701T174252Z
UID:3844-1633633200-1633633200@theshedbarandgrille.com
SUMMARY:Trivia Night
DESCRIPTION:  \nTrivia Night every Thursday at 7:00pm. Come test your knowledge! Free to participate. Prizes for first\, second and third place.\n\nThirsty Thursday Specials:\n• $1.50 Domestic Bottles\n• $2 Premium Bottles\n• $1 off Frosted Mug Drafts\n• 50¢ off Wells
URL:https://theshedbarandgrille.com/event/trivia-night-october-7-2021/
LOCATION:The Shed Bar & Grille\, 11995 S Merrill Rd\, Brant\, MI\, 48614\, United States
CATEGORIES:Drink,Games
END:VEVENT
BEGIN:VEVENT
DTSTART;TZID=UTC:20210930T190000
DTEND;TZID=UTC:20210930T190000
DTSTAMP:20260425T160526
CREATED:20210701T174201Z
LAST-MODIFIED:20210701T174201Z
UID:3842-1633028400-1633028400@theshedbarandgrille.com
SUMMARY:Trivia Night
DESCRIPTION:  \nTrivia Night every Thursday at 7:00pm. Come test your knowledge! Free to participate. Prizes for first\, second and third place.\n\nThirsty Thursday Specials:\n• $1.50 Domestic Bottles\n• $2 Premium Bottles\n• $1 off Frosted Mug Drafts\n• 50¢ off Wells
URL:https://theshedbarandgrille.com/event/trivia-night-september-30-2021/
LOCATION:The Shed Bar & Grille\, 11995 S Merrill Rd\, Brant\, MI\, 48614\, United States
CATEGORIES:Drink,Games
END:VEVENT
BEGIN:VEVENT
DTSTART;TZID=UTC:20210923T190000
DTEND;TZID=UTC:20210923T190000
DTSTAMP:20260425T160526
CREATED:20210701T174111Z
LAST-MODIFIED:20210701T174111Z
UID:3840-1632423600-1632423600@theshedbarandgrille.com
SUMMARY:Trivia Night
DESCRIPTION:  \nTrivia Night every Thursday at 7:00pm. Come test your knowledge! Free to participate. Prizes for first\, second and third place.\n\nThirsty Thursday Specials:\n• $1.50 Domestic Bottles\n• $2 Premium Bottles\n• $1 off Frosted Mug Drafts\n• 50¢ off Wells
URL:https://theshedbarandgrille.com/event/trivia-night-september-23-2021/
LOCATION:The Shed Bar & Grille\, 11995 S Merrill Rd\, Brant\, MI\, 48614\, United States
CATEGORIES:Drink,Games
END:VEVENT
BEGIN:VEVENT
DTSTART;TZID=UTC:20210916T190000
DTEND;TZID=UTC:20210916T190000
DTSTAMP:20260425T160526
CREATED:20210701T174009Z
LAST-MODIFIED:20210701T174009Z
UID:3838-1631818800-1631818800@theshedbarandgrille.com
SUMMARY:Trivia Night
DESCRIPTION:  \nTrivia Night every Thursday at 7:00pm. Come test your knowledge! Free to participate. Prizes for first\, second and third place.\n\nThirsty Thursday Specials:\n• $1.50 Domestic Bottles\n• $2 Premium Bottles\n• $1 off Frosted Mug Drafts\n• 50¢ off Wells
URL:https://theshedbarandgrille.com/event/trivia-night-september-16-2021/
LOCATION:The Shed Bar & Grille\, 11995 S Merrill Rd\, Brant\, MI\, 48614\, United States
CATEGORIES:Drink,Games
END:VEVENT
BEGIN:VEVENT
DTSTART;TZID=UTC:20210909T190000
DTEND;TZID=UTC:20210909T190000
DTSTAMP:20260425T160526
CREATED:20210701T173910Z
LAST-MODIFIED:20210701T173910Z
UID:3836-1631214000-1631214000@theshedbarandgrille.com
SUMMARY:Trivia Night
DESCRIPTION:  \nTrivia Night every Thursday at 7:00pm. Come test your knowledge! Free to participate. Prizes for first\, second and third place.\n\nThirsty Thursday Specials:\n• $1.50 Domestic Bottles\n• $2 Premium Bottles\n• $1 off Frosted Mug Drafts\n• 50¢ off Wells
URL:https://theshedbarandgrille.com/event/trivia-night-september-9-2021/
LOCATION:The Shed Bar & Grille\, 11995 S Merrill Rd\, Brant\, MI\, 48614\, United States
CATEGORIES:Drink,Games
END:VEVENT
BEGIN:VEVENT
DTSTART;TZID=UTC:20210902T190000
DTEND;TZID=UTC:20210902T190000
DTSTAMP:20260425T160526
CREATED:20210701T173756Z
LAST-MODIFIED:20210701T173819Z
UID:3834-1630609200-1630609200@theshedbarandgrille.com
SUMMARY:Trivia Night
DESCRIPTION:  \nTrivia Night every Thursday at 7:00pm. Come test your knowledge! Free to participate. Prizes for first\, second and third place.\n\nThirsty Thursday Specials:\n• $1.50 Domestic Bottles\n• $2 Premium Bottles\n• $1 off Frosted Mug Drafts\n• 50¢ off Wells
URL:https://theshedbarandgrille.com/event/trivia-night-september-2-2021/
LOCATION:The Shed Bar & Grille\, 11995 S Merrill Rd\, Brant\, MI\, 48614\, United States
CATEGORIES:Drink,Games
END:VEVENT
BEGIN:VEVENT
DTSTART;TZID=UTC:20210826T190000
DTEND;TZID=UTC:20210826T190000
DTSTAMP:20260425T160526
CREATED:20210701T173702Z
LAST-MODIFIED:20210701T173702Z
UID:3832-1630004400-1630004400@theshedbarandgrille.com
SUMMARY:Trivia Night
DESCRIPTION:  \nTrivia Night every Thursday at 7:00pm. Come test your knowledge! Free to participate. Prizes for first\, second and third place.\n\nThirsty Thursday Specials:\n• $1.50 Domestic Bottles\n• $2 Premium Bottles\n• $1 off Frosted Mug Drafts\n• 50¢ off Wells
URL:https://theshedbarandgrille.com/event/trivia-night-august-26-2021/
LOCATION:The Shed Bar & Grille\, 11995 S Merrill Rd\, Brant\, MI\, 48614\, United States
CATEGORIES:Drink,Games
END:VEVENT
BEGIN:VEVENT
DTSTART;TZID=UTC:20210819T190000
DTEND;TZID=UTC:20210819T190000
DTSTAMP:20260425T160526
CREATED:20210701T173554Z
LAST-MODIFIED:20210701T173554Z
UID:3830-1629399600-1629399600@theshedbarandgrille.com
SUMMARY:Trivia Night
DESCRIPTION:  \nTrivia Night every Thursday at 7:00pm. Come test your knowledge! Free to participate. Prizes for first\, second and third place.\n\nThirsty Thursday Specials:\n• $1.50 Domestic Bottles\n• $2 Premium Bottles\n• $1 off Frosted Mug Drafts\n• 50¢ off Wells
URL:https://theshedbarandgrille.com/event/trivia-night-august-19-2021/
LOCATION:The Shed Bar & Grille\, 11995 S Merrill Rd\, Brant\, MI\, 48614\, United States
CATEGORIES:Drink,Games
END:VEVENT
BEGIN:VEVENT
DTSTART;TZID=UTC:20210812T190000
DTEND;TZID=UTC:20210812T190000
DTSTAMP:20260425T160526
CREATED:20210701T173449Z
LAST-MODIFIED:20210701T173449Z
UID:3828-1628794800-1628794800@theshedbarandgrille.com
SUMMARY:Trivia Night
DESCRIPTION:  \nTrivia Night every Thursday at 7:00pm. Come test your knowledge! Free to participate. Prizes for first\, second and third place.\n\nThirsty Thursday Specials:\n• $1.50 Domestic Bottles\n• $2 Premium Bottles\n• $1 off Frosted Mug Drafts\n• 50¢ off Wells
URL:https://theshedbarandgrille.com/event/trivia-night-august-12-2021/
LOCATION:The Shed Bar & Grille\, 11995 S Merrill Rd\, Brant\, MI\, 48614\, United States
CATEGORIES:Drink,Games
END:VEVENT
BEGIN:VEVENT
DTSTART;TZID=UTC:20210805T190000
DTEND;TZID=UTC:20210805T190000
DTSTAMP:20260425T160526
CREATED:20210701T173343Z
LAST-MODIFIED:20210701T173343Z
UID:3826-1628190000-1628190000@theshedbarandgrille.com
SUMMARY:Trivia Night
DESCRIPTION:  \nTrivia Night every Thursday at 7:00pm. Come test your knowledge! Free to participate. Prizes for first\, second and third place.\n\nThirsty Thursday Specials:\n• $1.50 Domestic Bottles\n• $2 Premium Bottles\n• $1 off Frosted Mug Drafts\n• 50¢ off Wells
URL:https://theshedbarandgrille.com/event/trivia-night-august-5-2021/
LOCATION:The Shed Bar & Grille\, 11995 S Merrill Rd\, Brant\, MI\, 48614\, United States
CATEGORIES:Drink,Games
END:VEVENT
BEGIN:VEVENT
DTSTART;TZID=UTC:20210730T110000
DTEND;TZID=UTC:20210801T020000
DTSTAMP:20260425T160526
CREATED:20210702T011031Z
LAST-MODIFIED:20210702T011031Z
UID:3867-1627642800-1627783200@theshedbarandgrille.com
SUMMARY:41st Annual Marion Springs Country Happenings Festival
DESCRIPTION:  \n \nCelebrate the 41st Annual Marion Springs Country Happening Festival with us! Here’s whats going on at The Shed Bar & Grille during the festival weekend:\n\nFRIDAY\, JULY 30:\n• Happy Hour from 3:00pm – 6:00pm. Includes 50% off select appetizers\, $1.00 domestic bottles\, $2.00 premium bottles\, $1.00 off frosted mug drafts and 50¢ off wells.\n• Patio Music\n• Limited menu available. Includes Fish Fry Friday specials.\nDINE IN ONLY: $13 all you can eat cod dinner with your choice of side\, choice of potato and a dinner roll.\nTAKEOUT: $12 4 piece cod basket with your choice of side\, your choice of potato and a dinner roll. Add more cod for $1.00 a piece.\n\nSATURDAY\, JULY 25:\n• Limited menu available.\n• Billy Gunther playing 8:00pm – 12:00am on The Shed Bar & Grille’s outdoor patio weather permitting.\n\nFRIDAY\, JULY 30 – SUNDAY\, AUGUST 1:\nSoftball Tournament. 16 Teams Maximum. $175 entry fee. $75 deposit due by July 18th. ASA rules. Class C or lower. 15 player limit roster. Double elimination with a consolation round\, guaranteeing you 3 games. All proceeds will go towards the Marion Springs Fire Department Fire Fund. Call Randy Kroll at 989-323-9136 for more information.\n 
URL:https://theshedbarandgrille.com/event/41st-annual-marion-springs-country-happenings-festival/
LOCATION:The Shed Bar & Grille\, 11995 S Merrill Rd\, Brant\, MI\, 48614\, United States
CATEGORIES:Band,Drink,Festival,Food
END:VEVENT
BEGIN:VEVENT
DTSTART;TZID=UTC:20210729T190000
DTEND;TZID=UTC:20210729T190000
DTSTAMP:20260425T160526
CREATED:20210701T173216Z
LAST-MODIFIED:20210701T173216Z
UID:3824-1627585200-1627585200@theshedbarandgrille.com
SUMMARY:Trivia Night
DESCRIPTION:  \nTrivia Night every Thursday at 7:00pm. Come test your knowledge! Free to participate. Prizes for first\, second and third place.\n\nThirsty Thursday Specials:\n• $1.50 Domestic Bottles\n• $2 Premium Bottles\n• $1 off Frosted Mug Drafts\n• 50¢ off Wells
URL:https://theshedbarandgrille.com/event/trivia-night-july-29-2021/
LOCATION:The Shed Bar & Grille\, 11995 S Merrill Rd\, Brant\, MI\, 48614\, United States
CATEGORIES:Drink,Games
END:VEVENT
BEGIN:VEVENT
DTSTART;TZID=UTC:20210722T190000
DTEND;TZID=UTC:20210722T190000
DTSTAMP:20260425T160526
CREATED:20210701T173105Z
LAST-MODIFIED:20210701T173105Z
UID:3822-1626980400-1626980400@theshedbarandgrille.com
SUMMARY:Trivia Night
DESCRIPTION:  \nTrivia Night every Thursday at 7:00pm. Come test your knowledge! Free to participate. Prizes for first\, second and third place.\n\nThirsty Thursday Specials:\n• $1.50 Domestic Bottles\n• $2 Premium Bottles\n• $1 off Frosted Mug Drafts\n• 50¢ off Wells
URL:https://theshedbarandgrille.com/event/trivia-night-july-22-2021/
LOCATION:The Shed Bar & Grille\, 11995 S Merrill Rd\, Brant\, MI\, 48614\, United States
CATEGORIES:Drink,Games
END:VEVENT
BEGIN:VEVENT
DTSTART;TZID=UTC:20210715T190000
DTEND;TZID=UTC:20210715T190000
DTSTAMP:20260425T160526
CREATED:20210701T173011Z
LAST-MODIFIED:20210701T173011Z
UID:3820-1626375600-1626375600@theshedbarandgrille.com
SUMMARY:Trivia Night
DESCRIPTION:  \nTrivia Night every Thursday at 7:00pm. Come test your knowledge! Free to participate. Prizes for first\, second and third place.\n\nThirsty Thursday Specials:\n• $1.50 Domestic Bottles\n• $2 Premium Bottles\n• $1 off Frosted Mug Drafts\n• 50¢ off Wells
URL:https://theshedbarandgrille.com/event/trivia-night-july-15-2021/
LOCATION:The Shed Bar & Grille\, 11995 S Merrill Rd\, Brant\, MI\, 48614\, United States
CATEGORIES:Drink,Games
END:VEVENT
BEGIN:VEVENT
DTSTART;TZID=UTC:20210701T190000
DTEND;TZID=UTC:20210701T190000
DTSTAMP:20260425T160526
CREATED:20210701T172850Z
LAST-MODIFIED:20210701T172850Z
UID:3818-1625166000-1625166000@theshedbarandgrille.com
SUMMARY:Trivia Night
DESCRIPTION:  \nTrivia Night every Thursday at 7:00pm. Come test your knowledge! Free to participate. Prizes for first\, second and third place.\n\nThirsty Thursday Specials:\n• $1.50 Domestic Bottles\n• $2 Premium Bottles\n• $1 off Frosted Mug Drafts\n• 50¢ off Wells
URL:https://theshedbarandgrille.com/event/trivia-night-july-1-2021/
LOCATION:The Shed Bar & Grille\, 11995 S Merrill Rd\, Brant\, MI\, 48614\, United States
CATEGORIES:Drink,Games
END:VEVENT
BEGIN:VEVENT
DTSTART;TZID=UTC:20210624T190000
DTEND;TZID=UTC:20210624T190000
DTSTAMP:20260425T160526
CREATED:20210331T190029Z
LAST-MODIFIED:20210331T190029Z
UID:3616-1624561200-1624561200@theshedbarandgrille.com
SUMMARY:Trivia Night
DESCRIPTION:  \nTrivia Night every Thursday at 7:00pm. Come test your knowledge! Free to participate. Prizes for first\, second and third place.\n\nThirsty Thursday Specials:\n• $1 Domestic Beers\n• $2 Premium Beers\n• $1 off 22 oz Frosted Mug Drafts\n• 50¢ off Wells
URL:https://theshedbarandgrille.com/event/trivia-night-13/
LOCATION:The Shed Bar & Grille\, 11995 S Merrill Rd\, Brant\, MI\, 48614\, United States
CATEGORIES:Drink,Games
END:VEVENT
BEGIN:VEVENT
DTSTART;TZID=UTC:20210617T190000
DTEND;TZID=UTC:20210617T190000
DTSTAMP:20260425T160526
CREATED:20210331T185932Z
LAST-MODIFIED:20210331T185932Z
UID:3614-1623956400-1623956400@theshedbarandgrille.com
SUMMARY:Trivia Night
DESCRIPTION:  \nTrivia Night every Thursday at 7:00pm. Come test your knowledge! Free to participate. Prizes for first\, second and third place.\n\nThirsty Thursday Specials:\n• $1 Domestic Beers\n• $2 Premium Beers\n• $1 off 22 oz Frosted Mug Drafts\n• 50¢ off Wells
URL:https://theshedbarandgrille.com/event/trivia-night-12/
LOCATION:The Shed Bar & Grille\, 11995 S Merrill Rd\, Brant\, MI\, 48614\, United States
CATEGORIES:Drink,Games
END:VEVENT
BEGIN:VEVENT
DTSTART;TZID=UTC:20210610T190000
DTEND;TZID=UTC:20210610T190000
DTSTAMP:20260425T160526
CREATED:20210331T185849Z
LAST-MODIFIED:20210331T185849Z
UID:3612-1623351600-1623351600@theshedbarandgrille.com
SUMMARY:Trivia Night
DESCRIPTION:  \nTrivia Night every Thursday at 7:00pm. Come test your knowledge! Free to participate. Prizes for first\, second and third place.\n\nThirsty Thursday Specials:\n• $1 Domestic Beers\n• $2 Premium Beers\n• $1 off 22 oz Frosted Mug Drafts\n• 50¢ off Wells
URL:https://theshedbarandgrille.com/event/trivia-night-11/
LOCATION:The Shed Bar & Grille\, 11995 S Merrill Rd\, Brant\, MI\, 48614\, United States
CATEGORIES:Drink,Games
END:VEVENT
BEGIN:VEVENT
DTSTART;TZID=UTC:20210603T190000
DTEND;TZID=UTC:20210603T190000
DTSTAMP:20260425T160526
CREATED:20210331T185806Z
LAST-MODIFIED:20210331T185806Z
UID:3610-1622746800-1622746800@theshedbarandgrille.com
SUMMARY:Trivia Night
DESCRIPTION:  \nTrivia Night every Thursday at 7:00pm. Come test your knowledge! Free to participate. Prizes for first\, second and third place.\n\nThirsty Thursday Specials:\n• $1 Domestic Beers\n• $2 Premium Beers\n• $1 off 22 oz Frosted Mug Drafts\n• 50¢ off Wells
URL:https://theshedbarandgrille.com/event/trivia-night-10/
LOCATION:The Shed Bar & Grille\, 11995 S Merrill Rd\, Brant\, MI\, 48614\, United States
CATEGORIES:Drink,Games
END:VEVENT
BEGIN:VEVENT
DTSTART;TZID=UTC:20210527T190000
DTEND;TZID=UTC:20210527T190000
DTSTAMP:20260425T160526
CREATED:20210331T185720Z
LAST-MODIFIED:20210331T185720Z
UID:3608-1622142000-1622142000@theshedbarandgrille.com
SUMMARY:Trivia Night
DESCRIPTION:  \nTrivia Night every Thursday at 7:00pm. Come test your knowledge! Free to participate. Prizes for first\, second and third place.\n\nThirsty Thursday Specials:\n• $1 Domestic Beers\n• $2 Premium Beers\n• $1 off 22 oz Frosted Mug Drafts\n• 50¢ off Wells
URL:https://theshedbarandgrille.com/event/trivia-night-9/
LOCATION:The Shed Bar & Grille\, 11995 S Merrill Rd\, Brant\, MI\, 48614\, United States
CATEGORIES:Drink,Games
END:VEVENT
BEGIN:VEVENT
DTSTART;TZID=UTC:20210520T190000
DTEND;TZID=UTC:20210520T190000
DTSTAMP:20260425T160526
CREATED:20210331T185638Z
LAST-MODIFIED:20210331T185638Z
UID:3606-1621537200-1621537200@theshedbarandgrille.com
SUMMARY:Trivia Night
DESCRIPTION:  \nTrivia Night every Thursday at 7:00pm. Come test your knowledge! Free to participate. Prizes for first\, second and third place.\n\nThirsty Thursday Specials:\n• $1 Domestic Beers\n• $2 Premium Beers\n• $1 off 22 oz Frosted Mug Drafts\n• 50¢ off Wells
URL:https://theshedbarandgrille.com/event/trivia-night-8/
LOCATION:The Shed Bar & Grille\, 11995 S Merrill Rd\, Brant\, MI\, 48614\, United States
CATEGORIES:Drink,Games
END:VEVENT
END:VCALENDAR