BEGIN:VCALENDAR
VERSION:2.0
PRODID:-//The Shed Bar &amp; Grille - ECPv6.15.20//NONSGML v1.0//EN
CALSCALE:GREGORIAN
METHOD:PUBLISH
X-WR-CALNAME:The Shed Bar &amp; Grille
X-ORIGINAL-URL:https://theshedbarandgrille.com
X-WR-CALDESC:Events for The Shed Bar &amp; Grille
REFRESH-INTERVAL;VALUE=DURATION:PT1H
X-Robots-Tag:noindex
X-PUBLISHED-TTL:PT1H
BEGIN:VTIMEZONE
TZID:UTC
BEGIN:STANDARD
TZOFFSETFROM:+0000
TZOFFSETTO:+0000
TZNAME:UTC
DTSTART:20230101T000000
END:STANDARD
END:VTIMEZONE
BEGIN:VEVENT
DTSTART;TZID=UTC:20240810T203000
DTEND;TZID=UTC:20240810T203000
DTSTAMP:20260426T024212
CREATED:20240726T150104Z
LAST-MODIFIED:20240726T150104Z
UID:8070-1723321800-1723321800@theshedbarandgrille.com
SUMMARY:Keegan Jacko LIVE at The Shed
DESCRIPTION:  \nNashville music artist\, Keegan Jacko\, is playing The Shed on Saturday\, August 10th from 8:30pm – 12:30am!
URL:https://theshedbarandgrille.com/event/keegan-jacko-live-at-the-shed-7/
LOCATION:The Shed Bar & Grille\, 11995 S Merrill Rd\, Brant\, MI\, 48614\, United States
CATEGORIES:Band,Music
END:VEVENT
BEGIN:VEVENT
DTSTART;TZID=UTC:20240804T140000
DTEND;TZID=UTC:20240804T170000
DTSTAMP:20260426T024212
CREATED:20240726T145752Z
LAST-MODIFIED:20240726T145752Z
UID:8068-1722780000-1722790800@theshedbarandgrille.com
SUMMARY:Sunday Funday: Mixed Nutz Variety Band
DESCRIPTION:  \nSunday Funday with Mixed Nutz \n1st Sunday of every month! \nPlaying 2:00PM – 5:00PM
URL:https://theshedbarandgrille.com/event/sunday-funday-mixed-nutz-variety-band-8/
LOCATION:The Shed Bar & Grille\, 11995 S Merrill Rd\, Brant\, MI\, 48614\, United States
CATEGORIES:Band,Music
END:VEVENT
BEGIN:VEVENT
DTSTART;TZID=UTC:20240803T203000
DTEND;TZID=UTC:20240803T203000
DTSTAMP:20260426T024212
CREATED:20240726T145646Z
LAST-MODIFIED:20240726T145646Z
UID:8065-1722717000-1722717000@theshedbarandgrille.com
SUMMARY:Live Music With Timeless
DESCRIPTION:  \nTimeless plays The Shed on Saturday\, August 3rd from 8:30pm – 12:30am!
URL:https://theshedbarandgrille.com/event/live-music-with-timeless/
LOCATION:The Shed Bar & Grille\, 11995 S Merrill Rd\, Brant\, MI\, 48614\, United States
CATEGORIES:Band,Music
END:VEVENT
BEGIN:VEVENT
DTSTART;TZID=UTC:20240721T140000
DTEND;TZID=UTC:20240721T170000
DTSTAMP:20260426T024212
CREATED:20240619T151918Z
LAST-MODIFIED:20240619T151918Z
UID:7946-1721570400-1721581200@theshedbarandgrille.com
SUMMARY:Kountry Klass Variety Band
DESCRIPTION:  \nKountry Klass Variety Band is playing a mix of your favorite tunes on Sunday\, July 21st from 2:00pm – 5:00pm!
URL:https://theshedbarandgrille.com/event/kountry-klass-variety-band-10/
LOCATION:The Shed Bar & Grille\, 11995 S Merrill Rd\, Brant\, MI\, 48614\, United States
CATEGORIES:Band,Music
END:VEVENT
BEGIN:VEVENT
DTSTART;TZID=UTC:20240720T203000
DTEND;TZID=UTC:20240720T203000
DTSTAMP:20260426T024212
CREATED:20240619T151510Z
LAST-MODIFIED:20240619T151510Z
UID:7943-1721507400-1721507400@theshedbarandgrille.com
SUMMARY:Rock Solid Evolution
DESCRIPTION:  \nRock Solid Evolution is playing your favorite classic rock hits at The Shed on Saturday\, July 20th at 8:30pm – 12:30am!
URL:https://theshedbarandgrille.com/event/rock-solid-evolution-5/
LOCATION:The Shed Bar & Grille\, 11995 S Merrill Rd\, Brant\, MI\, 48614\, United States
CATEGORIES:Band,Music
END:VEVENT
BEGIN:VEVENT
DTSTART;TZID=UTC:20240714T140000
DTEND;TZID=UTC:20240714T170000
DTSTAMP:20260426T024212
CREATED:20240701T012809Z
LAST-MODIFIED:20240701T012809Z
UID:7986-1720965600-1720976400@theshedbarandgrille.com
SUMMARY:Live Music with Blue Sky
DESCRIPTION:  \nBlue Sky will be playing Sunday Funday on July 14th from 2pm – 5pm!
URL:https://theshedbarandgrille.com/event/live-music-with-blue-sky/
LOCATION:The Shed Bar & Grille\, 11995 S Merrill Rd\, Brant\, MI\, 48614\, United States
CATEGORIES:Band,Music
END:VEVENT
BEGIN:VEVENT
DTSTART;TZID=UTC:20240713T203000
DTEND;TZID=UTC:20240713T203000
DTSTAMP:20260426T024212
CREATED:20240701T013749Z
LAST-MODIFIED:20240701T013749Z
UID:7989-1720902600-1720902600@theshedbarandgrille.com
SUMMARY:Cheap Tequila Plays The Shed
DESCRIPTION:  \nCheap Tequila plays The Shed at 8:30pm!
URL:https://theshedbarandgrille.com/event/cheap-tequila-plays-the-shed/
LOCATION:The Shed Bar & Grille\, 11995 S Merrill Rd\, Brant\, MI\, 48614\, United States
CATEGORIES:Band,Music
END:VEVENT
BEGIN:VEVENT
DTSTART;TZID=UTC:20240707T140000
DTEND;TZID=UTC:20240707T170000
DTSTAMP:20260426T024212
CREATED:20240619T150944Z
LAST-MODIFIED:20240619T150944Z
UID:7941-1720360800-1720371600@theshedbarandgrille.com
SUMMARY:Sunday Funday: Mixed Nutz Variety Band
DESCRIPTION:  \nSunday Funday with Mixed Nutz \n1st Sunday of every month! \nPlaying 2:00PM – 5:00PM
URL:https://theshedbarandgrille.com/event/sunday-funday-mixed-nutz-variety-band-7/
LOCATION:The Shed Bar & Grille\, 11995 S Merrill Rd\, Brant\, MI\, 48614\, United States
CATEGORIES:Band,Music
END:VEVENT
BEGIN:VEVENT
DTSTART;TZID=UTC:20240706T210000
DTEND;TZID=UTC:20240706T210000
DTSTAMP:20260426T024212
CREATED:20240619T150810Z
LAST-MODIFIED:20240619T150810Z
UID:7936-1720299600-1720299600@theshedbarandgrille.com
SUMMARY:Andrew Moulton Playing The Shed
DESCRIPTION:  \nAndrew Moulton will be playing The Shed on Saturday\, July 6th from 9pm – 12am!
URL:https://theshedbarandgrille.com/event/andrew-moulton-playing-the-shed-2/
LOCATION:The Shed Bar & Grille\, 11995 S Merrill Rd\, Brant\, MI\, 48614\, United States
CATEGORIES:Band,Music
END:VEVENT
BEGIN:VEVENT
DTSTART;TZID=UTC:20240630T140000
DTEND;TZID=UTC:20240630T170000
DTSTAMP:20260426T024212
CREATED:20240527T153330Z
LAST-MODIFIED:20240527T153330Z
UID:7880-1719756000-1719766800@theshedbarandgrille.com
SUMMARY:Scott Peterson Playing The Shed
DESCRIPTION:  \nScott Peterson will be playing Sunday Funday on June 30th from 2pm – 5pm!
URL:https://theshedbarandgrille.com/event/scott-peterson-playing-the-shed-2/
LOCATION:The Shed Bar & Grille\, 11995 S Merrill Rd\, Brant\, MI\, 48614\, United States
CATEGORIES:Band,Music
END:VEVENT
BEGIN:VEVENT
DTSTART;TZID=UTC:20240629T203000
DTEND;TZID=UTC:20240629T203000
DTSTAMP:20260426T024212
CREATED:20240527T152848Z
LAST-MODIFIED:20240527T152848Z
UID:7877-1719693000-1719693000@theshedbarandgrille.com
SUMMARY:Rock Solid Evolution
DESCRIPTION:  \nRock Solid Evolution is playing your favorite classic rock hits at The Shed on Saturday\, June 29th at 8:30pm – 12:30am!
URL:https://theshedbarandgrille.com/event/rock-solid-evolution-4/
LOCATION:The Shed Bar & Grille\, 11995 S Merrill Rd\, Brant\, MI\, 48614\, United States
CATEGORIES:Band,Music
END:VEVENT
BEGIN:VEVENT
DTSTART;TZID=UTC:20240623T140000
DTEND;TZID=UTC:20240623T170000
DTSTAMP:20260426T024212
CREATED:20240527T152342Z
LAST-MODIFIED:20240527T152342Z
UID:7874-1719151200-1719162000@theshedbarandgrille.com
SUMMARY:Kountry Klass Variety Band
DESCRIPTION:  \nKountry Klass Variety Band is playing a mix of your favorite tunes on Sunday\, June 23rd from 2:00pm – 5:00pm!
URL:https://theshedbarandgrille.com/event/kountry-klass-variety-band-9/
LOCATION:The Shed Bar & Grille\, 11995 S Merrill Rd\, Brant\, MI\, 48614\, United States
CATEGORIES:Band,Music
END:VEVENT
BEGIN:VEVENT
DTSTART;TZID=UTC:20240622T203000
DTEND;TZID=UTC:20240622T203000
DTSTAMP:20260426T024212
CREATED:20240527T151711Z
LAST-MODIFIED:20240619T153935Z
UID:7871-1719088200-1719088200@theshedbarandgrille.com
SUMMARY:The Loaner Project
DESCRIPTION:  \nThe Loaner Project is playing your favorite energetic tunes from the 90s and a few country tunes sprinkled in on Saturday\, June 22nd from 8:30pm – 12:30am!
URL:https://theshedbarandgrille.com/event/7871/
LOCATION:The Shed Bar & Grille\, 11995 S Merrill Rd\, Brant\, MI\, 48614\, United States
CATEGORIES:Band,Music
END:VEVENT
BEGIN:VEVENT
DTSTART;TZID=UTC:20240616T140000
DTEND;TZID=UTC:20240616T180000
DTSTAMP:20260426T024212
CREATED:20240527T150058Z
LAST-MODIFIED:20240527T150058Z
UID:7864-1718546400-1718560800@theshedbarandgrille.com
SUMMARY:Barry Forster of Tweed & Dixie
DESCRIPTION:  \nBarry Forster of Tweed & Dixie will be playing at The Shed Bar & Grille from 2pm – 6pm on Sunday\, June 16th.\n*Original Music
URL:https://theshedbarandgrille.com/event/barry-forster-of-tweed-dixie-5/
LOCATION:The Shed Bar & Grille\, 11995 S Merrill Rd\, Brant\, MI\, 48614\, United States
CATEGORIES:Band,Music
END:VEVENT
BEGIN:VEVENT
DTSTART;TZID=UTC:20240615T200000
DTEND;TZID=UTC:20240615T200000
DTSTAMP:20260426T024212
CREATED:20240529T024455Z
LAST-MODIFIED:20240529T024455Z
UID:7895-1718481600-1718481600@theshedbarandgrille.com
SUMMARY:Another Shot & Les-Egos Band
DESCRIPTION:  \nJoin Another Shot & Les-Egos Band for live music at The Shed on Saturday\, June 15th at 8pm!
URL:https://theshedbarandgrille.com/event/another-shot-les-egos-band/
LOCATION:The Shed Bar & Grille\, 11995 S Merrill Rd\, Brant\, MI\, 48614\, United States
CATEGORIES:Band,Music
END:VEVENT
BEGIN:VEVENT
DTSTART;TZID=UTC:20240609T140000
DTEND;TZID=UTC:20240609T170000
DTSTAMP:20260426T024212
CREATED:20240527T145421Z
LAST-MODIFIED:20240527T145421Z
UID:7861-1717941600-1717952400@theshedbarandgrille.com
SUMMARY:The Lawsons Playing The Shed
DESCRIPTION:  \nThe Lawsons are playing The Shed on Sunday\, April 21st from 2pm – 5pm!
URL:https://theshedbarandgrille.com/event/the-lawsons-playing-the-shed-5/
LOCATION:The Shed Bar & Grille\, 11995 S Merrill Rd\, Brant\, MI\, 48614\, United States
CATEGORIES:Band,Music
END:VEVENT
BEGIN:VEVENT
DTSTART;TZID=UTC:20240608T203000
DTEND;TZID=UTC:20240608T203000
DTSTAMP:20260426T024212
CREATED:20240527T144920Z
LAST-MODIFIED:20240527T144920Z
UID:7858-1717878600-1717878600@theshedbarandgrille.com
SUMMARY:Keegan Jacko LIVE at The Shed
DESCRIPTION:  \nNashville music artist\, Keegan Jacko\, is playing The Shed on Saturday\, June 8th from 8:30pm – 12:30am!
URL:https://theshedbarandgrille.com/event/keegan-jacko-live-at-the-shed-6/
LOCATION:The Shed Bar & Grille\, 11995 S Merrill Rd\, Brant\, MI\, 48614\, United States
CATEGORIES:Band,Music
END:VEVENT
BEGIN:VEVENT
DTSTART;TZID=UTC:20240602T140000
DTEND;TZID=UTC:20240602T170000
DTSTAMP:20260426T024212
CREATED:20240527T154554Z
LAST-MODIFIED:20240527T154554Z
UID:7891-1717336800-1717347600@theshedbarandgrille.com
SUMMARY:Sunday Funday: Mixed Nutz Variety Band
DESCRIPTION:  \nSunday Funday with Mixed Nutz \n1st Sunday of every month! \nPlaying 2:00PM – 5:00PM
URL:https://theshedbarandgrille.com/event/sunday-funday-mixed-nutz-variety-band-6/
LOCATION:The Shed Bar & Grille\, 11995 S Merrill Rd\, Brant\, MI\, 48614\, United States
CATEGORIES:Band,Music
END:VEVENT
BEGIN:VEVENT
DTSTART;TZID=UTC:20240601T200000
DTEND;TZID=UTC:20240601T200000
DTSTAMP:20260426T024212
CREATED:20240527T144612Z
LAST-MODIFIED:20240527T144612Z
UID:7856-1717272000-1717272000@theshedbarandgrille.com
SUMMARY:Almost Famous Duo
DESCRIPTION:  \nEnjoy an evening of live acoustic music by Jay & Amy from 8pm -12am!
URL:https://theshedbarandgrille.com/event/almost-famous-duo-7/
LOCATION:The Shed Bar & Grille\, 11995 S Merrill Rd\, Brant\, MI\, 48614\, United States
CATEGORIES:Band,Music
END:VEVENT
BEGIN:VEVENT
DTSTART;TZID=UTC:20240525T203000
DTEND;TZID=UTC:20240525T203000
DTSTAMP:20260426T024212
CREATED:20240519T235121Z
LAST-MODIFIED:20240519T235121Z
UID:7842-1716669000-1716669000@theshedbarandgrille.com
SUMMARY:CJ Ford Plays The Shed
DESCRIPTION:  \nDon’t miss CJ Ford play The Shed on Saturday\, May 25th from 8:30pm – 12:30am!
URL:https://theshedbarandgrille.com/event/cj-ford-plays-the-shed-2/
LOCATION:The Shed Bar & Grille\, 11995 S Merrill Rd\, Brant\, MI\, 48614\, United States
CATEGORIES:Band,Music
END:VEVENT
BEGIN:VEVENT
DTSTART;TZID=UTC:20240519T140000
DTEND;TZID=UTC:20240519T170000
DTSTAMP:20260426T024212
CREATED:20240416T195436Z
LAST-MODIFIED:20240416T195436Z
UID:7777-1716127200-1716138000@theshedbarandgrille.com
SUMMARY:Carl Pawluk Playing The Shed
DESCRIPTION:  \nEnjoy live music with Carl Pawluk at The Shed on Sunday\, May 19th from 2pm – 5pm!
URL:https://theshedbarandgrille.com/event/carl-pawluk-playing-the-shed/
LOCATION:The Shed Bar & Grille\, 11995 S Merrill Rd\, Brant\, MI\, 48614\, United States
CATEGORIES:Band,Music
END:VEVENT
BEGIN:VEVENT
DTSTART;TZID=UTC:20240518T203000
DTEND;TZID=UTC:20240518T203000
DTSTAMP:20260426T024212
CREATED:20240402T021502Z
LAST-MODIFIED:20240402T021502Z
UID:7727-1716064200-1716064200@theshedbarandgrille.com
SUMMARY:Keegan Jacko LIVE at The Shed
DESCRIPTION:  \nNashville music artist\, Keegan Jacko\, is playing The Shed on Saturday\, May 18th from 8:30pm – 12:30am!
URL:https://theshedbarandgrille.com/event/keegan-jacko-live-at-the-shed-5/
LOCATION:The Shed Bar & Grille\, 11995 S Merrill Rd\, Brant\, MI\, 48614\, United States
CATEGORIES:Band,Music
END:VEVENT
BEGIN:VEVENT
DTSTART;TZID=UTC:20240512T140000
DTEND;TZID=UTC:20240512T180000
DTSTAMP:20260426T024212
CREATED:20240329T142223Z
LAST-MODIFIED:20240329T142223Z
UID:7708-1715522400-1715536800@theshedbarandgrille.com
SUMMARY:Barry Forster of Tweed & Dixie
DESCRIPTION:  \nBarry Forster of Tweed & Dixie will be playing at The Shed Bar & Grille from 2pm – 6pm on Sunday\, May 12th.\n*Original Music
URL:https://theshedbarandgrille.com/event/barry-forster-of-tweed-dixie-4/
LOCATION:The Shed Bar & Grille\, 11995 S Merrill Rd\, Brant\, MI\, 48614\, United States
CATEGORIES:Band,Music
END:VEVENT
BEGIN:VEVENT
DTSTART;TZID=UTC:20240511T203000
DTEND;TZID=UTC:20240511T203000
DTSTAMP:20260426T024212
CREATED:20240507T145629Z
LAST-MODIFIED:20240507T145629Z
UID:7817-1715459400-1715459400@theshedbarandgrille.com
SUMMARY:CJ Ford Plays The Shed
DESCRIPTION:  \nDon’t miss CJ Ford play The Shed on Saturday\, May 11th from 8:30pm – 12:30am!
URL:https://theshedbarandgrille.com/event/cj-ford-plays-the-shed/
LOCATION:The Shed Bar & Grille\, 11995 S Merrill Rd\, Brant\, MI\, 48614\, United States
CATEGORIES:Band,Music
END:VEVENT
BEGIN:VEVENT
DTSTART;TZID=UTC:20240505T140000
DTEND;TZID=UTC:20240505T170000
DTSTAMP:20260426T024212
CREATED:20240329T141218Z
LAST-MODIFIED:20240329T141218Z
UID:7705-1714917600-1714928400@theshedbarandgrille.com
SUMMARY:Sunday Funday: Mixed Nutz Variety Band
DESCRIPTION:  \nSunday Funday with Mixed Nutz \n1st Sunday of every month! \nPlaying 2:00PM – 5:00PM
URL:https://theshedbarandgrille.com/event/sunday-funday-mixed-nutz-variety-band-5/
LOCATION:The Shed Bar & Grille\, 11995 S Merrill Rd\, Brant\, MI\, 48614\, United States
CATEGORIES:Band,Music
END:VEVENT
BEGIN:VEVENT
DTSTART;TZID=UTC:20240504T203000
DTEND;TZID=UTC:20240504T203000
DTSTAMP:20260426T024212
CREATED:20240329T140748Z
LAST-MODIFIED:20240416T194447Z
UID:7702-1714854600-1714854600@theshedbarandgrille.com
SUMMARY:Rock Solid Evolution
DESCRIPTION:  \nRock Solid Evolution is playing your favorite classic rock hits at The Shed on Saturday\, May 4th at 8:30pm – 12:30am!
URL:https://theshedbarandgrille.com/event/rock-solid-evolution-3/
LOCATION:The Shed Bar & Grille\, 11995 S Merrill Rd\, Brant\, MI\, 48614\, United States
CATEGORIES:Band,Music
END:VEVENT
BEGIN:VEVENT
DTSTART;TZID=UTC:20240428T140000
DTEND;TZID=UTC:20240428T170000
DTSTAMP:20260426T024212
CREATED:20240329T135107Z
LAST-MODIFIED:20240329T135107Z
UID:7699-1714312800-1714323600@theshedbarandgrille.com
SUMMARY:Kountry Klass Variety Band
DESCRIPTION:  \nKountry Klass Variety Band is playing a mix of your favorite tunes on Sunday\, March 24th from 2:00pm – 5:00pm!
URL:https://theshedbarandgrille.com/event/kountry-klass-variety-band-8/
LOCATION:The Shed Bar & Grille\, 11995 S Merrill Rd\, Brant\, MI\, 48614\, United States
CATEGORIES:Band,Music
END:VEVENT
BEGIN:VEVENT
DTSTART;TZID=UTC:20240427T203000
DTEND;TZID=UTC:20240427T203000
DTSTAMP:20260426T024212
CREATED:20240329T134652Z
LAST-MODIFIED:20240329T134652Z
UID:7696-1714249800-1714249800@theshedbarandgrille.com
SUMMARY:Keegan Jacko LIVE at The Shed
DESCRIPTION:  \nNashville music artist\, Keegan Jacko\, is playing The Shed on Saturday\, April 27th from 8:30pm – 12:30am!
URL:https://theshedbarandgrille.com/event/keegan-jacko-live-at-the-shed-4/
LOCATION:The Shed Bar & Grille\, 11995 S Merrill Rd\, Brant\, MI\, 48614\, United States
CATEGORIES:Band,Music
END:VEVENT
BEGIN:VEVENT
DTSTART;TZID=UTC:20240421T140000
DTEND;TZID=UTC:20240421T170000
DTSTAMP:20260426T024212
CREATED:20240329T134214Z
LAST-MODIFIED:20240329T134214Z
UID:7693-1713708000-1713718800@theshedbarandgrille.com
SUMMARY:The Lawsons Playing The Shed
DESCRIPTION:  \nThe Lawsons are playing The Shed on Sunday\, April 21st from 2pm – 5pm!
URL:https://theshedbarandgrille.com/event/the-lawsons-playing-the-shed-4/
LOCATION:The Shed Bar & Grille\, 11995 S Merrill Rd\, Brant\, MI\, 48614\, United States
CATEGORIES:Band,Music
END:VEVENT
BEGIN:VEVENT
DTSTART;TZID=UTC:20240420T203000
DTEND;TZID=UTC:20240420T203000
DTSTAMP:20260426T024212
CREATED:20240402T021119Z
LAST-MODIFIED:20240402T021119Z
UID:7723-1713645000-1713645000@theshedbarandgrille.com
SUMMARY:Bachelors Since Breakfast
DESCRIPTION:  \nBachelors Since Breakfast rocks The Shed on Saturday\, April 20th from 8:30pm – 12:30am!
URL:https://theshedbarandgrille.com/event/bachelors-since-breakfast/
LOCATION:The Shed Bar & Grille\, 11995 S Merrill Rd\, Brant\, MI\, 48614\, United States
CATEGORIES:Band,Music
END:VEVENT
END:VCALENDAR