BEGIN:VCALENDAR
VERSION:2.0
PRODID:-//The Shed Bar &amp; Grille - ECPv6.15.20//NONSGML v1.0//EN
CALSCALE:GREGORIAN
METHOD:PUBLISH
X-ORIGINAL-URL:https://theshedbarandgrille.com
X-WR-CALDESC:Events for The Shed Bar &amp; Grille
REFRESH-INTERVAL;VALUE=DURATION:PT1H
X-Robots-Tag:noindex
X-PUBLISHED-TTL:PT1H
BEGIN:VTIMEZONE
TZID:UTC
BEGIN:STANDARD
TZOFFSETFROM:+0000
TZOFFSETTO:+0000
TZNAME:UTC
DTSTART:20230101T000000
END:STANDARD
END:VTIMEZONE
BEGIN:VEVENT
DTSTART;TZID=UTC:20250111T203000
DTEND;TZID=UTC:20250111T203000
DTSTAMP:20260425T224310
CREATED:20241230T233550Z
LAST-MODIFIED:20241230T233550Z
UID:8659-1736627400-1736627400@theshedbarandgrille.com
SUMMARY:Alibi Playing The Shed
DESCRIPTION:  \nAlibi is playing The Shed on Saturday\, January 11th from 8:30pm – 12:30am!
URL:https://theshedbarandgrille.com/event/alibi-playing-the-shed/
LOCATION:The Shed Bar & Grille\, 11995 S Merrill Rd\, Brant\, MI\, 48614\, United States
CATEGORIES:Band,Music
END:VEVENT
BEGIN:VEVENT
DTSTART;TZID=UTC:20250105T140000
DTEND;TZID=UTC:20250105T170000
DTSTAMP:20260425T224310
CREATED:20241230T233139Z
LAST-MODIFIED:20241230T233139Z
UID:8655-1736085600-1736096400@theshedbarandgrille.com
SUMMARY:Sunday Funday: Mixed Nutz Variety Band
DESCRIPTION:  \nSunday Funday with Mixed Nutz \n1st Sunday of every month! \nPlaying 2:00PM – 5:00PM
URL:https://theshedbarandgrille.com/event/sunday-funday-mixed-nutz-variety-band-11/
LOCATION:The Shed Bar & Grille\, 11995 S Merrill Rd\, Brant\, MI\, 48614\, United States
CATEGORIES:Band,Holiday,Hunting,Huntington,Music,Party
END:VEVENT
BEGIN:VEVENT
DTSTART;TZID=UTC:20250104T203000
DTEND;TZID=UTC:20250104T203000
DTSTAMP:20260425T224310
CREATED:20241230T233033Z
LAST-MODIFIED:20241230T233033Z
UID:8651-1736022600-1736022600@theshedbarandgrille.com
SUMMARY:CJ Ford Plays The Shed
DESCRIPTION:  \nDon’t miss CJ Ford play The Shed on Saturday\, January 4th from 8:30pm – 12:30am!
URL:https://theshedbarandgrille.com/event/cj-ford-plays-the-shed-4/
LOCATION:The Shed Bar & Grille\, 11995 S Merrill Rd\, Brant\, MI\, 48614\, United States
CATEGORIES:Band,Holiday,Hunting,Huntington,Music,Party
END:VEVENT
BEGIN:VEVENT
DTSTART;TZID=UTC:20241130T203000
DTEND;TZID=UTC:20241130T203000
DTSTAMP:20260425T224310
CREATED:20241029T003642Z
LAST-MODIFIED:20241029T003642Z
UID:8459-1732998600-1732998600@theshedbarandgrille.com
SUMMARY:CJ Ford Plays The Shed
DESCRIPTION:  \nDon’t miss CJ Ford play The Shed on Saturday\, May 25th from 8:30pm – 12:30am!
URL:https://theshedbarandgrille.com/event/cj-ford-plays-the-shed-3/
LOCATION:The Shed Bar & Grille\, 11995 S Merrill Rd\, Brant\, MI\, 48614\, United States
CATEGORIES:Band,Music
END:VEVENT
BEGIN:VEVENT
DTSTART;TZID=UTC:20241127T203000
DTEND;TZID=UTC:20241127T203000
DTSTAMP:20260425T224310
CREATED:20241029T003341Z
LAST-MODIFIED:20241029T003341Z
UID:8455-1732739400-1732739400@theshedbarandgrille.com
SUMMARY:Thanksgiving Eve 2024
DESCRIPTION:  \nJoin us for the biggest bar night of the year on Thanksgiving Eve\, November 27th! The Loaner Project will be playing live music from 8:30 p.m. – 12:30 a.m. Come eat\, drink\, sing and dance! \nMust be 21+ after 9:00 p.m.
URL:https://theshedbarandgrille.com/event/thanksgiving-eve-2024/
LOCATION:The Shed Bar & Grille\, 11995 S Merrill Rd\, Brant\, MI\, 48614\, United States
CATEGORIES:Band,Holiday,Music
END:VEVENT
BEGIN:VEVENT
DTSTART;TZID=UTC:20241124T140000
DTEND;TZID=UTC:20241124T170000
DTSTAMP:20260425T224310
CREATED:20241029T002704Z
LAST-MODIFIED:20241029T002704Z
UID:8452-1732456800-1732467600@theshedbarandgrille.com
SUMMARY:Kountry Klass Variety Band
DESCRIPTION:  \n\nKountry Klass Variety Band is playing a mix of your favorite tunes on Sunday\, November 24th from 2:00pm – 5:00pm!
URL:https://theshedbarandgrille.com/event/kountry-klass-variety-band-13/
LOCATION:The Shed Bar & Grille\, 11995 S Merrill Rd\, Brant\, MI\, 48614\, United States
CATEGORIES:Band,Music
END:VEVENT
BEGIN:VEVENT
DTSTART;TZID=UTC:20241117T140000
DTEND;TZID=UTC:20241117T170000
DTSTAMP:20260425T224310
CREATED:20241029T002506Z
LAST-MODIFIED:20241029T002506Z
UID:8449-1731852000-1731862800@theshedbarandgrille.com
SUMMARY:Barry Clevenger of Rebel Line
DESCRIPTION:  \nBarry Clevenger of Rebel Line will be playing Sunday Funday on November 17th from 2pm – 5pm!
URL:https://theshedbarandgrille.com/event/barry-clevenger-of-rebel-line-3/
LOCATION:The Shed Bar & Grille\, 11995 S Merrill Rd\, Brant\, MI\, 48614\, United States
CATEGORIES:Band,Music
END:VEVENT
BEGIN:VEVENT
DTSTART;TZID=UTC:20241110T140000
DTEND;TZID=UTC:20241110T170000
DTSTAMP:20260425T224310
CREATED:20241029T001026Z
LAST-MODIFIED:20241029T001026Z
UID:8440-1731247200-1731258000@theshedbarandgrille.com
SUMMARY:Barry Forster of Tweed & Dixie (ACOUSTIC SHOW)
DESCRIPTION:  \nBarry Forster of Tweed & Dixie will be playing his standard acoustic show at The Shed Bar & Grille from 2pm – 5pm on Sunday\, November 10th!
URL:https://theshedbarandgrille.com/event/barry-forster-of-tweed-dixie-acoustic-show/
LOCATION:The Shed Bar & Grille\, 11995 S Merrill Rd\, Brant\, MI\, 48614\, United States
CATEGORIES:Band,Music
END:VEVENT
BEGIN:VEVENT
DTSTART;TZID=UTC:20241109T203000
DTEND;TZID=UTC:20241109T203000
DTSTAMP:20260425T224310
CREATED:20241029T000800Z
LAST-MODIFIED:20241029T000800Z
UID:8437-1731184200-1731184200@theshedbarandgrille.com
SUMMARY:Rebel Line Playing The Shed
DESCRIPTION:  \nRebel Line returns to The Shed on Saturday\, November 9th to play past and modern country music with a mix of rock from 8:30pm – 12:30am!
URL:https://theshedbarandgrille.com/event/rebel-line-playing-the-shed-3/
LOCATION:The Shed Bar & Grille\, 11995 S Merrill Rd\, Brant\, MI\, 48614\, United States
CATEGORIES:Band,Music
END:VEVENT
BEGIN:VEVENT
DTSTART;TZID=UTC:20241103T140000
DTEND;TZID=UTC:20241103T170000
DTSTAMP:20260425T224310
CREATED:20241029T000414Z
LAST-MODIFIED:20241029T000414Z
UID:8435-1730642400-1730653200@theshedbarandgrille.com
SUMMARY:Sunday Funday: Mixed Nutz Variety Band
DESCRIPTION:  \nSunday Funday with Mixed Nutz \n1st Sunday of every month! \nPlaying 2:00PM – 5:00PM
URL:https://theshedbarandgrille.com/event/sunday-funday-mixed-nutz-variety-band-10/
LOCATION:The Shed Bar & Grille\, 11995 S Merrill Rd\, Brant\, MI\, 48614\, United States
CATEGORIES:Band,Music
END:VEVENT
BEGIN:VEVENT
DTSTART;TZID=UTC:20241102T203000
DTEND;TZID=UTC:20241102T203000
DTSTAMP:20260425T224310
CREATED:20241029T000019Z
LAST-MODIFIED:20241029T000019Z
UID:8431-1730579400-1730579400@theshedbarandgrille.com
SUMMARY:Barry Forster of Tweed & Dixie (NEW SHOW)
DESCRIPTION:  \nBarry Forster of Tweed & Dixie will be playing a new show at The Shed Bar & Grille from 8:30pm – 12:30am on Saturday\, November 2nd!
URL:https://theshedbarandgrille.com/event/barry-forster-of-tweed-dixie-new-show/
LOCATION:The Shed Bar & Grille\, 11995 S Merrill Rd\, Brant\, MI\, 48614\, United States
CATEGORIES:Band,Music
END:VEVENT
BEGIN:VEVENT
DTSTART;TZID=UTC:20241027T140000
DTEND;TZID=UTC:20241027T170000
DTSTAMP:20260425T224310
CREATED:20240924T141432Z
LAST-MODIFIED:20240924T141432Z
UID:8346-1730037600-1730048400@theshedbarandgrille.com
SUMMARY:Kountry Klass Variety Band
DESCRIPTION:  \n\nKountry Klass Variety Band is playing a mix of your favorite tunes on Sunday\, October 27th from 2:00pm – 5:00pm!
URL:https://theshedbarandgrille.com/event/kountry-klass-variety-band-12/
LOCATION:The Shed Bar & Grille\, 11995 S Merrill Rd\, Brant\, MI\, 48614\, United States
CATEGORIES:Band,Music
END:VEVENT
BEGIN:VEVENT
DTSTART;TZID=UTC:20241026T203000
DTEND;TZID=UTC:20241026T203000
DTSTAMP:20260425T224310
CREATED:20240924T141130Z
LAST-MODIFIED:20240924T141130Z
UID:8343-1729974600-1729974600@theshedbarandgrille.com
SUMMARY:Halloween Party With Rebel Line
DESCRIPTION:  \nJoin us for a wicked good time! Wear your best costume out to The Shed Bar & Grille on Saturday\, October 26th to celebrate Halloween 🎃👻🦇 \n🎶 Rebel Line playing from 8:30 p.m. – 12:30 a.m. \n🍽 Food + drink specials will be available 🍻 \n*Original Music\n*Must be 21+ after 9:00 p.m to enter.
URL:https://theshedbarandgrille.com/event/halloween-party-with-rebel-line/
LOCATION:The Shed Bar & Grille\, 11995 S Merrill Rd\, Brant\, MI\, 48614\, United States
CATEGORIES:Band,Holiday,Music,Party
END:VEVENT
BEGIN:VEVENT
DTSTART;TZID=UTC:20241020T140000
DTEND;TZID=UTC:20241020T170000
DTSTAMP:20260425T224310
CREATED:20240924T140729Z
LAST-MODIFIED:20240924T140729Z
UID:8339-1729432800-1729443600@theshedbarandgrille.com
SUMMARY:Scott Peterson Playing The Shed
DESCRIPTION:  \nScott Peterson will be playing Sunday Funday on October 20th from 2pm – 5pm!
URL:https://theshedbarandgrille.com/event/scott-peterson-playing-the-shed-3/
LOCATION:The Shed Bar & Grille\, 11995 S Merrill Rd\, Brant\, MI\, 48614\, United States
CATEGORIES:Band,Music
END:VEVENT
BEGIN:VEVENT
DTSTART;TZID=UTC:20241019T203000
DTEND;TZID=UTC:20241019T203000
DTSTAMP:20260425T224310
CREATED:20240924T140510Z
LAST-MODIFIED:20240924T140510Z
UID:8336-1729369800-1729369800@theshedbarandgrille.com
SUMMARY:Keegan Jacko LIVE At The Shed
DESCRIPTION:  \nNashville music artist\, Keegan Jacko\, is playing The Shed on Saturday\, August 10th from 8:30pm – 12:30am!
URL:https://theshedbarandgrille.com/event/keegan-jacko-live-at-the-shed-8/
LOCATION:The Shed Bar & Grille\, 11995 S Merrill Rd\, Brant\, MI\, 48614\, United States
CATEGORIES:Band,Music
END:VEVENT
BEGIN:VEVENT
DTSTART;TZID=UTC:20241013T140000
DTEND;TZID=UTC:20241013T170000
DTSTAMP:20260425T224310
CREATED:20240924T140255Z
LAST-MODIFIED:20240924T140255Z
UID:8333-1728828000-1728838800@theshedbarandgrille.com
SUMMARY:Barry Forster of Tweed & Dixie
DESCRIPTION:  \nBarry Forster of Tweed & Dixie will be playing at The Shed Bar & Grille from 2pm – 5pm on Sunday\, October 13th!
URL:https://theshedbarandgrille.com/event/barry-forster-of-tweed-dixie-8/
LOCATION:The Shed Bar & Grille\, 11995 S Merrill Rd\, Brant\, MI\, 48614\, United States
CATEGORIES:Band,Music
END:VEVENT
BEGIN:VEVENT
DTSTART;TZID=UTC:20241012T203000
DTEND;TZID=UTC:20241012T203000
DTSTAMP:20260425T224310
CREATED:20240924T140014Z
LAST-MODIFIED:20240924T140014Z
UID:8330-1728765000-1728765000@theshedbarandgrille.com
SUMMARY:The Lawsons Playing The Shed
DESCRIPTION:  \nThe Lawsons are playing at The Shed on Saturday\, October 12th from 8:30pm – 12:30am!
URL:https://theshedbarandgrille.com/event/the-lawsons-playing-the-shed-6/
LOCATION:The Shed Bar & Grille\, 11995 S Merrill Rd\, Brant\, MI\, 48614\, United States
CATEGORIES:Band,Music
END:VEVENT
BEGIN:VEVENT
DTSTART;TZID=UTC:20241006T140000
DTEND;TZID=UTC:20241006T170000
DTSTAMP:20260425T224310
CREATED:20240924T135803Z
LAST-MODIFIED:20240924T135803Z
UID:8328-1728223200-1728234000@theshedbarandgrille.com
SUMMARY:Sunday Funday: Mixed Nutz Variety Band
DESCRIPTION:  \nSunday Funday with Mixed Nutz \n1st Sunday of every month! \nPlaying 2:00PM – 5:00PM
URL:https://theshedbarandgrille.com/event/sunday-funday-mixed-nutz-variety-band-9/
LOCATION:The Shed Bar & Grille\, 11995 S Merrill Rd\, Brant\, MI\, 48614\, United States
CATEGORIES:Band,Music
END:VEVENT
BEGIN:VEVENT
DTSTART;TZID=UTC:20240929T140000
DTEND;TZID=UTC:20240929T170000
DTSTAMP:20260425T224310
CREATED:20240904T143659Z
LAST-MODIFIED:20240904T143659Z
UID:8260-1727618400-1727629200@theshedbarandgrille.com
SUMMARY:Andrew Moulton Playing The Shed
DESCRIPTION:  \nAndrew Moulton will be playing The Shed on Sunday\, September 29th from 2pm – 5pm!
URL:https://theshedbarandgrille.com/event/andrew-moulton-playing-the-shed-4/
LOCATION:The Shed Bar & Grille\, 11995 S Merrill Rd\, Brant\, MI\, 48614\, United States
CATEGORIES:Band,Music
END:VEVENT
BEGIN:VEVENT
DTSTART;TZID=UTC:20240928T203000
DTEND;TZID=UTC:20240928T203000
DTSTAMP:20260425T224310
CREATED:20240904T143308Z
LAST-MODIFIED:20240904T143308Z
UID:8257-1727555400-1727555400@theshedbarandgrille.com
SUMMARY:Tweed & Dixie
DESCRIPTION:  \nCome enjoy live music with Tweed & Dixie at The Shed Saturday\, September 28th at 8:30pm – 12:30am!
URL:https://theshedbarandgrille.com/event/tweed-dixie-4/
LOCATION:The Shed Bar & Grille\, 11995 S Merrill Rd\, Brant\, MI\, 48614\, United States
CATEGORIES:Band,Music
END:VEVENT
BEGIN:VEVENT
DTSTART;TZID=UTC:20240921T203000
DTEND;TZID=UTC:20240921T203000
DTSTAMP:20260425T224310
CREATED:20240904T143110Z
LAST-MODIFIED:20240904T143110Z
UID:8254-1726950600-1726950600@theshedbarandgrille.com
SUMMARY:Live Music With Cash O'Riley
DESCRIPTION:  \nCash O’Riley is playing The Shed on Saturday\, September 21st at 8:30pm – 12:30am!
URL:https://theshedbarandgrille.com/event/live-music-with-cash-oriley/
LOCATION:The Shed Bar & Grille\, 11995 S Merrill Rd\, Brant\, MI\, 48614\, United States
CATEGORIES:Band,Music
END:VEVENT
BEGIN:VEVENT
DTSTART;TZID=UTC:20240915T140000
DTEND;TZID=UTC:20240915T170000
DTSTAMP:20260425T224310
CREATED:20240904T142828Z
LAST-MODIFIED:20240904T142828Z
UID:8251-1726408800-1726419600@theshedbarandgrille.com
SUMMARY:Barry Forster of Tweed & Dixie
DESCRIPTION:  \nBarry Forster of Tweed & Dixie will be playing at The Shed Bar & Grille from 2pm – 5pm on Sunday\, September 15th!
URL:https://theshedbarandgrille.com/event/barry-forster-of-tweed-dixie-7/
LOCATION:The Shed Bar & Grille\, 11995 S Merrill Rd\, Brant\, MI\, 48614\, United States
CATEGORIES:Band,Music
END:VEVENT
BEGIN:VEVENT
DTSTART;TZID=UTC:20240914T203000
DTEND;TZID=UTC:20240914T203000
DTSTAMP:20260425T224310
CREATED:20240904T142551Z
LAST-MODIFIED:20240904T142551Z
UID:8248-1726345800-1726345800@theshedbarandgrille.com
SUMMARY:Almost Famous Duo
DESCRIPTION:  \nEnjoy an evening of live acoustic music by Jay & Amy 8:30pm – 12:30am!
URL:https://theshedbarandgrille.com/event/almost-famous-duo-8/
LOCATION:The Shed Bar & Grille\, 11995 S Merrill Rd\, Brant\, MI\, 48614\, United States
CATEGORIES:Band,Music
END:VEVENT
BEGIN:VEVENT
DTSTART;TZID=UTC:20240908T140000
DTEND;TZID=UTC:20240908T170000
DTSTAMP:20260425T224310
CREATED:20240904T142349Z
LAST-MODIFIED:20240904T142349Z
UID:8245-1725804000-1725814800@theshedbarandgrille.com
SUMMARY:The Lawsons Return To The Shed
DESCRIPTION:  \nThe Lawsons are playing The Shed on Sunday\, September 8th from 2pm – 5pm!
URL:https://theshedbarandgrille.com/event/the-lawsons-return-to-the-shed/
LOCATION:The Shed Bar & Grille\, 11995 S Merrill Rd\, Brant\, MI\, 48614\, United States
CATEGORIES:Band,Music
END:VEVENT
BEGIN:VEVENT
DTSTART;TZID=UTC:20240907T203000
DTEND;TZID=UTC:20240907T203000
DTSTAMP:20260425T224310
CREATED:20240904T142144Z
LAST-MODIFIED:20240904T142144Z
UID:8242-1725741000-1725741000@theshedbarandgrille.com
SUMMARY:Rebel Line Playing The Shed
DESCRIPTION:  \nRebel Line returns to The Shed on Saturday\, September 7th to play past and modern country music with a mix of rock from 8:30pm – 12:30am!
URL:https://theshedbarandgrille.com/event/rebel-line-playing-the-shed-2/
LOCATION:The Shed Bar & Grille\, 11995 S Merrill Rd\, Brant\, MI\, 48614\, United States
CATEGORIES:Band,Music
END:VEVENT
BEGIN:VEVENT
DTSTART;TZID=UTC:20240831T210000
DTEND;TZID=UTC:20240831T210000
DTSTAMP:20260425T224310
CREATED:20240726T152413Z
LAST-MODIFIED:20240726T152413Z
UID:8085-1725138000-1725138000@theshedbarandgrille.com
SUMMARY:Andrew Moulton Playing The Shed
DESCRIPTION:  \nAndrew Moulton will be playing The Shed on Saturday\, August 31st from 9pm – 12am!
URL:https://theshedbarandgrille.com/event/andrew-moulton-playing-the-shed-3/
LOCATION:The Shed Bar & Grille\, 11995 S Merrill Rd\, Brant\, MI\, 48614\, United States
CATEGORIES:Band,Music
END:VEVENT
BEGIN:VEVENT
DTSTART;TZID=UTC:20240825T140000
DTEND;TZID=UTC:20240825T170000
DTSTAMP:20260425T224310
CREATED:20240726T152026Z
LAST-MODIFIED:20240726T152026Z
UID:8082-1724594400-1724605200@theshedbarandgrille.com
SUMMARY:Kountry Klass Variety Band
DESCRIPTION:  \n\nKountry Klass Variety Band is playing a mix of your favorite tunes on Sunday\, August 25th from 2:00pm – 5:00pm!
URL:https://theshedbarandgrille.com/event/kountry-klass-variety-band-11/
LOCATION:The Shed Bar & Grille\, 11995 S Merrill Rd\, Brant\, MI\, 48614\, United States
CATEGORIES:Band,Music
END:VEVENT
BEGIN:VEVENT
DTSTART;TZID=UTC:20240824T203000
DTEND;TZID=UTC:20240824T203000
DTSTAMP:20260425T224310
CREATED:20240726T151537Z
LAST-MODIFIED:20240726T151537Z
UID:8079-1724531400-1724531400@theshedbarandgrille.com
SUMMARY:Cheap Tequila Plays The Shed
DESCRIPTION:  \nCheap Tequila plays The Shed at 8:30pm!
URL:https://theshedbarandgrille.com/event/cheap-tequila-plays-the-shed-2/
LOCATION:The Shed Bar & Grille\, 11995 S Merrill Rd\, Brant\, MI\, 48614\, United States
CATEGORIES:Band,Music
END:VEVENT
BEGIN:VEVENT
DTSTART;TZID=UTC:20240818T140000
DTEND;TZID=UTC:20240818T170000
DTSTAMP:20260425T224310
CREATED:20240726T151208Z
LAST-MODIFIED:20240726T151208Z
UID:8076-1723989600-1724000400@theshedbarandgrille.com
SUMMARY:Just 4 Fun Polka Band
DESCRIPTION:  \nVirgil Baker & Tom Galecka’sJust 4 Fun Polka BandSunday\, August 18th at 2pm-5pmThe Shed Bar & Grille\n\n\nThe Just 4 Fun Polka Band loves to make music and entertain. While the music includes everything from swing to country to 50’s – 60’s Rock & Roll\, it has developed a solid reputation with the polka and waltz dance crowd.\n\n\n*Original Music
URL:https://theshedbarandgrille.com/event/just-4-fun-polka-band-11/
LOCATION:The Shed Bar & Grille\, 11995 S Merrill Rd\, Brant\, MI\, 48614\, United States
CATEGORIES:Band,Music
END:VEVENT
BEGIN:VEVENT
DTSTART;TZID=UTC:20240811T140000
DTEND;TZID=UTC:20240811T180000
DTSTAMP:20260425T224310
CREATED:20240726T150609Z
LAST-MODIFIED:20240726T150609Z
UID:8073-1723384800-1723399200@theshedbarandgrille.com
SUMMARY:Barry Forster of Tweed & Dixie
DESCRIPTION:  \nBarry Forster of Tweed & Dixie will be playing at The Shed Bar & Grille from 2pm – 6pm on Sunday\, June 16th.\n*Original Music
URL:https://theshedbarandgrille.com/event/barry-forster-of-tweed-dixie-6/
LOCATION:The Shed Bar & Grille\, 11995 S Merrill Rd\, Brant\, MI\, 48614\, United States
CATEGORIES:Band,Music
END:VEVENT
END:VCALENDAR