BEGIN:VCALENDAR
VERSION:2.0
PRODID:-//The Shed Bar &amp; Grille - ECPv6.15.20//NONSGML v1.0//EN
CALSCALE:GREGORIAN
METHOD:PUBLISH
X-WR-CALNAME:The Shed Bar &amp; Grille
X-ORIGINAL-URL:https://theshedbarandgrille.com
X-WR-CALDESC:Events for The Shed Bar &amp; Grille
REFRESH-INTERVAL;VALUE=DURATION:PT1H
X-Robots-Tag:noindex
X-PUBLISHED-TTL:PT1H
BEGIN:VTIMEZONE
TZID:UTC
BEGIN:STANDARD
TZOFFSETFROM:+0000
TZOFFSETTO:+0000
TZNAME:UTC
DTSTART:20250101T000000
END:STANDARD
END:VTIMEZONE
BEGIN:VEVENT
DTSTART;TZID=UTC:20260125T140000
DTEND;TZID=UTC:20260125T170000
DTSTAMP:20260425T102406
CREATED:20251222T213620Z
LAST-MODIFIED:20251222T213620Z
UID:10437-1769349600-1769360400@theshedbarandgrille.com
SUMMARY:CJ Ford Plays The Shed
DESCRIPTION:  \nDon’t miss CJ Ford play The Shed on Sunday\, January 25th from 2-5PM!
URL:https://theshedbarandgrille.com/event/cj-ford-plays-the-shed-5/
LOCATION:The Shed Bar & Grille\, 11995 S Merrill Rd\, Brant\, MI\, 48614\, United States
CATEGORIES:Band,Music
END:VEVENT
END:VCALENDAR