BEGIN:VCALENDAR
VERSION:2.0
PRODID:-//The Shed Bar &amp; Grille - ECPv6.15.20//NONSGML v1.0//EN
CALSCALE:GREGORIAN
METHOD:PUBLISH
X-ORIGINAL-URL:https://theshedbarandgrille.com
X-WR-CALDESC:Events for The Shed Bar &amp; Grille
REFRESH-INTERVAL;VALUE=DURATION:PT1H
X-Robots-Tag:noindex
X-PUBLISHED-TTL:PT1H
BEGIN:VTIMEZONE
TZID:UTC
BEGIN:STANDARD
TZOFFSETFROM:+0000
TZOFFSETTO:+0000
TZNAME:UTC
DTSTART:20240101T000000
END:STANDARD
END:VTIMEZONE
BEGIN:VEVENT
DTSTART;TZID=UTC:20250323T140000
DTEND;TZID=UTC:20250323T170000
DTSTAMP:20260425T232841
CREATED:20250224T234500Z
LAST-MODIFIED:20250224T234500Z
UID:8889-1742738400-1742749200@theshedbarandgrille.com
SUMMARY:Live Music With GlenBrook
DESCRIPTION:  \nDon’t miss live music with GlenBrook at The Shed on Sunday\, March 23rd from 2pm – 5pm!
URL:https://theshedbarandgrille.com/event/live-music-with-glenbrook/
LOCATION:The Shed Bar & Grille\, 11995 S Merrill Rd\, Brant\, MI\, 48614\, United States
CATEGORIES:Band,Music
END:VEVENT
END:VCALENDAR